BEGIN:VCALENDAR
VERSION:2.0
PRODID:-//Christ Church Fareham | A Christian Church in Fareham - ECPv6.15.13.1//NONSGML v1.0//EN
CALSCALE:GREGORIAN
METHOD:PUBLISH
X-WR-CALNAME:Christ Church Fareham | A Christian Church in Fareham
X-ORIGINAL-URL:https://christchurchfareham.co.uk
X-WR-CALDESC:Events for Christ Church Fareham | A Christian Church in Fareham
REFRESH-INTERVAL;VALUE=DURATION:PT1H
X-Robots-Tag:noindex
X-PUBLISHED-TTL:PT1H
BEGIN:VTIMEZONE
TZID:Europe/London
BEGIN:DAYLIGHT
TZOFFSETFROM:+0000
TZOFFSETTO:+0100
TZNAME:BST
DTSTART:20250330T010000
END:DAYLIGHT
BEGIN:STANDARD
TZOFFSETFROM:+0100
TZOFFSETTO:+0000
TZNAME:GMT
DTSTART:20251026T010000
END:STANDARD
BEGIN:DAYLIGHT
TZOFFSETFROM:+0000
TZOFFSETTO:+0100
TZNAME:BST
DTSTART:20260329T010000
END:DAYLIGHT
BEGIN:STANDARD
TZOFFSETFROM:+0100
TZOFFSETTO:+0000
TZNAME:GMT
DTSTART:20261025T010000
END:STANDARD
BEGIN:DAYLIGHT
TZOFFSETFROM:+0000
TZOFFSETTO:+0100
TZNAME:BST
DTSTART:20270328T010000
END:DAYLIGHT
BEGIN:STANDARD
TZOFFSETFROM:+0100
TZOFFSETTO:+0000
TZNAME:GMT
DTSTART:20271031T010000
END:STANDARD
END:VTIMEZONE
BEGIN:VEVENT
DTSTART;TZID=Europe/London:20260623T193000
DTEND;TZID=Europe/London:20260623T210000
DTSTAMP:20260421T165406
CREATED:20251127T094529Z
LAST-MODIFIED:20251127T094529Z
UID:11041-1782243000-1782248400@christchurchfareham.co.uk
SUMMARY:Tuesday Life Group
DESCRIPTION:We have multiple life groups that meet midweek on Tuesday and Wednesday nights.  These groups meet in people’s homes and are all about fun\, friendship\, bible study and prayer.  Sometimes\, there’s food to share as well! \nIf you’d like to join a Life Group\, please speak to one of the elders on a Sunday or email contact@christchurchfareham.co.uk
URL:https://christchurchfareham.co.uk/events/tuesday-life-group-107/
CATEGORIES:Tuesday Life Group
END:VEVENT
BEGIN:VEVENT
DTSTART;TZID=Europe/London:20260624T193000
DTEND;TZID=Europe/London:20260624T210000
DTSTAMP:20260421T165406
CREATED:20251127T094630Z
LAST-MODIFIED:20251127T094630Z
UID:11043-1782329400-1782334800@christchurchfareham.co.uk
SUMMARY:Wednesday Life Group
DESCRIPTION:We have multiple life groups that meet midweek on Tuesday and Wednesday nights.  These groups meet in people’s homes and are all about fun\, friendship\, bible study and prayer.  Sometimes\, there’s food to share as well! \nIf you’d like to join a Life Group\, please speak to one of the elders on a Sunday or email contact@christchurchfareham.co.uk
URL:https://christchurchfareham.co.uk/events/wednesday-life-group-76/
LOCATION:Cams Hill School\, Shearwater Avenue\, Fareham\, PO16 8AH\, Shearwater Avenue\, Fareham\, PO16 8AH\, United Kingdom
CATEGORIES:Wednesday Life Group
END:VEVENT
BEGIN:VEVENT
DTSTART;TZID=Europe/London:20260628T103000
DTEND;TZID=Europe/London:20260628T120000
DTSTAMP:20260421T165406
CREATED:20251127T094900Z
LAST-MODIFIED:20251127T094900Z
UID:11045-1782642600-1782648000@christchurchfareham.co.uk
SUMMARY:Sunday Meeting – 28th June 2026
DESCRIPTION:We gather every Sunday at Cams Hill School to worship God together. \nEveryone is welcome to visit us\, whether you’ve been a Christian a long time or never been to Church before. You’ll receive a warm welcome from us all\, but especially the people on the door who can show you where to go and everything you need to know. \nThe meeting consists of singing together – a mixture of modern songs and well-loved hymns\, prayer and a talk from the Bible. We don’t shy away from teaching the Bible as God’s Word\, but we aim to preach in a way that is engaging and relevant to your daily life. \nDuring the service\, there is Children’s Work\, led by DBS approved workers\, for children aged 11 and under. We also have Youth Work every other Sunday led by DBS workers for those secondary school age. There is also an unmanned creche area for those aged 4 and under. Toys and a speaker to listen to the meeting are provided. \nAfter the service\, we gather for free tea and coffee. We’d love to get to know you better during this time.
URL:https://christchurchfareham.co.uk/events/sunday-meeting-28th-june-2026/
LOCATION:Cams Hill School\, Shearwater Avenue\, Fareham\, PO16 8AH\, Shearwater Avenue\, Fareham\, PO16 8AH\, United Kingdom
CATEGORIES:Sunday Meeting
END:VEVENT
BEGIN:VEVENT
DTSTART;TZID=Europe/London:20260630T193000
DTEND;TZID=Europe/London:20260630T210000
DTSTAMP:20260421T165406
CREATED:20251127T094953Z
LAST-MODIFIED:20251127T094953Z
UID:11047-1782847800-1782853200@christchurchfareham.co.uk
SUMMARY:Tuesday Life Group
DESCRIPTION:We have multiple life groups that meet midweek on Tuesday and Wednesday nights.  These groups meet in people’s homes and are all about fun\, friendship\, bible study and prayer.  Sometimes\, there’s food to share as well! \nIf you’d like to join a Life Group\, please speak to one of the elders on a Sunday or email contact@christchurchfareham.co.uk
URL:https://christchurchfareham.co.uk/events/tuesday-life-group-108/
CATEGORIES:Tuesday Life Group
END:VEVENT
BEGIN:VEVENT
DTSTART;TZID=Europe/London:20260701T120000
DTEND;TZID=Europe/London:20260701T133000
DTSTAMP:20260421T165406
CREATED:20260127T151517Z
LAST-MODIFIED:20260127T151517Z
UID:11173-1782907200-1782912600@christchurchfareham.co.uk
SUMMARY:Over 60’s Social – 1st July 2026
DESCRIPTION:Most months of the year there is an opportunity for anyone Over 60 to socialise together. \nThis often involves sharing a meal together or going for a walk followed by a drink & cake. \nFor more details please email contact@christchurchfareham.co.uk
URL:https://christchurchfareham.co.uk/events/over-60s-social-1st-july-2026/
END:VEVENT
BEGIN:VEVENT
DTSTART;TZID=Europe/London:20260701T193000
DTEND;TZID=Europe/London:20260701T210000
DTSTAMP:20260421T165406
CREATED:20260127T152453Z
LAST-MODIFIED:20260127T152453Z
UID:11179-1782934200-1782939600@christchurchfareham.co.uk
SUMMARY:Wednesday Life Group
DESCRIPTION:We have multiple life groups that meet midweek on Tuesday and Wednesday nights.  These groups meet in people’s homes and are all about fun\, friendship\, bible study and prayer.  Sometimes\, there’s food to share as well! \nIf you’d like to join a Life Group\, please speak to one of the elders on a Sunday or email contact@christchurchfareham.co.uk
URL:https://christchurchfareham.co.uk/events/wednesday-life-group-77/
END:VEVENT
BEGIN:VEVENT
DTSTART;TZID=Europe/London:20260703T193000
DTEND;TZID=Europe/London:20260703T210000
DTSTAMP:20260421T165406
CREATED:20260127T150238Z
LAST-MODIFIED:20260127T150238Z
UID:11167-1783107000-1783112400@christchurchfareham.co.uk
SUMMARY:Youth Social – 3rd July 2026
DESCRIPTION:Once a month and normally the first Friday of the month our vibrant Youth Group gathers for an evening of fun together. \nThese times include games nights\, bake offs\, meals together\, and much more. They are centred around building relationships and having collective fun. \nAll secondary school age children are welcome. For more details you can email contact@christchurchfareham.co.uk and the Youth Team will respond.
URL:https://christchurchfareham.co.uk/events/youth-social-3rd-july-2026/
CATEGORIES:Youth Social
END:VEVENT
BEGIN:VEVENT
DTSTART;TZID=Europe/London:20260705T103000
DTEND;TZID=Europe/London:20260705T140000
DTSTAMP:20260421T165406
CREATED:20260128T135838Z
LAST-MODIFIED:20260128T135838Z
UID:11181-1783247400-1783260000@christchurchfareham.co.uk
SUMMARY:International Sunday – 5th July 2026
DESCRIPTION:We gather every Sunday at Cams Hill School to worship God together. \nEveryone is welcome to visit us\, whether you’ve been a Christian a long time or never been to Church before. You’ll receive a warm welcome from us all\, but especially the people on the door who can show you where to go and everything you need to know. \nToday’s special meeting will include a time of singing\, bible reading in different languages\, a time of prayers for the nations and a short talk. This will be followed by a free lunch that includes food from many nations represented within our Church family.  \nDuring the service\, there is Children’s Work\, led by DBS approved workers\, for children aged 11 and under. We also have Youth Work every other Sunday led by DBS workers for those secondary school age. There is also an unmanned creche area for those aged 4 and under. Toys and a speaker to listen to the meeting are provided. \nAfter the service\, we all gather for free tea and coffee. We’d love to get to know you better during this time.
URL:https://christchurchfareham.co.uk/events/international-sunday-5th-july-2026/
LOCATION:Cams Hill School\, Shearwater Avenue\, Fareham\, PO16 8AH\, Shearwater Avenue\, Fareham\, PO16 8AH\, United Kingdom
CATEGORIES:Church Lunch,Sunday Meeting
END:VEVENT
BEGIN:VEVENT
DTSTART;TZID=Europe/London:20260705T183000
DTEND;TZID=Europe/London:20260705T203000
DTSTAMP:20260421T165406
CREATED:20260128T140019Z
LAST-MODIFIED:20260128T140019Z
UID:11183-1783276200-1783283400@christchurchfareham.co.uk
SUMMARY:Women’s Bible Study
DESCRIPTION:Once a month the women of Christ Church Fareham meet in a home to study God’s Word in greater depth. The group are currently studying the Gospel of Luke using the book “knowing Jesus”. \nThese evenings are a safe\, comfortable space where the wonderful truths of the bible can be understood and applied to real life. It is also a space that enables mutual encouragement\, fellowship and prayer for one another. \nIf you want to join the next session please email contact@christchurchfareham.co.uk for more details.
URL:https://christchurchfareham.co.uk/events/womens-bible-study-31/
CATEGORIES:Women's Bible Study
END:VEVENT
BEGIN:VEVENT
DTSTART;TZID=Europe/London:20260707T193000
DTEND;TZID=Europe/London:20260707T210000
DTSTAMP:20260421T165406
CREATED:20260128T140618Z
LAST-MODIFIED:20260128T140618Z
UID:11193-1783452600-1783458000@christchurchfareham.co.uk
SUMMARY:Prayer Meeting – 7th July 2026
DESCRIPTION:We normally gather on the first Tuesday evening of the month to dedicate ourselves to prayer. \nThis time consists of sung worship\, free/guided prayer and utilising our spiritual gifts. It is the engine room of everything we do as a church. \nYou are most welcome to join us and enjoy a time of dwelling in God’s presence.
URL:https://christchurchfareham.co.uk/events/prayer-meeting-7th-july-2026/
LOCATION:Cams Hill School\, Shearwater Avenue\, Fareham\, PO16 8AH\, Shearwater Avenue\, Fareham\, PO16 8AH\, United Kingdom
CATEGORIES:Prayer Meeting
END:VEVENT
BEGIN:VEVENT
DTSTART;TZID=Europe/London:20260710T170000
DTEND;TZID=Europe/London:20260712T130000
DTSTAMP:20260421T165406
CREATED:20260224T161026Z
LAST-MODIFIED:20260224T161205Z
UID:11467-1783702800-1783861200@christchurchfareham.co.uk
SUMMARY:Church Weekend Away
DESCRIPTION:We are excited to be going away together as a Church for the weekend! \nThis extended time away together will consist of times eating\, relaxing\, and worshipping together. We will also have time listening to talks from the bible with some exciting guest speakers joining us. \nThis weekend is for everyone who is part of the CCF family with activities for all ages. You can camp on site for the event and/or commute in each day as the venue is local. \nPlease note we will not be meeting as per normal at Cams Hill School on this Sunday as a result of being away together.
URL:https://christchurchfareham.co.uk/events/church-weekend-away/
END:VEVENT
BEGIN:VEVENT
DTSTART;TZID=Europe/London:20260714T110000
DTEND;TZID=Europe/London:20260714T123000
DTSTAMP:20260421T165406
CREATED:20260128T141235Z
LAST-MODIFIED:20260128T141235Z
UID:11203-1784026800-1784032200@christchurchfareham.co.uk
SUMMARY:Daytime Prayer Meeting – 14th July 2026
DESCRIPTION:We normally gather one Tuesday morning each month to dedicate ourselves to prayer. \nThis time consists of sung worship\, free/guided prayer and utilising our spiritual gifts. It is the engine room of everything we do as a church. \nThis meeting takes place in a member’s home. For the address please email contact@christchurchfareham.co.uk \nYou are most welcome to join us and enjoy a time of dwelling in God’s presence.
URL:https://christchurchfareham.co.uk/events/daytime-prayer-meeting-14th-july-2026/
CATEGORIES:Prayer Meeting
END:VEVENT
BEGIN:VEVENT
DTSTART;TZID=Europe/London:20260714T193000
DTEND;TZID=Europe/London:20260714T210000
DTSTAMP:20260421T165406
CREATED:20260128T145206Z
LAST-MODIFIED:20260128T145206Z
UID:11259-1784057400-1784062800@christchurchfareham.co.uk
SUMMARY:Tuesday Life Group
DESCRIPTION:We have multiple life groups that meet midweek on Tuesday and Wednesday nights.  These groups meet in people’s homes and are all about fun\, friendship\, bible study and prayer.  Sometimes\, there’s food to share as well! \nIf you’d like to join a Life Group\, please speak to one of the elders on a Sunday or email contact@christchurchfareham.co.uk
URL:https://christchurchfareham.co.uk/events/tuesday-life-group-109/
CATEGORIES:Tuesday Life Group
END:VEVENT
BEGIN:VEVENT
DTSTART;TZID=Europe/London:20260715T193000
DTEND;TZID=Europe/London:20260715T210000
DTSTAMP:20260421T165406
CREATED:20260128T145247Z
LAST-MODIFIED:20260128T145247Z
UID:11261-1784143800-1784149200@christchurchfareham.co.uk
SUMMARY:Wednesday Life Group
DESCRIPTION:We have multiple life groups that meet midweek on Tuesday and Wednesday nights.  These groups meet in people’s homes and are all about fun\, friendship\, bible study and prayer.  Sometimes\, there’s food to share as well! \nIf you’d like to join a Life Group\, please speak to one of the elders on a Sunday or email contact@christchurchfareham.co.uk
URL:https://christchurchfareham.co.uk/events/wednesday-life-group-78/
CATEGORIES:Tuesday Life Group
END:VEVENT
BEGIN:VEVENT
DTSTART;TZID=Europe/London:20260717T193000
DTEND;TZID=Europe/London:20260717T210000
DTSTAMP:20260421T165406
CREATED:20260128T142057Z
LAST-MODIFIED:20260401T083735Z
UID:11211-1784316600-1784322000@christchurchfareham.co.uk
SUMMARY:Women’s Social – 17th July 2026
DESCRIPTION:The Women of Christ Church Fareham love to gather together socially! \nThis takes place monthly and often involves eating together. This month is skittles. \nIt is a great place to build relationships and a setting where visitors are welcome. So\, if you fancy coming along and meeting a friendly group you would be most welcome. \nFor more details please email contact@christchurchfareham.co.uk or speak to Stephanie.
URL:https://christchurchfareham.co.uk/events/womens-social-17th-july-2026/
CATEGORIES:Women's Social
END:VEVENT
BEGIN:VEVENT
DTSTART;TZID=Europe/London:20260719T103000
DTEND;TZID=Europe/London:20260719T120000
DTSTAMP:20260421T165406
CREATED:20260128T142636Z
LAST-MODIFIED:20260128T142636Z
UID:11219-1784457000-1784462400@christchurchfareham.co.uk
SUMMARY:Sunday Meeting – 19th July 2026
DESCRIPTION:We gather every Sunday at Cams Hill School to worship God together. \nEveryone is welcome to visit us\, whether you’ve been a Christian a long time or never been to Church before. You’ll receive a warm welcome from us all\, but especially the people on the door who can show you where to go and everything you need to know. \nThe meeting consists of singing together – a mixture of modern songs and well-loved hymns\, prayer and a talk from the Bible. We don’t shy away from teaching the Bible as God’s Word\, but we aim to preach in a way that is engaging and relevant to your daily life. \nDuring the service\, there is Children’s Work\, led by DBS approved workers\, for children aged 11 and under. We also have Youth Work every other Sunday led by DBS workers for those secondary school age. There is also an unmanned creche area for those aged 4 and under. Toys and a speaker to listen to the meeting are provided. \nAfter the service\, we gather for free tea and coffee. We’d love to get to know you better during this time.
URL:https://christchurchfareham.co.uk/events/sunday-meeting-19th-july-2026/
LOCATION:Cams Hill School\, Shearwater Avenue\, Fareham\, PO16 8AH\, Shearwater Avenue\, Fareham\, PO16 8AH\, United Kingdom
CATEGORIES:Sunday Meeting
END:VEVENT
BEGIN:VEVENT
DTSTART;TZID=Europe/London:20260721T193000
DTEND;TZID=Europe/London:20260721T210000
DTSTAMP:20260421T165406
CREATED:20260128T145337Z
LAST-MODIFIED:20260128T145337Z
UID:11263-1784662200-1784667600@christchurchfareham.co.uk
SUMMARY:Tuesday Life Group
DESCRIPTION:We have multiple life groups that meet midweek on Tuesday and Wednesday nights.  These groups meet in people’s homes and are all about fun\, friendship\, bible study and prayer.  Sometimes\, there’s food to share as well! \nIf you’d like to join a Life Group\, please speak to one of the elders on a Sunday or email contact@christchurchfareham.co.uk
URL:https://christchurchfareham.co.uk/events/tuesday-life-group-110/
CATEGORIES:Tuesday Life Group
END:VEVENT
BEGIN:VEVENT
DTSTART;TZID=Europe/London:20260722T193000
DTEND;TZID=Europe/London:20260722T210000
DTSTAMP:20260421T165406
CREATED:20260128T145415Z
LAST-MODIFIED:20260128T145415Z
UID:11265-1784748600-1784754000@christchurchfareham.co.uk
SUMMARY:Wednesday Life Group
DESCRIPTION:We have multiple life groups that meet midweek on Tuesday and Wednesday nights.  These groups meet in people’s homes and are all about fun\, friendship\, bible study and prayer.  Sometimes\, there’s food to share as well! \nIf you’d like to join a Life Group\, please speak to one of the elders on a Sunday or email contact@christchurchfareham.co.uk
URL:https://christchurchfareham.co.uk/events/wednesday-life-group-79/
CATEGORIES:Wednesday Life Group
END:VEVENT
BEGIN:VEVENT
DTSTART;TZID=Europe/London:20260724T193000
DTEND;TZID=Europe/London:20260724T210000
DTSTAMP:20260421T165406
CREATED:20260128T143600Z
LAST-MODIFIED:20260128T143600Z
UID:11233-1784921400-1784926800@christchurchfareham.co.uk
SUMMARY:Men’s Social – 24th July 2026
DESCRIPTION:The Men of Christ Church Fareham love to gather together socially! \nThis takes place monthly and often involves eating together or doing a fun activity. \nIt is a great place to build relationships and a setting where visitors are welcome. So\, if you fancy coming along and meeting a friendly group you would be most welcome. \nFor more details please email contact@christchurchfareham.co.uk or speak to Duncan.
URL:https://christchurchfareham.co.uk/events/mens-social-24th-july-2026/
CATEGORIES:Men's Social
END:VEVENT
BEGIN:VEVENT
DTSTART;TZID=Europe/London:20260726T103000
DTEND;TZID=Europe/London:20260726T120000
DTSTAMP:20260421T165406
CREATED:20260128T142734Z
LAST-MODIFIED:20260128T142734Z
UID:11221-1785061800-1785067200@christchurchfareham.co.uk
SUMMARY:Sunday Meeting – 26th July 2026
DESCRIPTION:We gather every Sunday at Cams Hill School to worship God together. \nEveryone is welcome to visit us\, whether you’ve been a Christian a long time or never been to Church before. You’ll receive a warm welcome from us all\, but especially the people on the door who can show you where to go and everything you need to know. \nThe meeting consists of singing together – a mixture of modern songs and well-loved hymns\, prayer and a talk from the Bible. We don’t shy away from teaching the Bible as God’s Word\, but we aim to preach in a way that is engaging and relevant to your daily life. \nDuring the service\, there is Children’s Work\, led by DBS approved workers\, for children aged 11 and under. We also have Youth Work every other Sunday led by DBS workers for those secondary school age. There is also an unmanned creche area for those aged 4 and under. Toys and a speaker to listen to the meeting are provided. \nAfter the service\, we gather for free tea and coffee. We’d love to get to know you better during this time.
URL:https://christchurchfareham.co.uk/events/sunday-meeting-26th-july-2026/
LOCATION:Cams Hill School\, Shearwater Avenue\, Fareham\, PO16 8AH\, Shearwater Avenue\, Fareham\, PO16 8AH\, United Kingdom
CATEGORIES:Sunday Meeting
END:VEVENT
BEGIN:VEVENT
DTSTART;TZID=Europe/London:20260726T190000
DTEND;TZID=Europe/London:20260726T203000
DTSTAMP:20260421T165406
CREATED:20260128T144323Z
LAST-MODIFIED:20260128T144323Z
UID:11245-1785092400-1785097800@christchurchfareham.co.uk
SUMMARY:Evening Meeting – 26th July 2026
DESCRIPTION:We gather together one Sunday evening each month to worship God. \nOur meeting will include a time of singing\, a talk from the bible and a time of prayer. \nWe expect to meet with and hear from God during these times. Everyone is welcome to join us!
URL:https://christchurchfareham.co.uk/events/evening-meeting-26th-july-2026/
LOCATION:Wallington Village Hall\, Broadcut\, Fareham\, PO16 8ST\, United Kingdom
CATEGORIES:Evening Meeting
END:VEVENT
BEGIN:VEVENT
DTSTART;TZID=Europe/London:20260728T193000
DTEND;TZID=Europe/London:20260728T210000
DTSTAMP:20260421T165406
CREATED:20260128T145454Z
LAST-MODIFIED:20260128T145454Z
UID:11267-1785267000-1785272400@christchurchfareham.co.uk
SUMMARY:Tuesday Life Group
DESCRIPTION:We have multiple life groups that meet midweek on Tuesday and Wednesday nights.  These groups meet in people’s homes and are all about fun\, friendship\, bible study and prayer.  Sometimes\, there’s food to share as well! \nIf you’d like to join a Life Group\, please speak to one of the elders on a Sunday or email contact@christchurchfareham.co.uk
URL:https://christchurchfareham.co.uk/events/tuesday-life-group-111/
CATEGORIES:Tuesday Life Group
END:VEVENT
BEGIN:VEVENT
DTSTART;TZID=Europe/London:20260729T193000
DTEND;TZID=Europe/London:20260729T210000
DTSTAMP:20260421T165406
CREATED:20260128T145533Z
LAST-MODIFIED:20260128T145533Z
UID:11269-1785353400-1785358800@christchurchfareham.co.uk
SUMMARY:Wednesday Life Group
DESCRIPTION:We have multiple life groups that meet midweek on Tuesday and Wednesday nights.  These groups meet in people’s homes and are all about fun\, friendship\, bible study and prayer.  Sometimes\, there’s food to share as well! \nIf you’d like to join a Life Group\, please speak to one of the elders on a Sunday or email contact@christchurchfareham.co.uk
URL:https://christchurchfareham.co.uk/events/wednesday-life-group-80/
CATEGORIES:Wednesday Life Group
END:VEVENT
BEGIN:VEVENT
DTSTART;TZID=Europe/London:20260802T103000
DTEND;TZID=Europe/London:20260802T120000
DTSTAMP:20260421T165406
CREATED:20260128T142858Z
LAST-MODIFIED:20260128T142858Z
UID:11223-1785666600-1785672000@christchurchfareham.co.uk
SUMMARY:Sunday Meeting – 2nd August 2026
DESCRIPTION:We gather every Sunday at Cams Hill School to worship God together. \nEveryone is welcome to visit us\, whether you’ve been a Christian a long time or never been to Church before. You’ll receive a warm welcome from us all\, but especially the people on the door who can show you where to go and everything you need to know. \nThe meeting consists of singing together – a mixture of modern songs and well-loved hymns\, prayer and a talk from the Bible. We don’t shy away from teaching the Bible as God’s Word\, but we aim to preach in a way that is engaging and relevant to your daily life. \nDuring the service\, there is Children’s Work\, led by DBS approved workers\, for children aged 11 and under. We also have Youth Work every other Sunday led by DBS workers for those secondary school age. There is also an unmanned creche area for those aged 4 and under. Toys and a speaker to listen to the meeting are provided. \nAfter the service\, we gather for free tea and coffee. We’d love to get to know you better during this time.
URL:https://christchurchfareham.co.uk/events/sunday-meeting-2nd-august-2026/
LOCATION:Cams Hill School\, Shearwater Avenue\, Fareham\, PO16 8AH\, Shearwater Avenue\, Fareham\, PO16 8AH\, United Kingdom
CATEGORIES:Sunday Meeting
END:VEVENT
BEGIN:VEVENT
DTSTART;TZID=Europe/London:20260804T193000
DTEND;TZID=Europe/London:20260804T210000
DTSTAMP:20260421T165406
CREATED:20260128T140714Z
LAST-MODIFIED:20260128T140714Z
UID:11195-1785871800-1785877200@christchurchfareham.co.uk
SUMMARY:Prayer Meeting – 4th August 2026
DESCRIPTION:We normally gather on the first Tuesday evening of the month to dedicate ourselves to prayer. \nThis time consists of sung worship\, free/guided prayer and utilising our spiritual gifts. It is the engine room of everything we do as a church. \nYou are most welcome to join us and enjoy a time of dwelling in God’s presence.
URL:https://christchurchfareham.co.uk/events/prayer-meeting-4th-august-2026/
LOCATION:Cams Hill School\, Shearwater Avenue\, Fareham\, PO16 8AH\, Shearwater Avenue\, Fareham\, PO16 8AH\, United Kingdom
CATEGORIES:Prayer Meeting
END:VEVENT
BEGIN:VEVENT
DTSTART;TZID=Europe/London:20260805T120000
DTEND;TZID=Europe/London:20260805T133000
DTSTAMP:20260421T165406
CREATED:20260127T151602Z
LAST-MODIFIED:20260127T151602Z
UID:11175-1785931200-1785936600@christchurchfareham.co.uk
SUMMARY:Over 60’s Social – 5th August 2026
DESCRIPTION:Most months of the year there is an opportunity for anyone Over 60 to socialise together. \nThis often involves sharing a meal together or going for a walk followed by a drink & cake. \nFor more details please email contact@christchurchfareham.co.uk
URL:https://christchurchfareham.co.uk/events/over-60s-social-5th-august-2026/
END:VEVENT
BEGIN:VEVENT
DTSTART;TZID=Europe/London:20260807T193000
DTEND;TZID=Europe/London:20260807T210000
DTSTAMP:20260421T165406
CREATED:20260128T143657Z
LAST-MODIFIED:20260128T143657Z
UID:11235-1786131000-1786136400@christchurchfareham.co.uk
SUMMARY:Men’s Social – 7th August 2026
DESCRIPTION:The Men of Christ Church Fareham love to gather together socially! \nThis takes place monthly and often involves eating together or doing a fun activity. \nIt is a great place to build relationships and a setting where visitors are welcome. So\, if you fancy coming along and meeting a friendly group you would be most welcome. \nFor more details please email contact@christchurchfareham.co.uk or speak to Duncan.
URL:https://christchurchfareham.co.uk/events/mens-social-7th-august-2026/
CATEGORIES:Men's Social
END:VEVENT
BEGIN:VEVENT
DTSTART;TZID=Europe/London:20260809T103000
DTEND;TZID=Europe/London:20260809T120000
DTSTAMP:20260421T165406
CREATED:20260128T142956Z
LAST-MODIFIED:20260128T142956Z
UID:11225-1786271400-1786276800@christchurchfareham.co.uk
SUMMARY:Sunday Meeting – 9th August 2026
DESCRIPTION:We gather every Sunday at Cams Hill School to worship God together. \nEveryone is welcome to visit us\, whether you’ve been a Christian a long time or never been to Church before. You’ll receive a warm welcome from us all\, but especially the people on the door who can show you where to go and everything you need to know. \nThe meeting consists of singing together – a mixture of modern songs and well-loved hymns\, prayer and a talk from the Bible. We don’t shy away from teaching the Bible as God’s Word\, but we aim to preach in a way that is engaging and relevant to your daily life. \nDuring the service\, there is Children’s Work\, led by DBS approved workers\, for children aged 11 and under. We also have Youth Work every other Sunday led by DBS workers for those secondary school age. There is also an unmanned creche area for those aged 4 and under. Toys and a speaker to listen to the meeting are provided. \nAfter the service\, we gather for free tea and coffee. We’d love to get to know you better during this time.
URL:https://christchurchfareham.co.uk/events/sunday-meeting-9th-august-2026/
LOCATION:Cams Hill School\, Shearwater Avenue\, Fareham\, PO16 8AH\, Shearwater Avenue\, Fareham\, PO16 8AH\, United Kingdom
CATEGORIES:Sunday Meeting
END:VEVENT
BEGIN:VEVENT
DTSTART;TZID=Europe/London:20260809T123000
DTEND;TZID=Europe/London:20260809T140000
DTSTAMP:20260421T165406
CREATED:20260128T150134Z
LAST-MODIFIED:20260401T083035Z
UID:11271-1786278600-1786284000@christchurchfareham.co.uk
SUMMARY:Church Lunch – 9th August 2026
DESCRIPTION:We will be gathering after our Sunday Meeting to enjoy a picnic together at Cams. \nThis is a very relaxed\, friendly and sociable time together as a church family. You need to bring your own lunch and we encourage you to bring some items to share. \nVisitors are very welcome and you need only bring yourself!
URL:https://christchurchfareham.co.uk/events/church-lunch-9th-august-2026/
CATEGORIES:Church Lunch
END:VEVENT
BEGIN:VEVENT
DTSTART;TZID=Europe/London:20260811T110000
DTEND;TZID=Europe/London:20260811T123000
DTSTAMP:20260421T165406
CREATED:20260128T141334Z
LAST-MODIFIED:20260128T141334Z
UID:11205-1786446000-1786451400@christchurchfareham.co.uk
SUMMARY:Daytime Prayer Meeting – 11th August 2026
DESCRIPTION:We normally gather one Tuesday morning each month to dedicate ourselves to prayer. \nThis time consists of sung worship\, free/guided prayer and utilising our spiritual gifts. It is the engine room of everything we do as a church. \nThis meeting takes place in a member’s home. For the address please email contact@christchurchfareham.co.uk \nYou are most welcome to join us and enjoy a time of dwelling in God’s presence.
URL:https://christchurchfareham.co.uk/events/daytime-prayer-meeting-11th-august-2026/
CATEGORIES:Prayer Meeting
END:VEVENT
END:VCALENDAR