BEGIN:VCALENDAR
VERSION:2.0
PRODID:-//Christ Church Fareham | A Christian Church in Fareham - ECPv6.15.13.1//NONSGML v1.0//EN
CALSCALE:GREGORIAN
METHOD:PUBLISH
X-WR-CALNAME:Christ Church Fareham | A Christian Church in Fareham
X-ORIGINAL-URL:https://christchurchfareham.co.uk
X-WR-CALDESC:Events for Christ Church Fareham | A Christian Church in Fareham
REFRESH-INTERVAL;VALUE=DURATION:PT1H
X-Robots-Tag:noindex
X-PUBLISHED-TTL:PT1H
BEGIN:VTIMEZONE
TZID:Europe/London
BEGIN:DAYLIGHT
TZOFFSETFROM:+0000
TZOFFSETTO:+0100
TZNAME:BST
DTSTART:20210328T010000
END:DAYLIGHT
BEGIN:STANDARD
TZOFFSETFROM:+0100
TZOFFSETTO:+0000
TZNAME:GMT
DTSTART:20211031T010000
END:STANDARD
BEGIN:DAYLIGHT
TZOFFSETFROM:+0000
TZOFFSETTO:+0100
TZNAME:BST
DTSTART:20220327T010000
END:DAYLIGHT
BEGIN:STANDARD
TZOFFSETFROM:+0100
TZOFFSETTO:+0000
TZNAME:GMT
DTSTART:20221030T010000
END:STANDARD
BEGIN:DAYLIGHT
TZOFFSETFROM:+0000
TZOFFSETTO:+0100
TZNAME:BST
DTSTART:20230326T010000
END:DAYLIGHT
BEGIN:STANDARD
TZOFFSETFROM:+0100
TZOFFSETTO:+0000
TZNAME:GMT
DTSTART:20231029T010000
END:STANDARD
END:VTIMEZONE
BEGIN:VEVENT
DTSTART;TZID=Europe/London:20221130T193000
DTEND;TZID=Europe/London:20221130T210000
DTSTAMP:20260421T204029
CREATED:20220927T144554Z
LAST-MODIFIED:20220927T144554Z
UID:8405-1669836600-1669842000@christchurchfareham.co.uk
SUMMARY:Wednesday Life Group
DESCRIPTION:We have three Life Groups that meet across the week on Tuesday\, Wednesday and Thursday.  These groups meet in people’s homes and are all about fun\, friendship and prayer.  Sometimes\, there’s food to share as well!  If you’d like to join a Life Group\, please speak to one of the elders on a Sunday or email contact@christchurchfareham.co.uk
URL:https://christchurchfareham.co.uk/events/wednesday-life-group-7/
CATEGORIES:Wednesday Life Group
END:VEVENT
BEGIN:VEVENT
DTSTART;TZID=Europe/London:20221123T193000
DTEND;TZID=Europe/London:20221123T210000
DTSTAMP:20260421T204029
CREATED:20220927T144437Z
LAST-MODIFIED:20220927T144437Z
UID:8403-1669231800-1669237200@christchurchfareham.co.uk
SUMMARY:Wednesday Life Group
DESCRIPTION:We have three Life Groups that meet across the week on Tuesday\, Wednesday and Thursday.  These groups meet in people’s homes and are all about fun\, friendship and prayer.  Sometimes\, there’s food to share as well!  If you’d like to join a Life Group\, please speak to one of the elders on a Sunday or email contact@christchurchfareham.co.uk
URL:https://christchurchfareham.co.uk/events/wednesday-life-group-6/
CATEGORIES:Wednesday Life Group
END:VEVENT
BEGIN:VEVENT
DTSTART;TZID=Europe/London:20221116T193000
DTEND;TZID=Europe/London:20221116T210000
DTSTAMP:20260421T204029
CREATED:20220927T144322Z
LAST-MODIFIED:20220927T144322Z
UID:8401-1668627000-1668632400@christchurchfareham.co.uk
SUMMARY:Wednesday Life Group
DESCRIPTION:We have three Life Groups that meet across the week on Tuesday\, Wednesday and Thursday.  These groups meet in people’s homes and are all about fun\, friendship and prayer.  Sometimes\, there’s food to share as well!  If you’d like to join a Life Group\, please speak to one of the elders on a Sunday or email contact@christchurchfareham.co.uk
URL:https://christchurchfareham.co.uk/events/wednesday-life-group-5/
CATEGORIES:Wednesday Life Group
END:VEVENT
BEGIN:VEVENT
DTSTART;TZID=Europe/London:20221109T193000
DTEND;TZID=Europe/London:20221109T210000
DTSTAMP:20260421T204029
CREATED:20220927T144204Z
LAST-MODIFIED:20220927T144204Z
UID:8399-1668022200-1668027600@christchurchfareham.co.uk
SUMMARY:Wednesday Life Group
DESCRIPTION:We have three Life Groups that meet across the week on Tuesday\, Wednesday and Thursday.  These groups meet in people’s homes and are all about fun\, friendship and prayer.  Sometimes\, there’s food to share as well!  If you’d like to join a Life Group\, please speak to one of the elders on a Sunday or email contact@christchurchfareham.co.uk
URL:https://christchurchfareham.co.uk/events/wednesday-life-group-4/
CATEGORIES:Wednesday Life Group
END:VEVENT
BEGIN:VEVENT
DTSTART;TZID=Europe/London:20221026T193000
DTEND;TZID=Europe/London:20221026T210000
DTSTAMP:20260421T204029
CREATED:20220927T143746Z
LAST-MODIFIED:20220927T143746Z
UID:8395-1666812600-1666818000@christchurchfareham.co.uk
SUMMARY:Wednesday Life Group
DESCRIPTION:We have three Life Groups that meet across the week on Tuesday\, Wednesday and Thursday.  These groups meet in people’s homes and are all about fun\, friendship and prayer.  Sometimes\, there’s food to share as well!  If you’d like to join a Life Group\, please speak to one of the elders on a Sunday or email contact@christchurchfareham.co.uk
URL:https://christchurchfareham.co.uk/events/wednesday-life-group-3/
CATEGORIES:Wednesday Life Group
END:VEVENT
BEGIN:VEVENT
DTSTART;TZID=Europe/London:20221019T193000
DTEND;TZID=Europe/London:20221019T210000
DTSTAMP:20260421T204029
CREATED:20220927T143650Z
LAST-MODIFIED:20220927T143650Z
UID:8393-1666207800-1666213200@christchurchfareham.co.uk
SUMMARY:Wednesday Life Group
DESCRIPTION:We have three Life Groups that meet across the week on Tuesday\, Wednesday and Thursday.  These groups meet in people’s homes and are all about fun\, friendship and prayer.  Sometimes\, there’s food to share as well!  If you’d like to join a Life Group\, please speak to one of the elders on a Sunday or email contact@christchurchfareham.co.uk
URL:https://christchurchfareham.co.uk/events/wednesday-life-group-2/
CATEGORIES:Wednesday Life Group
END:VEVENT
BEGIN:VEVENT
DTSTART;TZID=Europe/London:20221012T193000
DTEND;TZID=Europe/London:20221012T210000
DTSTAMP:20260421T204029
CREATED:20220927T143446Z
LAST-MODIFIED:20220927T143446Z
UID:8391-1665603000-1665608400@christchurchfareham.co.uk
SUMMARY:Wednesday Life Group
DESCRIPTION:We have three Life Groups that meet across the week on Tuesday\, Wednesday and Thursday.  These groups meet in people’s homes and are all about fun\, friendship and prayer.  Sometimes\, there’s food to share as well!  If you’d like to join a Life Group\, please speak to one of the elders on a Sunday or email contact@christchurchfareham.co.uk
URL:https://christchurchfareham.co.uk/events/wednesday-life-group/
CATEGORIES:Wednesday Life Group
END:VEVENT
END:VCALENDAR