BEGIN:VCALENDAR
VERSION:2.0
PRODID:-//Christ Church Fareham | A Christian Church in Fareham - ECPv6.15.13.1//NONSGML v1.0//EN
CALSCALE:GREGORIAN
METHOD:PUBLISH
X-WR-CALNAME:Christ Church Fareham | A Christian Church in Fareham
X-ORIGINAL-URL:https://christchurchfareham.co.uk
X-WR-CALDESC:Events for Christ Church Fareham | A Christian Church in Fareham
REFRESH-INTERVAL;VALUE=DURATION:PT1H
X-Robots-Tag:noindex
X-PUBLISHED-TTL:PT1H
BEGIN:VTIMEZONE
TZID:Europe/London
BEGIN:DAYLIGHT
TZOFFSETFROM:+0000
TZOFFSETTO:+0100
TZNAME:BST
DTSTART:20250330T010000
END:DAYLIGHT
BEGIN:STANDARD
TZOFFSETFROM:+0100
TZOFFSETTO:+0000
TZNAME:GMT
DTSTART:20251026T010000
END:STANDARD
BEGIN:DAYLIGHT
TZOFFSETFROM:+0000
TZOFFSETTO:+0100
TZNAME:BST
DTSTART:20260329T010000
END:DAYLIGHT
BEGIN:STANDARD
TZOFFSETFROM:+0100
TZOFFSETTO:+0000
TZNAME:GMT
DTSTART:20261025T010000
END:STANDARD
BEGIN:DAYLIGHT
TZOFFSETFROM:+0000
TZOFFSETTO:+0100
TZNAME:BST
DTSTART:20270328T010000
END:DAYLIGHT
BEGIN:STANDARD
TZOFFSETFROM:+0100
TZOFFSETTO:+0000
TZNAME:GMT
DTSTART:20271031T010000
END:STANDARD
END:VTIMEZONE
BEGIN:VEVENT
DTSTART;TZID=Europe/London:20260923T193000
DTEND;TZID=Europe/London:20260923T210000
DTSTAMP:20260421T150954
CREATED:20260128T164534Z
LAST-MODIFIED:20260128T164534Z
UID:11325-1790191800-1790197200@christchurchfareham.co.uk
SUMMARY:Wednesday Life Group
DESCRIPTION:We have multiple life groups that meet midweek on Tuesday and Wednesday nights.  These groups meet in people’s homes and are all about fun\, friendship\, bible study and prayer.  Sometimes\, there’s food to share as well! \nIf you’d like to join a Life Group\, please speak to one of the elders on a Sunday or email contact@christchurchfareham.co.uk
URL:https://christchurchfareham.co.uk/events/wednesday-life-group-82/
CATEGORIES:Wednesday Life Group
END:VEVENT
BEGIN:VEVENT
DTSTART;TZID=Europe/London:20260930T193000
DTEND;TZID=Europe/London:20260930T210000
DTSTAMP:20260421T150954
CREATED:20260128T164657Z
LAST-MODIFIED:20260128T164657Z
UID:11329-1790796600-1790802000@christchurchfareham.co.uk
SUMMARY:Wednesday Life Group
DESCRIPTION:We have multiple life groups that meet midweek on Tuesday and Wednesday nights.  These groups meet in people’s homes and are all about fun\, friendship\, bible study and prayer.  Sometimes\, there’s food to share as well! \nIf you’d like to join a Life Group\, please speak to one of the elders on a Sunday or email contact@christchurchfareham.co.uk
URL:https://christchurchfareham.co.uk/events/wednesday-life-group-83/
CATEGORIES:Wednesday Life Group
END:VEVENT
BEGIN:VEVENT
DTSTART;TZID=Europe/London:20261014T193000
DTEND;TZID=Europe/London:20261014T210000
DTSTAMP:20260421T150954
CREATED:20260128T164932Z
LAST-MODIFIED:20260128T164932Z
UID:11333-1792006200-1792011600@christchurchfareham.co.uk
SUMMARY:Wednesday Life Group
DESCRIPTION:We have multiple life groups that meet midweek on Tuesday and Wednesday nights.  These groups meet in people’s homes and are all about fun\, friendship\, bible study and prayer.  Sometimes\, there’s food to share as well! \nIf you’d like to join a Life Group\, please speak to one of the elders on a Sunday or email contact@christchurchfareham.co.uk
URL:https://christchurchfareham.co.uk/events/wednesday-life-group-84/
CATEGORIES:Wednesday Life Group
END:VEVENT
BEGIN:VEVENT
DTSTART;TZID=Europe/London:20261028T193000
DTEND;TZID=Europe/London:20261028T210000
DTSTAMP:20260421T150954
CREATED:20260128T165356Z
LAST-MODIFIED:20260128T165356Z
UID:11341-1793215800-1793221200@christchurchfareham.co.uk
SUMMARY:Wednesday Life Group
DESCRIPTION:We have multiple life groups that meet midweek on Tuesday and Wednesday nights.  These groups meet in people’s homes and are all about fun\, friendship\, bible study and prayer.  Sometimes\, there’s food to share as well! \nIf you’d like to join a Life Group\, please speak to one of the elders on a Sunday or email contact@christchurchfareham.co.uk
URL:https://christchurchfareham.co.uk/events/wednesday-life-group-86/
CATEGORIES:Wednesday Life Group
END:VEVENT
BEGIN:VEVENT
DTSTART;TZID=Europe/London:20261111T193000
DTEND;TZID=Europe/London:20261111T210000
DTSTAMP:20260421T150954
CREATED:20260128T165557Z
LAST-MODIFIED:20260128T165557Z
UID:11345-1794425400-1794430800@christchurchfareham.co.uk
SUMMARY:Wednesday Life Group
DESCRIPTION:We have multiple life groups that meet midweek on Tuesday and Wednesday nights.  These groups meet in people’s homes and are all about fun\, friendship\, bible study and prayer.  Sometimes\, there’s food to share as well! \nIf you’d like to join a Life Group\, please speak to one of the elders on a Sunday or email contact@christchurchfareham.co.uk
URL:https://christchurchfareham.co.uk/events/wednesday-life-group-87/
CATEGORIES:Wednesday Life Group
END:VEVENT
BEGIN:VEVENT
DTSTART;TZID=Europe/London:20261118T193000
DTEND;TZID=Europe/London:20261118T210000
DTSTAMP:20260421T150954
CREATED:20260128T165727Z
LAST-MODIFIED:20260128T165727Z
UID:11349-1795030200-1795035600@christchurchfareham.co.uk
SUMMARY:Wednesday Life Group
DESCRIPTION:We have multiple life groups that meet midweek on Tuesday and Wednesday nights.  These groups meet in people’s homes and are all about fun\, friendship\, bible study and prayer.  Sometimes\, there’s food to share as well! \nIf you’d like to join a Life Group\, please speak to one of the elders on a Sunday or email contact@christchurchfareham.co.uk
URL:https://christchurchfareham.co.uk/events/wednesday-life-group-88/
CATEGORIES:Wednesday Life Group
END:VEVENT
BEGIN:VEVENT
DTSTART;TZID=Europe/London:20261125T080000
DTEND;TZID=Europe/London:20261125T170000
DTSTAMP:20260421T150954
CREATED:20260128T165905Z
LAST-MODIFIED:20260128T165905Z
UID:11353-1795593600-1795626000@christchurchfareham.co.uk
SUMMARY:Wednesday Life Group
DESCRIPTION:We have multiple life groups that meet midweek on Tuesday and Wednesday nights.  These groups meet in people’s homes and are all about fun\, friendship\, bible study and prayer.  Sometimes\, there’s food to share as well! \nIf you’d like to join a Life Group\, please speak to one of the elders on a Sunday or email contact@christchurchfareham.co.uk
URL:https://christchurchfareham.co.uk/events/wednesday-life-group-89/
CATEGORIES:Wednesday Life Group
END:VEVENT
BEGIN:VEVENT
DTSTART;TZID=Europe/London:20261209T193000
DTEND;TZID=Europe/London:20261209T210000
DTSTAMP:20260421T150954
CREATED:20260128T170134Z
LAST-MODIFIED:20260128T170134Z
UID:11357-1796844600-1796850000@christchurchfareham.co.uk
SUMMARY:Wednesday Life Group
DESCRIPTION:We have multiple life groups that meet midweek on Tuesday and Wednesday nights.  These groups meet in people’s homes and are all about fun\, friendship\, bible study and prayer.  Sometimes\, there’s food to share as well! \nIf you’d like to join a Life Group\, please speak to one of the elders on a Sunday or email contact@christchurchfareham.co.uk
URL:https://christchurchfareham.co.uk/events/wednesday-life-group-90/
CATEGORIES:Wednesday Life Group
END:VEVENT
BEGIN:VEVENT
DTSTART;TZID=Europe/London:20261216T193000
DTEND;TZID=Europe/London:20261216T210000
DTSTAMP:20260421T150954
CREATED:20260128T170354Z
LAST-MODIFIED:20260128T170354Z
UID:11361-1797449400-1797454800@christchurchfareham.co.uk
SUMMARY:Wednesday Life Group
DESCRIPTION:We have multiple life groups that meet midweek on Tuesday and Wednesday nights.  These groups meet in people’s homes and are all about fun\, friendship\, bible study and prayer.  Sometimes\, there’s food to share as well! \nIf you’d like to join a Life Group\, please speak to one of the elders on a Sunday or email contact@christchurchfareham.co.uk
URL:https://christchurchfareham.co.uk/events/wednesday-life-group-91/
CATEGORIES:Wednesday Life Group
END:VEVENT
END:VCALENDAR