BEGIN:VCALENDAR
VERSION:2.0
PRODID:-//Christ Church Fareham | A Christian Church in Fareham - ECPv6.15.13.1//NONSGML v1.0//EN
CALSCALE:GREGORIAN
METHOD:PUBLISH
X-WR-CALNAME:Christ Church Fareham | A Christian Church in Fareham
X-ORIGINAL-URL:https://christchurchfareham.co.uk
X-WR-CALDESC:Events for Christ Church Fareham | A Christian Church in Fareham
REFRESH-INTERVAL;VALUE=DURATION:PT1H
X-Robots-Tag:noindex
X-PUBLISHED-TTL:PT1H
BEGIN:VTIMEZONE
TZID:Europe/London
BEGIN:DAYLIGHT
TZOFFSETFROM:+0000
TZOFFSETTO:+0100
TZNAME:BST
DTSTART:20220327T010000
END:DAYLIGHT
BEGIN:STANDARD
TZOFFSETFROM:+0100
TZOFFSETTO:+0000
TZNAME:GMT
DTSTART:20221030T010000
END:STANDARD
BEGIN:DAYLIGHT
TZOFFSETFROM:+0000
TZOFFSETTO:+0100
TZNAME:BST
DTSTART:20230326T010000
END:DAYLIGHT
BEGIN:STANDARD
TZOFFSETFROM:+0100
TZOFFSETTO:+0000
TZNAME:GMT
DTSTART:20231029T010000
END:STANDARD
BEGIN:DAYLIGHT
TZOFFSETFROM:+0000
TZOFFSETTO:+0100
TZNAME:BST
DTSTART:20240331T010000
END:DAYLIGHT
BEGIN:STANDARD
TZOFFSETFROM:+0100
TZOFFSETTO:+0000
TZNAME:GMT
DTSTART:20241027T010000
END:STANDARD
BEGIN:DAYLIGHT
TZOFFSETFROM:+0000
TZOFFSETTO:+0100
TZNAME:BST
DTSTART:20250330T010000
END:DAYLIGHT
BEGIN:STANDARD
TZOFFSETFROM:+0100
TZOFFSETTO:+0000
TZNAME:GMT
DTSTART:20251026T010000
END:STANDARD
BEGIN:DAYLIGHT
TZOFFSETFROM:+0000
TZOFFSETTO:+0100
TZNAME:BST
DTSTART:20260329T010000
END:DAYLIGHT
BEGIN:STANDARD
TZOFFSETFROM:+0100
TZOFFSETTO:+0000
TZNAME:GMT
DTSTART:20261025T010000
END:STANDARD
END:VTIMEZONE
BEGIN:VEVENT
DTSTART;TZID=Europe/London:20251029T193000
DTEND;TZID=Europe/London:20251029T210000
DTSTAMP:20260421T163827
CREATED:20241002T110516Z
LAST-MODIFIED:20241002T110516Z
UID:10333-1761766200-1761771600@christchurchfareham.co.uk
SUMMARY:Wednesday Life Group
DESCRIPTION:We have multiple life groups that meet midweek on Tuesday\, Wednesday and Thursday nights.  These groups meet in people’s homes and are all about fun\, friendship\, bible study and prayer.  Sometimes\, there’s food to share as well! \nIf you’d like to join a Life Group\, please speak to one of the elders on a Sunday or email contact@christchurchfareham.co.uk
URL:https://christchurchfareham.co.uk/events/wednesday-life-group-54/
CATEGORIES:Wednesday Life Group
END:VEVENT
BEGIN:VEVENT
DTSTART;TZID=Europe/London:20251022T193000
DTEND;TZID=Europe/London:20251022T210000
DTSTAMP:20260421T163827
CREATED:20241002T110302Z
LAST-MODIFIED:20241002T110302Z
UID:10327-1761161400-1761166800@christchurchfareham.co.uk
SUMMARY:Wednesday Life Group
DESCRIPTION:We have multiple life groups that meet midweek on Tuesday\, Wednesday and Thursday nights.  These groups meet in people’s homes and are all about fun\, friendship\, bible study and prayer.  Sometimes\, there’s food to share as well! \nIf you’d like to join a Life Group\, please speak to one of the elders on a Sunday or email contact@christchurchfareham.co.uk
URL:https://christchurchfareham.co.uk/events/wednesday-life-group-53/
CATEGORIES:Wednesday Life Group
END:VEVENT
BEGIN:VEVENT
DTSTART;TZID=Europe/London:20251015T193000
DTEND;TZID=Europe/London:20251015T210000
DTSTAMP:20260421T163827
CREATED:20241002T110043Z
LAST-MODIFIED:20241002T110043Z
UID:10321-1760556600-1760562000@christchurchfareham.co.uk
SUMMARY:Wednesday Life Group
DESCRIPTION:We have multiple life groups that meet midweek on Tuesday\, Wednesday and Thursday nights.  These groups meet in people’s homes and are all about fun\, friendship\, bible study and prayer.  Sometimes\, there’s food to share as well! \nIf you’d like to join a Life Group\, please speak to one of the elders on a Sunday or email contact@christchurchfareham.co.uk
URL:https://christchurchfareham.co.uk/events/wednesday-life-group-52/
CATEGORIES:Wednesday Life Group
END:VEVENT
BEGIN:VEVENT
DTSTART;TZID=Europe/London:20251001T193000
DTEND;TZID=Europe/London:20251001T210000
DTSTAMP:20260421T163827
CREATED:20241002T105758Z
LAST-MODIFIED:20241002T105811Z
UID:10315-1759347000-1759352400@christchurchfareham.co.uk
SUMMARY:Wednesday Life Group
DESCRIPTION:We have multiple life groups that meet midweek on Tuesday\, Wednesday and Thursday nights.  These groups meet in people’s homes and are all about fun\, friendship\, bible study and prayer.  Sometimes\, there’s food to share as well! \nIf you’d like to join a Life Group\, please speak to one of the elders on a Sunday or email contact@christchurchfareham.co.uk
URL:https://christchurchfareham.co.uk/events/wednesday-life-group-51/
CATEGORIES:Wednesday Life Group
END:VEVENT
BEGIN:VEVENT
DTSTART;TZID=Europe/London:20250924T193000
DTEND;TZID=Europe/London:20250924T210000
DTSTAMP:20260421T163827
CREATED:20241002T105526Z
LAST-MODIFIED:20241002T105526Z
UID:10309-1758742200-1758747600@christchurchfareham.co.uk
SUMMARY:Wednesday Life Group
DESCRIPTION:We have multiple life groups that meet midweek on Tuesday\, Wednesday and Thursday nights.  These groups meet in people’s homes and are all about fun\, friendship\, bible study and prayer.  Sometimes\, there’s food to share as well! \nIf you’d like to join a Life Group\, please speak to one of the elders on a Sunday or email contact@christchurchfareham.co.uk
URL:https://christchurchfareham.co.uk/events/wednesday-life-group-50/
CATEGORIES:Wednesday Life Group
END:VEVENT
BEGIN:VEVENT
DTSTART;TZID=Europe/London:20250917T193000
DTEND;TZID=Europe/London:20250917T210000
DTSTAMP:20260421T163827
CREATED:20241002T105250Z
LAST-MODIFIED:20241002T105250Z
UID:10303-1758137400-1758142800@christchurchfareham.co.uk
SUMMARY:Wednesday Life Group
DESCRIPTION:We have multiple life groups that meet midweek on Tuesday\, Wednesday and Thursday nights.  These groups meet in people’s homes and are all about fun\, friendship\, bible study and prayer.  Sometimes\, there’s food to share as well! \nIf you’d like to join a Life Group\, please speak to one of the elders on a Sunday or email contact@christchurchfareham.co.uk
URL:https://christchurchfareham.co.uk/events/wednesday-life-group-49/
CATEGORIES:Wednesday Life Group
END:VEVENT
BEGIN:VEVENT
DTSTART;TZID=Europe/London:20250723T193000
DTEND;TZID=Europe/London:20250723T210000
DTSTAMP:20260421T163827
CREATED:20241002T105011Z
LAST-MODIFIED:20241002T105011Z
UID:10297-1753299000-1753304400@christchurchfareham.co.uk
SUMMARY:Wednesday Life Group
DESCRIPTION:We have multiple life groups that meet midweek on Tuesday\, Wednesday and Thursday nights.  These groups meet in people’s homes and are all about fun\, friendship\, bible study and prayer.  Sometimes\, there’s food to share as well! \nIf you’d like to join a Life Group\, please speak to one of the elders on a Sunday or email contact@christchurchfareham.co.uk
URL:https://christchurchfareham.co.uk/events/wednesday-life-group-48/
CATEGORIES:Wednesday Life Group
END:VEVENT
BEGIN:VEVENT
DTSTART;TZID=Europe/London:20250716T193000
DTEND;TZID=Europe/London:20250716T210000
DTSTAMP:20260421T163827
CREATED:20241002T104724Z
LAST-MODIFIED:20241002T104724Z
UID:10291-1752694200-1752699600@christchurchfareham.co.uk
SUMMARY:Wednesday Life Group
DESCRIPTION:We have multiple life groups that meet midweek on Tuesday\, Wednesday and Thursday nights.  These groups meet in people’s homes and are all about fun\, friendship\, bible study and prayer.  Sometimes\, there’s food to share as well! \nIf you’d like to join a Life Group\, please speak to one of the elders on a Sunday or email contact@christchurchfareham.co.uk
URL:https://christchurchfareham.co.uk/events/wednesday-life-group-47/
CATEGORIES:Wednesday Life Group
END:VEVENT
BEGIN:VEVENT
DTSTART;TZID=Europe/London:20250709T193000
DTEND;TZID=Europe/London:20250709T210000
DTSTAMP:20260421T163827
CREATED:20241002T104509Z
LAST-MODIFIED:20241002T104509Z
UID:10285-1752089400-1752094800@christchurchfareham.co.uk
SUMMARY:Wednesday Life Group
DESCRIPTION:We have multiple life groups that meet midweek on Tuesday\, Wednesday and Thursday nights.  These groups meet in people’s homes and are all about fun\, friendship\, bible study and prayer.  Sometimes\, there’s food to share as well! \nIf you’d like to join a Life Group\, please speak to one of the elders on a Sunday or email contact@christchurchfareham.co.uk
URL:https://christchurchfareham.co.uk/events/wednesday-life-group-46/
CATEGORIES:Wednesday Life Group
END:VEVENT
BEGIN:VEVENT
DTSTART;TZID=Europe/London:20250625T193000
DTEND;TZID=Europe/London:20250625T210000
DTSTAMP:20260421T163827
CREATED:20241002T095923Z
LAST-MODIFIED:20241002T095923Z
UID:10279-1750879800-1750885200@christchurchfareham.co.uk
SUMMARY:Wednesday Life Group
DESCRIPTION:We have multiple life groups that meet midweek on Tuesday\, Wednesday and Thursday nights.  These groups meet in people’s homes and are all about fun\, friendship\, bible study and prayer.  Sometimes\, there’s food to share as well! \nIf you’d like to join a Life Group\, please speak to one of the elders on a Sunday or email contact@christchurchfareham.co.uk
URL:https://christchurchfareham.co.uk/events/wednesday-life-group-45/
CATEGORIES:Wednesday Life Group
END:VEVENT
BEGIN:VEVENT
DTSTART;TZID=Europe/London:20250618T193000
DTEND;TZID=Europe/London:20250618T210000
DTSTAMP:20260421T163827
CREATED:20241002T095713Z
LAST-MODIFIED:20241002T095713Z
UID:10273-1750275000-1750280400@christchurchfareham.co.uk
SUMMARY:Wednesday Life Group
DESCRIPTION:We have multiple life groups that meet midweek on Tuesday\, Wednesday and Thursday nights.  These groups meet in people’s homes and are all about fun\, friendship\, bible study and prayer.  Sometimes\, there’s food to share as well! \nIf you’d like to join a Life Group\, please speak to one of the elders on a Sunday or email contact@christchurchfareham.co.uk
URL:https://christchurchfareham.co.uk/events/wednesday-life-group-44/
CATEGORIES:Wednesday Life Group
END:VEVENT
BEGIN:VEVENT
DTSTART;TZID=Europe/London:20250611T193000
DTEND;TZID=Europe/London:20250611T210000
DTSTAMP:20260421T163827
CREATED:20241002T095451Z
LAST-MODIFIED:20241002T095451Z
UID:10267-1749670200-1749675600@christchurchfareham.co.uk
SUMMARY:Wednesday Life Group
DESCRIPTION:We have multiple life groups that meet midweek on Tuesday\, Wednesday and Thursday nights.  These groups meet in people’s homes and are all about fun\, friendship\, bible study and prayer.  Sometimes\, there’s food to share as well! \nIf you’d like to join a Life Group\, please speak to one of the elders on a Sunday or email contact@christchurchfareham.co.uk
URL:https://christchurchfareham.co.uk/events/wednesday-life-group-43/
CATEGORIES:Wednesday Life Group
END:VEVENT
BEGIN:VEVENT
DTSTART;TZID=Europe/London:20250528T193000
DTEND;TZID=Europe/London:20250528T210000
DTSTAMP:20260421T163827
CREATED:20241002T095220Z
LAST-MODIFIED:20241002T095220Z
UID:10261-1748460600-1748466000@christchurchfareham.co.uk
SUMMARY:Wednesday Life Group
DESCRIPTION:We have multiple life groups that meet midweek on Tuesday\, Wednesday and Thursday nights.  These groups meet in people’s homes and are all about fun\, friendship\, bible study and prayer.  Sometimes\, there’s food to share as well! \nIf you’d like to join a Life Group\, please speak to one of the elders on a Sunday or email contact@christchurchfareham.co.uk
URL:https://christchurchfareham.co.uk/events/wednesday-life-group-42/
CATEGORIES:Wednesday Life Group
END:VEVENT
BEGIN:VEVENT
DTSTART;TZID=Europe/London:20250521T193000
DTEND;TZID=Europe/London:20250521T210000
DTSTAMP:20260421T163827
CREATED:20241002T095011Z
LAST-MODIFIED:20241002T095011Z
UID:10255-1747855800-1747861200@christchurchfareham.co.uk
SUMMARY:Wednesday Life Group
DESCRIPTION:We have multiple life groups that meet midweek on Tuesday\, Wednesday and Thursday nights.  These groups meet in people’s homes and are all about fun\, friendship\, bible study and prayer.  Sometimes\, there’s food to share as well! \nIf you’d like to join a Life Group\, please speak to one of the elders on a Sunday or email contact@christchurchfareham.co.uk
URL:https://christchurchfareham.co.uk/events/wednesday-life-group-41/
CATEGORIES:Wednesday Life Group
END:VEVENT
BEGIN:VEVENT
DTSTART;TZID=Europe/London:20250514T193000
DTEND;TZID=Europe/London:20250514T210000
DTSTAMP:20260421T163827
CREATED:20241002T094748Z
LAST-MODIFIED:20241002T094748Z
UID:10249-1747251000-1747256400@christchurchfareham.co.uk
SUMMARY:Wednesday Life Group
DESCRIPTION:We have multiple life groups that meet midweek on Tuesday\, Wednesday and Thursday nights.  These groups meet in people’s homes and are all about fun\, friendship\, bible study and prayer.  Sometimes\, there’s food to share as well! \nIf you’d like to join a Life Group\, please speak to one of the elders on a Sunday or email contact@christchurchfareham.co.uk
URL:https://christchurchfareham.co.uk/events/wednesday-life-group-40/
CATEGORIES:Wednesday Life Group
END:VEVENT
BEGIN:VEVENT
DTSTART;TZID=Europe/London:20250423T193000
DTEND;TZID=Europe/London:20250423T210000
DTSTAMP:20260421T163827
CREATED:20241002T094520Z
LAST-MODIFIED:20241002T094520Z
UID:10243-1745436600-1745442000@christchurchfareham.co.uk
SUMMARY:Wednesday Life Group
DESCRIPTION:We have multiple life groups that meet midweek on Tuesday\, Wednesday and Thursday nights.  These groups meet in people’s homes and are all about fun\, friendship\, bible study and prayer.  Sometimes\, there’s food to share as well! \nIf you’d like to join a Life Group\, please speak to one of the elders on a Sunday or email contact@christchurchfareham.co.uk
URL:https://christchurchfareham.co.uk/events/wednesday-life-group-39/
CATEGORIES:Wednesday Life Group
END:VEVENT
BEGIN:VEVENT
DTSTART;TZID=Europe/London:20250416T193000
DTEND;TZID=Europe/London:20250416T210000
DTSTAMP:20260421T163827
CREATED:20241002T094324Z
LAST-MODIFIED:20241002T094324Z
UID:10237-1744831800-1744837200@christchurchfareham.co.uk
SUMMARY:Wednesday Life Group
DESCRIPTION:We have multiple life groups that meet midweek on Tuesday\, Wednesday and Thursday nights.  These groups meet in people’s homes and are all about fun\, friendship\, bible study and prayer.  Sometimes\, there’s food to share as well! \nIf you’d like to join a Life Group\, please speak to one of the elders on a Sunday or email contact@christchurchfareham.co.uk
URL:https://christchurchfareham.co.uk/events/wednesday-life-group-38/
CATEGORIES:Wednesday Life Group
END:VEVENT
BEGIN:VEVENT
DTSTART;TZID=Europe/London:20250409T193000
DTEND;TZID=Europe/London:20250409T210000
DTSTAMP:20260421T163827
CREATED:20241002T094123Z
LAST-MODIFIED:20241002T094123Z
UID:10231-1744227000-1744232400@christchurchfareham.co.uk
SUMMARY:Wednesday Life Group
DESCRIPTION:We have multiple life groups that meet midweek on Tuesday\, Wednesday and Thursday nights.  These groups meet in people’s homes and are all about fun\, friendship\, bible study and prayer.  Sometimes\, there’s food to share as well! \nIf you’d like to join a Life Group\, please speak to one of the elders on a Sunday or email contact@christchurchfareham.co.uk
URL:https://christchurchfareham.co.uk/events/wednesday-life-group-37/
CATEGORIES:Wednesday Life Group
END:VEVENT
BEGIN:VEVENT
DTSTART;TZID=Europe/London:20250326T193000
DTEND;TZID=Europe/London:20250326T210000
DTSTAMP:20260421T163827
CREATED:20241002T093850Z
LAST-MODIFIED:20241002T093850Z
UID:10225-1743017400-1743022800@christchurchfareham.co.uk
SUMMARY:Wednesday Life Group
DESCRIPTION:We have multiple life groups that meet midweek on Tuesday\, Wednesday and Thursday nights.  These groups meet in people’s homes and are all about fun\, friendship\, bible study and prayer.  Sometimes\, there’s food to share as well! \nIf you’d like to join a Life Group\, please speak to one of the elders on a Sunday or email contact@christchurchfareham.co.uk
URL:https://christchurchfareham.co.uk/events/wednesday-life-group-36/
CATEGORIES:Wednesday Life Group
END:VEVENT
BEGIN:VEVENT
DTSTART;TZID=Europe/London:20250319T080000
DTEND;TZID=Europe/London:20250319T170000
DTSTAMP:20260421T163827
CREATED:20241002T093625Z
LAST-MODIFIED:20241002T093625Z
UID:10219-1742371200-1742403600@christchurchfareham.co.uk
SUMMARY:Wednesday Life Group
DESCRIPTION:We have multiple life groups that meet midweek on Tuesday\, Wednesday and Thursday nights.  These groups meet in people’s homes and are all about fun\, friendship\, bible study and prayer.  Sometimes\, there’s food to share as well! \nIf you’d like to join a Life Group\, please speak to one of the elders on a Sunday or email contact@christchurchfareham.co.uk
URL:https://christchurchfareham.co.uk/events/wednesday-life-group-35/
CATEGORIES:Wednesday Life Group
END:VEVENT
BEGIN:VEVENT
DTSTART;TZID=Europe/London:20250312T193000
DTEND;TZID=Europe/London:20250312T210000
DTSTAMP:20260421T163827
CREATED:20241002T093439Z
LAST-MODIFIED:20241002T093439Z
UID:10213-1741807800-1741813200@christchurchfareham.co.uk
SUMMARY:Wednesday Life Group
DESCRIPTION:We have multiple life groups that meet midweek on Tuesday\, Wednesday and Thursday nights.  These groups meet in people’s homes and are all about fun\, friendship\, bible study and prayer.  Sometimes\, there’s food to share as well! \nIf you’d like to join a Life Group\, please speak to one of the elders on a Sunday or email contact@christchurchfareham.co.uk
URL:https://christchurchfareham.co.uk/events/wednesday-life-group-34/
CATEGORIES:Wednesday Life Group
END:VEVENT
BEGIN:VEVENT
DTSTART;TZID=Europe/London:20250219T193000
DTEND;TZID=Europe/London:20250219T210000
DTSTAMP:20260421T163827
CREATED:20241002T092858Z
LAST-MODIFIED:20241002T092858Z
UID:10201-1739993400-1739998800@christchurchfareham.co.uk
SUMMARY:Wednesday Life Group
DESCRIPTION:We have multiple life groups that meet midweek on Tuesday\, Wednesday and Thursday nights.  These groups meet in people’s homes and are all about fun\, friendship\, bible study and prayer.  Sometimes\, there’s food to share as well! \nIf you’d like to join a Life Group\, please speak to one of the elders on a Sunday or email contact@christchurchfareham.co.uk
URL:https://christchurchfareham.co.uk/events/wednesday-life-group-32/
CATEGORIES:Wednesday Life Group
END:VEVENT
BEGIN:VEVENT
DTSTART;TZID=Europe/London:20250212T193000
DTEND;TZID=Europe/London:20250212T210000
DTSTAMP:20260421T163827
CREATED:20241002T092540Z
LAST-MODIFIED:20241002T092540Z
UID:10195-1739388600-1739394000@christchurchfareham.co.uk
SUMMARY:Wednesday Life Group
DESCRIPTION:We have multiple life groups that meet midweek on Tuesday\, Wednesday and Thursday nights.  These groups meet in people’s homes and are all about fun\, friendship\, bible study and prayer.  Sometimes\, there’s food to share as well! \nIf you’d like to join a Life Group\, please speak to one of the elders on a Sunday or email contact@christchurchfareham.co.uk
URL:https://christchurchfareham.co.uk/events/wednesday-life-group-31/
CATEGORIES:Wednesday Life Group
END:VEVENT
BEGIN:VEVENT
DTSTART;TZID=Europe/London:20250129T193000
DTEND;TZID=Europe/London:20250129T210000
DTSTAMP:20260421T163827
CREATED:20241002T092305Z
LAST-MODIFIED:20241002T092305Z
UID:10189-1738179000-1738184400@christchurchfareham.co.uk
SUMMARY:Wednesday Life Group
DESCRIPTION:We have multiple life groups that meet midweek on Tuesday\, Wednesday and Thursday nights.  These groups meet in people’s homes and are all about fun\, friendship\, bible study and prayer.  Sometimes\, there’s food to share as well! \nIf you’d like to join a Life Group\, please speak to one of the elders on a Sunday or email contact@christchurchfareham.co.uk
URL:https://christchurchfareham.co.uk/events/wednesday-life-group-30/
CATEGORIES:Wednesday Life Group
END:VEVENT
BEGIN:VEVENT
DTSTART;TZID=Europe/London:20250122T193000
DTEND;TZID=Europe/London:20250122T210000
DTSTAMP:20260421T163827
CREATED:20241002T092051Z
LAST-MODIFIED:20241002T092051Z
UID:10183-1737574200-1737579600@christchurchfareham.co.uk
SUMMARY:Wednesday Life Group
DESCRIPTION:We have multiple life groups that meet midweek on Tuesday\, Wednesday and Thursday nights.  These groups meet in people’s homes and are all about fun\, friendship\, bible study and prayer.  Sometimes\, there’s food to share as well! \nIf you’d like to join a Life Group\, please speak to one of the elders on a Sunday or email contact@christchurchfareham.co.uk
URL:https://christchurchfareham.co.uk/events/wednesday-life-group-29/
CATEGORIES:Wednesday Life Group
END:VEVENT
BEGIN:VEVENT
DTSTART;TZID=Europe/London:20250115T193000
DTEND;TZID=Europe/London:20250115T210000
DTSTAMP:20260421T163827
CREATED:20241002T091800Z
LAST-MODIFIED:20241223T111750Z
UID:10177-1736969400-1736974800@christchurchfareham.co.uk
SUMMARY:Week of Prayer – Wednesday Life Group
DESCRIPTION:We have multiple life groups that meet midweek on Tuesday\, Wednesday and Thursday nights.  These groups meet in people’s homes and are all about fun\, friendship\, bible study and prayer.  Sometimes\, there’s food to share as well! \nIf you’d like to join a Life Group\, please speak to one of the elders on a Sunday or email contact@christchurchfareham.co.uk \nAs part of our Week of Prayer all life groups will this week devote the night to prayer.
URL:https://christchurchfareham.co.uk/events/wednesday-life-group-28/
CATEGORIES:Wednesday Life Group
END:VEVENT
BEGIN:VEVENT
DTSTART;TZID=Europe/London:20230329T193000
DTEND;TZID=Europe/London:20230329T210000
DTSTAMP:20260421T163827
CREATED:20221213T115500Z
LAST-MODIFIED:20221213T115500Z
UID:8686-1680118200-1680123600@christchurchfareham.co.uk
SUMMARY:Wednesday Life Group
DESCRIPTION:We have three Life Groups that meet across the week on Tuesday\, Wednesday and Thursday.  These groups meet in people’s homes and are all about fun\, friendship and prayer.  Sometimes\, there’s food to share as well!  If you’d like to join a Life Group\, please speak to one of the elders on a Sunday or email contact@christchurchfareham.co.uk
URL:https://christchurchfareham.co.uk/events/wednesday-life-group-17/
CATEGORIES:Wednesday Life Group
END:VEVENT
BEGIN:VEVENT
DTSTART;TZID=Europe/London:20230322T193000
DTEND;TZID=Europe/London:20230322T210000
DTSTAMP:20260421T163827
CREATED:20221213T115155Z
LAST-MODIFIED:20221213T115155Z
UID:8678-1679513400-1679518800@christchurchfareham.co.uk
SUMMARY:Wednesday Life Group
DESCRIPTION:We have three Life Groups that meet across the week on Tuesday\, Wednesday and Thursday.  These groups meet in people’s homes and are all about fun\, friendship and prayer.  Sometimes\, there’s food to share as well!  If you’d like to join a Life Group\, please speak to one of the elders on a Sunday or email contact@christchurchfareham.co.uk
URL:https://christchurchfareham.co.uk/events/wednesday-life-group-16/
CATEGORIES:Wednesday Life Group
END:VEVENT
BEGIN:VEVENT
DTSTART;TZID=Europe/London:20230315T193000
DTEND;TZID=Europe/London:20230315T210000
DTSTAMP:20260421T163827
CREATED:20221213T114924Z
LAST-MODIFIED:20221213T114924Z
UID:8672-1678908600-1678914000@christchurchfareham.co.uk
SUMMARY:Wednesday Life Group
DESCRIPTION:We have three Life Groups that meet across the week on Tuesday\, Wednesday and Thursday.  These groups meet in people’s homes and are all about fun\, friendship and prayer.  Sometimes\, there’s food to share as well!  If you’d like to join a Life Group\, please speak to one of the elders on a Sunday or email contact@christchurchfareham.co.uk
URL:https://christchurchfareham.co.uk/events/wednesday-life-group-15/
CATEGORIES:Wednesday Life Group
END:VEVENT
BEGIN:VEVENT
DTSTART;TZID=Europe/London:20230301T193000
DTEND;TZID=Europe/London:20230301T210000
DTSTAMP:20260421T163827
CREATED:20221213T114650Z
LAST-MODIFIED:20221213T114650Z
UID:8666-1677699000-1677704400@christchurchfareham.co.uk
SUMMARY:Wednesday Life Group
DESCRIPTION:We have three Life Groups that meet across the week on Tuesday\, Wednesday and Thursday.  These groups meet in people’s homes and are all about fun\, friendship and prayer.  Sometimes\, there’s food to share as well!  If you’d like to join a Life Group\, please speak to one of the elders on a Sunday or email contact@christchurchfareham.co.uk
URL:https://christchurchfareham.co.uk/events/wednesday-life-group-14/
CATEGORIES:Wednesday Life Group
END:VEVENT
END:VCALENDAR