BEGIN:VCALENDAR
VERSION:2.0
PRODID:-//Christ Church Fareham | A Christian Church in Fareham - ECPv6.15.13.1//NONSGML v1.0//EN
CALSCALE:GREGORIAN
METHOD:PUBLISH
X-ORIGINAL-URL:https://christchurchfareham.co.uk
X-WR-CALDESC:Events for Christ Church Fareham | A Christian Church in Fareham
REFRESH-INTERVAL;VALUE=DURATION:PT1H
X-Robots-Tag:noindex
X-PUBLISHED-TTL:PT1H
BEGIN:VTIMEZONE
TZID:Europe/London
BEGIN:DAYLIGHT
TZOFFSETFROM:+0000
TZOFFSETTO:+0100
TZNAME:BST
DTSTART:20210328T010000
END:DAYLIGHT
BEGIN:STANDARD
TZOFFSETFROM:+0100
TZOFFSETTO:+0000
TZNAME:GMT
DTSTART:20211031T010000
END:STANDARD
BEGIN:DAYLIGHT
TZOFFSETFROM:+0000
TZOFFSETTO:+0100
TZNAME:BST
DTSTART:20220327T010000
END:DAYLIGHT
BEGIN:STANDARD
TZOFFSETFROM:+0100
TZOFFSETTO:+0000
TZNAME:GMT
DTSTART:20221030T010000
END:STANDARD
BEGIN:DAYLIGHT
TZOFFSETFROM:+0000
TZOFFSETTO:+0100
TZNAME:BST
DTSTART:20230326T010000
END:DAYLIGHT
BEGIN:STANDARD
TZOFFSETFROM:+0100
TZOFFSETTO:+0000
TZNAME:GMT
DTSTART:20231029T010000
END:STANDARD
END:VTIMEZONE
BEGIN:VEVENT
DTSTART;TZID=Europe/London:20221129T193000
DTEND;TZID=Europe/London:20221129T210000
DTSTAMP:20260422T011041
CREATED:20220927T143006Z
LAST-MODIFIED:20220927T143006Z
UID:8385-1669750200-1669755600@christchurchfareham.co.uk
SUMMARY:Tuesday Life Group
DESCRIPTION:We have three Life Groups that meet across the week on Tuesday\, Wednesday and Thursday.  These groups meet in people’s homes and are all about fun\, friendship and prayer.  Sometimes\, there’s food to share as well!  If you’d like to join a Life Group\, please speak to one of the elders on a Sunday or email contact@christchurchfareham.co.uk
URL:https://christchurchfareham.co.uk/events/tuesday-life-group-7/
CATEGORIES:Tuesday Life Group
END:VEVENT
BEGIN:VEVENT
DTSTART;TZID=Europe/London:20221122T193000
DTEND;TZID=Europe/London:20221122T210000
DTSTAMP:20260422T011041
CREATED:20220927T142854Z
LAST-MODIFIED:20220927T142854Z
UID:8383-1669145400-1669150800@christchurchfareham.co.uk
SUMMARY:Tuesday Life Group
DESCRIPTION:We have three Life Groups that meet across the week on Tuesday\, Wednesday and Thursday.  These groups meet in people’s homes and are all about fun\, friendship and prayer.  Sometimes\, there’s food to share as well!  If you’d like to join a Life Group\, please speak to one of the elders on a Sunday or email contact@christchurchfareham.co.uk
URL:https://christchurchfareham.co.uk/events/tuesday-life-group-6/
CATEGORIES:Tuesday Life Group
END:VEVENT
BEGIN:VEVENT
DTSTART;TZID=Europe/London:20221115T193000
DTEND;TZID=Europe/London:20221115T210000
DTSTAMP:20260422T011041
CREATED:20220927T142728Z
LAST-MODIFIED:20220927T142728Z
UID:8381-1668540600-1668546000@christchurchfareham.co.uk
SUMMARY:Tuesday Life Group
DESCRIPTION:We have three Life Groups that meet across the week on Tuesday\, Wednesday and Thursday.  These groups meet in people’s homes and are all about fun\, friendship and prayer.  Sometimes\, there’s food to share as well!  If you’d like to join a Life Group\, please speak to one of the elders on a Sunday or email contact@christchurchfareham.co.uk
URL:https://christchurchfareham.co.uk/events/tuesday-life-group-5/
CATEGORIES:Tuesday Life Group
END:VEVENT
BEGIN:VEVENT
DTSTART;TZID=Europe/London:20221108T193000
DTEND;TZID=Europe/London:20221108T210000
DTSTAMP:20260422T011041
CREATED:20220927T142630Z
LAST-MODIFIED:20220927T142630Z
UID:8379-1667935800-1667941200@christchurchfareham.co.uk
SUMMARY:Tuesday Life Group
DESCRIPTION:We have three Life Groups that meet across the week on Tuesday\, Wednesday and Thursday.  These groups meet in people’s homes and are all about fun\, friendship and prayer.  Sometimes\, there’s food to share as well!  If you’d like to join a Life Group\, please speak to one of the elders on a Sunday or email contact@christchurchfareham.co.uk
URL:https://christchurchfareham.co.uk/events/tuesday-life-group-4/
CATEGORIES:Tuesday Life Group
END:VEVENT
BEGIN:VEVENT
DTSTART;TZID=Europe/London:20221025T193000
DTEND;TZID=Europe/London:20221025T210000
DTSTAMP:20260422T011041
CREATED:20220927T142508Z
LAST-MODIFIED:20220927T142508Z
UID:8377-1666726200-1666731600@christchurchfareham.co.uk
SUMMARY:Tuesday Life Group
DESCRIPTION:We have three Life Groups that meet across the week on Tuesday\, Wednesday and Thursday.  These groups meet in people’s homes and are all about fun\, friendship and prayer.  Sometimes\, there’s food to share as well!  If you’d like to join a Life Group\, please speak to one of the elders on a Sunday or email contact@christchurchfareham.co.uk
URL:https://christchurchfareham.co.uk/events/tuesday-life-group-3/
CATEGORIES:Tuesday Life Group
END:VEVENT
BEGIN:VEVENT
DTSTART;TZID=Europe/London:20221018T193000
DTEND;TZID=Europe/London:20221018T210000
DTSTAMP:20260422T011041
CREATED:20220927T142216Z
LAST-MODIFIED:20220927T142216Z
UID:8375-1666121400-1666126800@christchurchfareham.co.uk
SUMMARY:Tuesday Life Group
DESCRIPTION:We have three Life Groups that meet across the week on Tuesday\, Wednesday and Thursday.  These groups meet in people’s homes and are all about fun\, friendship and prayer.  Sometimes\, there’s food to share as well!  If you’d like to join a Life Group\, please speak to one of the elders on a Sunday or email contact@christchurchfareham.co.uk
URL:https://christchurchfareham.co.uk/events/tuesday-life-group-2/
CATEGORIES:Tuesday Life Group
END:VEVENT
BEGIN:VEVENT
DTSTART;TZID=Europe/London:20221011T193000
DTEND;TZID=Europe/London:20221011T210000
DTSTAMP:20260422T011041
CREATED:20220927T142117Z
LAST-MODIFIED:20220927T142117Z
UID:8373-1665516600-1665522000@christchurchfareham.co.uk
SUMMARY:Tuesday Life Group
DESCRIPTION:We have three Life Groups that meet across the week on Tuesday\, Wednesday and Thursday.  These groups meet in people’s homes and are all about fun\, friendship and prayer.  Sometimes\, there’s food to share as well!  If you’d like to join a Life Group\, please speak to one of the elders on a Sunday or email contact@christchurchfareham.co.uk
URL:https://christchurchfareham.co.uk/events/tuesday-life-group/
CATEGORIES:Tuesday Life Group
END:VEVENT
BEGIN:VEVENT
DTSTART;TZID=Europe/London:20220419T193000
DTEND;TZID=Europe/London:20220419T210000
DTSTAMP:20260422T011041
CREATED:20220411T171217Z
LAST-MODIFIED:20220411T171217Z
UID:8188-1650396600-1650402000@christchurchfareham.co.uk
SUMMARY:Tuesday Life Groups
DESCRIPTION:We have Life groups that meet weekly in people’s homes.  Life groups are a place for friendship\, fun\, prayer and discussion.  They are great places to grow and learn more and get to know people better in the Church. \nSome Life Groups eat dinner together every week and others have food from time to time. \nTo find out more about the groups that meeting on Tuesday\, email contact@christchurchfareham.co.uk or ask someone on a Sunday.
URL:https://christchurchfareham.co.uk/events/tuesday-life-groups-3/
LOCATION:Different Homes Each Week\, Ashcroft Arts Centre Osborn Rd\, Fareham\, P016 7DX\, United Kingdom
CATEGORIES:Tuesday Life Group
END:VEVENT
BEGIN:VEVENT
DTSTART;TZID=Europe/London:20220127T193000
DTEND;TZID=Europe/London:20220127T213000
DTSTAMP:20260422T011041
CREATED:20220104T192112Z
LAST-MODIFIED:20220104T192112Z
UID:8066-1643311800-1643319000@christchurchfareham.co.uk
SUMMARY:Thursday Life Group
DESCRIPTION:We have one Life Group that meets on a Thursday evening.  These groups meet in people’s homes and are all about fun\, friendship and prayer.  Sometimes\, there’s food to share as well!  If you’d like to join a Life Group\, please speak to one of the elders on a Sunday or email contact@christchurchfareham.co.uk
URL:https://christchurchfareham.co.uk/events/thursday-life-group-2/
CATEGORIES:Tuesday Life Group
END:VEVENT
BEGIN:VEVENT
DTSTART;TZID=Europe/London:20220125T193000
DTEND;TZID=Europe/London:20220125T213000
DTSTAMP:20260422T011041
CREATED:20220104T191937Z
LAST-MODIFIED:20220104T191937Z
UID:8062-1643139000-1643146200@christchurchfareham.co.uk
SUMMARY:Tuesday Life Groups
DESCRIPTION:We have two Life Groups that meet on a Tuesday evening.  These groups meet in people’s homes and are all about fun\, friendship and prayer.  Sometimes\, there’s food to share as well!  If you’d like to join a Life Group\, please speak to one of the elders on a Sunday or email contact@christchurchfareham.co.uk
URL:https://christchurchfareham.co.uk/events/tuesday-life-groups-2/
CATEGORIES:Tuesday Life Group
END:VEVENT
BEGIN:VEVENT
DTSTART;TZID=Europe/London:20220120T193000
DTEND;TZID=Europe/London:20220120T213000
DTSTAMP:20260422T011041
CREATED:20220104T192027Z
LAST-MODIFIED:20220104T192027Z
UID:8064-1642707000-1642714200@christchurchfareham.co.uk
SUMMARY:Thursday Life Group
DESCRIPTION:We have one Life Group that meets on a Thursday evening.  These groups meet in people’s homes and are all about fun\, friendship and prayer.  Sometimes\, there’s food to share as well!  If you’d like to join a Life Group\, please speak to one of the elders on a Sunday or email contact@christchurchfareham.co.uk
URL:https://christchurchfareham.co.uk/events/thursday-life-group/
CATEGORIES:Tuesday Life Group
END:VEVENT
BEGIN:VEVENT
DTSTART;TZID=Europe/London:20220118T193000
DTEND;TZID=Europe/London:20220118T213000
DTSTAMP:20260422T011041
CREATED:20220104T191840Z
LAST-MODIFIED:20220104T191840Z
UID:8060-1642534200-1642541400@christchurchfareham.co.uk
SUMMARY:Tuesday Life Groups
DESCRIPTION:We have two Life Groups that meet on a Tuesday evening.  These groups meet in people’s homes and are all about fun\, friendship and prayer.  Sometimes\, there’s food to share as well!  If you’d like to join a Life Group\, please speak to one of the elders on a Sunday or email contact@christchurchfareham.co.uk
URL:https://christchurchfareham.co.uk/events/tuesday-life-groups/
CATEGORIES:Tuesday Life Group
END:VEVENT
END:VCALENDAR