BEGIN:VCALENDAR
VERSION:2.0
PRODID:-//Christ Church Fareham | A Christian Church in Fareham - ECPv6.15.13.1//NONSGML v1.0//EN
CALSCALE:GREGORIAN
METHOD:PUBLISH
X-WR-CALNAME:Christ Church Fareham | A Christian Church in Fareham
X-ORIGINAL-URL:https://christchurchfareham.co.uk
X-WR-CALDESC:Events for Christ Church Fareham | A Christian Church in Fareham
REFRESH-INTERVAL;VALUE=DURATION:PT1H
X-Robots-Tag:noindex
X-PUBLISHED-TTL:PT1H
BEGIN:VTIMEZONE
TZID:Europe/London
BEGIN:DAYLIGHT
TZOFFSETFROM:+0000
TZOFFSETTO:+0100
TZNAME:BST
DTSTART:20220327T010000
END:DAYLIGHT
BEGIN:STANDARD
TZOFFSETFROM:+0100
TZOFFSETTO:+0000
TZNAME:GMT
DTSTART:20221030T010000
END:STANDARD
BEGIN:DAYLIGHT
TZOFFSETFROM:+0000
TZOFFSETTO:+0100
TZNAME:BST
DTSTART:20230326T010000
END:DAYLIGHT
BEGIN:STANDARD
TZOFFSETFROM:+0100
TZOFFSETTO:+0000
TZNAME:GMT
DTSTART:20231029T010000
END:STANDARD
BEGIN:DAYLIGHT
TZOFFSETFROM:+0000
TZOFFSETTO:+0100
TZNAME:BST
DTSTART:20240331T010000
END:DAYLIGHT
BEGIN:STANDARD
TZOFFSETFROM:+0100
TZOFFSETTO:+0000
TZNAME:GMT
DTSTART:20241027T010000
END:STANDARD
BEGIN:DAYLIGHT
TZOFFSETFROM:+0000
TZOFFSETTO:+0100
TZNAME:BST
DTSTART:20250330T010000
END:DAYLIGHT
BEGIN:STANDARD
TZOFFSETFROM:+0100
TZOFFSETTO:+0000
TZNAME:GMT
DTSTART:20251026T010000
END:STANDARD
BEGIN:DAYLIGHT
TZOFFSETFROM:+0000
TZOFFSETTO:+0100
TZNAME:BST
DTSTART:20260329T010000
END:DAYLIGHT
BEGIN:STANDARD
TZOFFSETFROM:+0100
TZOFFSETTO:+0000
TZNAME:GMT
DTSTART:20261025T010000
END:STANDARD
END:VTIMEZONE
BEGIN:VEVENT
DTSTART;TZID=Europe/London:20251028T193000
DTEND;TZID=Europe/London:20251028T210000
DTSTAMP:20260421T194141
CREATED:20241002T110434Z
LAST-MODIFIED:20241002T110434Z
UID:10331-1761679800-1761685200@christchurchfareham.co.uk
SUMMARY:Tuesday Life Group
DESCRIPTION:We have multiple life groups that meet midweek on Tuesday\, Wednesday and Thursday nights.  These groups meet in people’s homes and are all about fun\, friendship\, bible study and prayer.  Sometimes\, there’s food to share as well! \nIf you’d like to join a Life Group\, please speak to one of the elders on a Sunday or email contact@christchurchfareham.co.uk
URL:https://christchurchfareham.co.uk/events/tuesday-life-group-86/
CATEGORIES:Tuesday Life Group
END:VEVENT
BEGIN:VEVENT
DTSTART;TZID=Europe/London:20251021T193000
DTEND;TZID=Europe/London:20251021T210000
DTSTAMP:20260421T194141
CREATED:20241002T110218Z
LAST-MODIFIED:20241002T110218Z
UID:10325-1761075000-1761080400@christchurchfareham.co.uk
SUMMARY:Tuesday Life Group
DESCRIPTION:We have multiple life groups that meet midweek on Tuesday\, Wednesday and Thursday nights.  These groups meet in people’s homes and are all about fun\, friendship\, bible study and prayer.  Sometimes\, there’s food to share as well! \nIf you’d like to join a Life Group\, please speak to one of the elders on a Sunday or email contact@christchurchfareham.co.uk
URL:https://christchurchfareham.co.uk/events/tuesday-life-group-85/
CATEGORIES:Tuesday Life Group
END:VEVENT
BEGIN:VEVENT
DTSTART;TZID=Europe/London:20251014T193000
DTEND;TZID=Europe/London:20251014T210000
DTSTAMP:20260421T194141
CREATED:20241002T110001Z
LAST-MODIFIED:20241002T110001Z
UID:10319-1760470200-1760475600@christchurchfareham.co.uk
SUMMARY:Tuesday Life Group
DESCRIPTION:We have multiple life groups that meet midweek on Tuesday\, Wednesday and Thursday nights.  These groups meet in people’s homes and are all about fun\, friendship\, bible study and prayer.  Sometimes\, there’s food to share as well! \nIf you’d like to join a Life Group\, please speak to one of the elders on a Sunday or email contact@christchurchfareham.co.uk
URL:https://christchurchfareham.co.uk/events/tuesday-life-group-84/
CATEGORIES:Tuesday Life Group
END:VEVENT
BEGIN:VEVENT
DTSTART;TZID=Europe/London:20250930T193000
DTEND;TZID=Europe/London:20250930T210000
DTSTAMP:20260421T194141
CREATED:20241002T105702Z
LAST-MODIFIED:20241002T105702Z
UID:10313-1759260600-1759266000@christchurchfareham.co.uk
SUMMARY:Tuesday Life Group
DESCRIPTION:We have multiple life groups that meet midweek on Tuesday\, Wednesday and Thursday nights.  These groups meet in people’s homes and are all about fun\, friendship\, bible study and prayer.  Sometimes\, there’s food to share as well! \nIf you’d like to join a Life Group\, please speak to one of the elders on a Sunday or email contact@christchurchfareham.co.uk
URL:https://christchurchfareham.co.uk/events/tuesday-life-group-83/
CATEGORIES:Tuesday Life Group
END:VEVENT
BEGIN:VEVENT
DTSTART;TZID=Europe/London:20250923T193000
DTEND;TZID=Europe/London:20250923T210000
DTSTAMP:20260421T194141
CREATED:20241002T105441Z
LAST-MODIFIED:20241002T105441Z
UID:10307-1758655800-1758661200@christchurchfareham.co.uk
SUMMARY:Tuesday Life Group
DESCRIPTION:We have multiple life groups that meet midweek on Tuesday\, Wednesday and Thursday nights.  These groups meet in people’s homes and are all about fun\, friendship\, bible study and prayer.  Sometimes\, there’s food to share as well! \nIf you’d like to join a Life Group\, please speak to one of the elders on a Sunday or email contact@christchurchfareham.co.uk
URL:https://christchurchfareham.co.uk/events/tuesday-life-group-82/
CATEGORIES:Tuesday Life Group
END:VEVENT
BEGIN:VEVENT
DTSTART;TZID=Europe/London:20250916T193000
DTEND;TZID=Europe/London:20250916T210000
DTSTAMP:20260421T194141
CREATED:20241002T105208Z
LAST-MODIFIED:20241002T105208Z
UID:10301-1758051000-1758056400@christchurchfareham.co.uk
SUMMARY:Tuesday Life Group
DESCRIPTION:We have multiple life groups that meet midweek on Tuesday\, Wednesday and Thursday nights.  These groups meet in people’s homes and are all about fun\, friendship\, bible study and prayer.  Sometimes\, there’s food to share as well! \nIf you’d like to join a Life Group\, please speak to one of the elders on a Sunday or email contact@christchurchfareham.co.uk
URL:https://christchurchfareham.co.uk/events/tuesday-life-group-81/
CATEGORIES:Tuesday Life Group
END:VEVENT
BEGIN:VEVENT
DTSTART;TZID=Europe/London:20250722T193000
DTEND;TZID=Europe/London:20250722T210000
DTSTAMP:20260421T194141
CREATED:20241002T104932Z
LAST-MODIFIED:20241002T104932Z
UID:10295-1753212600-1753218000@christchurchfareham.co.uk
SUMMARY:Tuesday Life Group
DESCRIPTION:We have multiple life groups that meet midweek on Tuesday\, Wednesday and Thursday nights.  These groups meet in people’s homes and are all about fun\, friendship\, bible study and prayer.  Sometimes\, there’s food to share as well! \nIf you’d like to join a Life Group\, please speak to one of the elders on a Sunday or email contact@christchurchfareham.co.uk
URL:https://christchurchfareham.co.uk/events/tuesday-life-group-80/
CATEGORIES:Tuesday Life Group
END:VEVENT
BEGIN:VEVENT
DTSTART;TZID=Europe/London:20250715T193000
DTEND;TZID=Europe/London:20250715T210000
DTSTAMP:20260421T194141
CREATED:20241002T104641Z
LAST-MODIFIED:20241002T104641Z
UID:10289-1752607800-1752613200@christchurchfareham.co.uk
SUMMARY:Tuesday Life Group
DESCRIPTION:We have multiple life groups that meet midweek on Tuesday\, Wednesday and Thursday nights.  These groups meet in people’s homes and are all about fun\, friendship\, bible study and prayer.  Sometimes\, there’s food to share as well! \nIf you’d like to join a Life Group\, please speak to one of the elders on a Sunday or email contact@christchurchfareham.co.uk
URL:https://christchurchfareham.co.uk/events/tuesday-life-group-79/
CATEGORIES:Tuesday Life Group
END:VEVENT
BEGIN:VEVENT
DTSTART;TZID=Europe/London:20250708T193000
DTEND;TZID=Europe/London:20250708T210000
DTSTAMP:20260421T194141
CREATED:20241002T104424Z
LAST-MODIFIED:20241002T104424Z
UID:10283-1752003000-1752008400@christchurchfareham.co.uk
SUMMARY:Tuesday Life Group
DESCRIPTION:We have multiple life groups that meet midweek on Tuesday\, Wednesday and Thursday nights.  These groups meet in people’s homes and are all about fun\, friendship\, bible study and prayer.  Sometimes\, there’s food to share as well! \nIf you’d like to join a Life Group\, please speak to one of the elders on a Sunday or email contact@christchurchfareham.co.uk
URL:https://christchurchfareham.co.uk/events/tuesday-life-group-78/
CATEGORIES:Tuesday Life Group
END:VEVENT
BEGIN:VEVENT
DTSTART;TZID=Europe/London:20250624T193000
DTEND;TZID=Europe/London:20250624T210000
DTSTAMP:20260421T194141
CREATED:20241002T095841Z
LAST-MODIFIED:20241002T095841Z
UID:10277-1750793400-1750798800@christchurchfareham.co.uk
SUMMARY:Tuesday Life Group
DESCRIPTION:We have multiple life groups that meet midweek on Tuesday\, Wednesday and Thursday nights.  These groups meet in people’s homes and are all about fun\, friendship\, bible study and prayer.  Sometimes\, there’s food to share as well! \nIf you’d like to join a Life Group\, please speak to one of the elders on a Sunday or email contact@christchurchfareham.co.uk
URL:https://christchurchfareham.co.uk/events/tuesday-life-group-77/
CATEGORIES:Tuesday Life Group
END:VEVENT
BEGIN:VEVENT
DTSTART;TZID=Europe/London:20250617T193000
DTEND;TZID=Europe/London:20250617T210000
DTSTAMP:20260421T194141
CREATED:20241002T095638Z
LAST-MODIFIED:20241002T095638Z
UID:10271-1750188600-1750194000@christchurchfareham.co.uk
SUMMARY:Tuesday Life Group
DESCRIPTION:We have multiple life groups that meet midweek on Tuesday\, Wednesday and Thursday nights.  These groups meet in people’s homes and are all about fun\, friendship\, bible study and prayer.  Sometimes\, there’s food to share as well! \nIf you’d like to join a Life Group\, please speak to one of the elders on a Sunday or email contact@christchurchfareham.co.uk
URL:https://christchurchfareham.co.uk/events/tuesday-life-group-76/
CATEGORIES:Tuesday Life Group
END:VEVENT
BEGIN:VEVENT
DTSTART;TZID=Europe/London:20250610T193000
DTEND;TZID=Europe/London:20250610T210000
DTSTAMP:20260421T194141
CREATED:20241002T095415Z
LAST-MODIFIED:20241002T095415Z
UID:10265-1749583800-1749589200@christchurchfareham.co.uk
SUMMARY:Tuesday Life Group
DESCRIPTION:We have multiple life groups that meet midweek on Tuesday\, Wednesday and Thursday nights.  These groups meet in people’s homes and are all about fun\, friendship\, bible study and prayer.  Sometimes\, there’s food to share as well! \nIf you’d like to join a Life Group\, please speak to one of the elders on a Sunday or email contact@christchurchfareham.co.uk
URL:https://christchurchfareham.co.uk/events/tuesday-life-group-75/
CATEGORIES:Tuesday Life Group
END:VEVENT
BEGIN:VEVENT
DTSTART;TZID=Europe/London:20250527T193000
DTEND;TZID=Europe/London:20250527T210000
DTSTAMP:20260421T194141
CREATED:20241002T095136Z
LAST-MODIFIED:20241002T095136Z
UID:10259-1748374200-1748379600@christchurchfareham.co.uk
SUMMARY:Tuesday Life Group
DESCRIPTION:We have multiple life groups that meet midweek on Tuesday\, Wednesday and Thursday nights.  These groups meet in people’s homes and are all about fun\, friendship\, bible study and prayer.  Sometimes\, there’s food to share as well! \nIf you’d like to join a Life Group\, please speak to one of the elders on a Sunday or email contact@christchurchfareham.co.uk
URL:https://christchurchfareham.co.uk/events/tuesday-life-group-74/
CATEGORIES:Tuesday Life Group
END:VEVENT
BEGIN:VEVENT
DTSTART;TZID=Europe/London:20250520T193000
DTEND;TZID=Europe/London:20250520T210000
DTSTAMP:20260421T194141
CREATED:20241002T094929Z
LAST-MODIFIED:20241002T094929Z
UID:10253-1747769400-1747774800@christchurchfareham.co.uk
SUMMARY:Tuesday Life Group
DESCRIPTION:We have multiple life groups that meet midweek on Tuesday\, Wednesday and Thursday nights.  These groups meet in people’s homes and are all about fun\, friendship\, bible study and prayer.  Sometimes\, there’s food to share as well! \nIf you’d like to join a Life Group\, please speak to one of the elders on a Sunday or email contact@christchurchfareham.co.uk
URL:https://christchurchfareham.co.uk/events/tuesday-life-group-73/
CATEGORIES:Tuesday Life Group
END:VEVENT
BEGIN:VEVENT
DTSTART;TZID=Europe/London:20250513T193000
DTEND;TZID=Europe/London:20250513T210000
DTSTAMP:20260421T194141
CREATED:20241002T094704Z
LAST-MODIFIED:20241002T094704Z
UID:10247-1747164600-1747170000@christchurchfareham.co.uk
SUMMARY:Tuesday Life Group
DESCRIPTION:We have multiple life groups that meet midweek on Tuesday\, Wednesday and Thursday nights.  These groups meet in people’s homes and are all about fun\, friendship\, bible study and prayer.  Sometimes\, there’s food to share as well! \nIf you’d like to join a Life Group\, please speak to one of the elders on a Sunday or email contact@christchurchfareham.co.uk
URL:https://christchurchfareham.co.uk/events/tuesday-life-group-72/
CATEGORIES:Tuesday Life Group
END:VEVENT
BEGIN:VEVENT
DTSTART;TZID=Europe/London:20250422T193000
DTEND;TZID=Europe/London:20250422T210000
DTSTAMP:20260421T194141
CREATED:20241002T094444Z
LAST-MODIFIED:20241002T094444Z
UID:10241-1745350200-1745355600@christchurchfareham.co.uk
SUMMARY:Tuesday Life Group
DESCRIPTION:We have multiple life groups that meet midweek on Tuesday\, Wednesday and Thursday nights.  These groups meet in people’s homes and are all about fun\, friendship\, bible study and prayer.  Sometimes\, there’s food to share as well! \nIf you’d like to join a Life Group\, please speak to one of the elders on a Sunday or email contact@christchurchfareham.co.uk
URL:https://christchurchfareham.co.uk/events/tuesday-life-group-71/
CATEGORIES:Tuesday Life Group
END:VEVENT
BEGIN:VEVENT
DTSTART;TZID=Europe/London:20250415T193000
DTEND;TZID=Europe/London:20250415T210000
DTSTAMP:20260421T194141
CREATED:20241002T094244Z
LAST-MODIFIED:20241002T094244Z
UID:10235-1744745400-1744750800@christchurchfareham.co.uk
SUMMARY:Tuesday Life Group
DESCRIPTION:We have multiple life groups that meet midweek on Tuesday\, Wednesday and Thursday nights.  These groups meet in people’s homes and are all about fun\, friendship\, bible study and prayer.  Sometimes\, there’s food to share as well! \nIf you’d like to join a Life Group\, please speak to one of the elders on a Sunday or email contact@christchurchfareham.co.uk
URL:https://christchurchfareham.co.uk/events/tuesday-life-group-70/
CATEGORIES:Tuesday Life Group
END:VEVENT
BEGIN:VEVENT
DTSTART;TZID=Europe/London:20250408T193000
DTEND;TZID=Europe/London:20250408T210000
DTSTAMP:20260421T194141
CREATED:20241002T094043Z
LAST-MODIFIED:20241002T094043Z
UID:10229-1744140600-1744146000@christchurchfareham.co.uk
SUMMARY:Tuesday Life Group
DESCRIPTION:We have multiple life groups that meet midweek on Tuesday\, Wednesday and Thursday nights.  These groups meet in people’s homes and are all about fun\, friendship\, bible study and prayer.  Sometimes\, there’s food to share as well! \nIf you’d like to join a Life Group\, please speak to one of the elders on a Sunday or email contact@christchurchfareham.co.uk
URL:https://christchurchfareham.co.uk/events/tuesday-life-group-69/
CATEGORIES:Tuesday Life Group
END:VEVENT
BEGIN:VEVENT
DTSTART;TZID=Europe/London:20250325T193000
DTEND;TZID=Europe/London:20250325T210000
DTSTAMP:20260421T194141
CREATED:20241002T093801Z
LAST-MODIFIED:20241002T093801Z
UID:10223-1742931000-1742936400@christchurchfareham.co.uk
SUMMARY:Tuesday Life Group
DESCRIPTION:We have multiple life groups that meet midweek on Tuesday\, Wednesday and Thursday nights.  These groups meet in people’s homes and are all about fun\, friendship\, bible study and prayer.  Sometimes\, there’s food to share as well! \nIf you’d like to join a Life Group\, please speak to one of the elders on a Sunday or email contact@christchurchfareham.co.uk
URL:https://christchurchfareham.co.uk/events/tuesday-life-group-68/
CATEGORIES:Tuesday Life Group
END:VEVENT
BEGIN:VEVENT
DTSTART;TZID=Europe/London:20250318T193000
DTEND;TZID=Europe/London:20250318T210000
DTSTAMP:20260421T194141
CREATED:20241002T093558Z
LAST-MODIFIED:20241002T093558Z
UID:10217-1742326200-1742331600@christchurchfareham.co.uk
SUMMARY:Tuesday Life Group
DESCRIPTION:We have multiple life groups that meet midweek on Tuesday\, Wednesday and Thursday nights.  These groups meet in people’s homes and are all about fun\, friendship\, bible study and prayer.  Sometimes\, there’s food to share as well! \nIf you’d like to join a Life Group\, please speak to one of the elders on a Sunday or email contact@christchurchfareham.co.uk
URL:https://christchurchfareham.co.uk/events/tuesday-life-group-67/
CATEGORIES:Tuesday Life Group
END:VEVENT
BEGIN:VEVENT
DTSTART;TZID=Europe/London:20250311T193000
DTEND;TZID=Europe/London:20250311T210000
DTSTAMP:20260421T194141
CREATED:20241002T093359Z
LAST-MODIFIED:20241002T093359Z
UID:10211-1741721400-1741726800@christchurchfareham.co.uk
SUMMARY:Tuesday Life Group
DESCRIPTION:We have multiple life groups that meet midweek on Tuesday\, Wednesday and Thursday nights.  These groups meet in people’s homes and are all about fun\, friendship\, bible study and prayer.  Sometimes\, there’s food to share as well! \nIf you’d like to join a Life Group\, please speak to one of the elders on a Sunday or email contact@christchurchfareham.co.uk
URL:https://christchurchfareham.co.uk/events/tuesday-life-group-66/
CATEGORIES:Tuesday Life Group
END:VEVENT
BEGIN:VEVENT
DTSTART;TZID=Europe/London:20250226T193000
DTEND;TZID=Europe/London:20250226T210000
DTSTAMP:20260421T194141
CREATED:20241002T093039Z
LAST-MODIFIED:20241002T093039Z
UID:10205-1740598200-1740603600@christchurchfareham.co.uk
SUMMARY:Wednesday Life Group
DESCRIPTION:We have multiple life groups that meet midweek on Tuesday\, Wednesday and Thursday nights.  These groups meet in people’s homes and are all about fun\, friendship\, bible study and prayer.  Sometimes\, there’s food to share as well! \nIf you’d like to join a Life Group\, please speak to one of the elders on a Sunday or email contact@christchurchfareham.co.uk
URL:https://christchurchfareham.co.uk/events/wednesday-life-group-33/
CATEGORIES:Tuesday Life Group
END:VEVENT
BEGIN:VEVENT
DTSTART;TZID=Europe/London:20250225T193000
DTEND;TZID=Europe/London:20250225T210000
DTSTAMP:20260421T194141
CREATED:20241002T093314Z
LAST-MODIFIED:20241002T093314Z
UID:10209-1740511800-1740517200@christchurchfareham.co.uk
SUMMARY:Tuesday Life Group
DESCRIPTION:We have multiple life groups that meet midweek on Tuesday\, Wednesday and Thursday nights.  These groups meet in people’s homes and are all about fun\, friendship\, bible study and prayer.  Sometimes\, there’s food to share as well! \nIf you’d like to join a Life Group\, please speak to one of the elders on a Sunday or email contact@christchurchfareham.co.uk
URL:https://christchurchfareham.co.uk/events/tuesday-life-group-65/
CATEGORIES:Tuesday Life Group
END:VEVENT
BEGIN:VEVENT
DTSTART;TZID=Europe/London:20250218T193000
DTEND;TZID=Europe/London:20250218T210000
DTSTAMP:20260421T194141
CREATED:20241002T092811Z
LAST-MODIFIED:20241002T092811Z
UID:10199-1739907000-1739912400@christchurchfareham.co.uk
SUMMARY:Tuesday Life Group
DESCRIPTION:We have multiple life groups that meet midweek on Tuesday\, Wednesday and Thursday nights.  These groups meet in people’s homes and are all about fun\, friendship\, bible study and prayer.  Sometimes\, there’s food to share as well! \nIf you’d like to join a Life Group\, please speak to one of the elders on a Sunday or email contact@christchurchfareham.co.uk
URL:https://christchurchfareham.co.uk/events/tuesday-life-group-64/
CATEGORIES:Tuesday Life Group
END:VEVENT
BEGIN:VEVENT
DTSTART;TZID=Europe/London:20250211T193000
DTEND;TZID=Europe/London:20250211T210000
DTSTAMP:20260421T194141
CREATED:20241002T092455Z
LAST-MODIFIED:20241002T092455Z
UID:10193-1739302200-1739307600@christchurchfareham.co.uk
SUMMARY:Tuesday Life Group
DESCRIPTION:We have multiple life groups that meet midweek on Tuesday\, Wednesday and Thursday nights.  These groups meet in people’s homes and are all about fun\, friendship\, bible study and prayer.  Sometimes\, there’s food to share as well! \nIf you’d like to join a Life Group\, please speak to one of the elders on a Sunday or email contact@christchurchfareham.co.uk
URL:https://christchurchfareham.co.uk/events/tuesday-life-group-63/
CATEGORIES:Tuesday Life Group
END:VEVENT
BEGIN:VEVENT
DTSTART;TZID=Europe/London:20250128T193000
DTEND;TZID=Europe/London:20250128T210000
DTSTAMP:20260421T194141
CREATED:20241002T092218Z
LAST-MODIFIED:20241002T092218Z
UID:10187-1738092600-1738098000@christchurchfareham.co.uk
SUMMARY:Tuesday Life Group
DESCRIPTION:We have multiple life groups that meet midweek on Tuesday\, Wednesday and Thursday nights.  These groups meet in people’s homes and are all about fun\, friendship\, bible study and prayer.  Sometimes\, there’s food to share as well! \nIf you’d like to join a Life Group\, please speak to one of the elders on a Sunday or email contact@christchurchfareham.co.uk
URL:https://christchurchfareham.co.uk/events/tuesday-life-group-62/
CATEGORIES:Tuesday Life Group
END:VEVENT
BEGIN:VEVENT
DTSTART;TZID=Europe/London:20250121T193000
DTEND;TZID=Europe/London:20250121T210000
DTSTAMP:20260421T194141
CREATED:20241002T091959Z
LAST-MODIFIED:20241002T091959Z
UID:10181-1737487800-1737493200@christchurchfareham.co.uk
SUMMARY:Tuesday Life Group
DESCRIPTION:We have multiple life groups that meet midweek on Tuesday\, Wednesday and Thursday nights.  These groups meet in people’s homes and are all about fun\, friendship\, bible study and prayer.  Sometimes\, there’s food to share as well! \nIf you’d like to join a Life Group\, please speak to one of the elders on a Sunday or email contact@christchurchfareham.co.uk
URL:https://christchurchfareham.co.uk/events/tuesday-life-group-61/
CATEGORIES:Tuesday Life Group
END:VEVENT
BEGIN:VEVENT
DTSTART;TZID=Europe/London:20250114T193000
DTEND;TZID=Europe/London:20250114T210000
DTSTAMP:20260421T194141
CREATED:20241002T091705Z
LAST-MODIFIED:20241223T111625Z
UID:10175-1736883000-1736888400@christchurchfareham.co.uk
SUMMARY:Week of Prayer – Tuesday Life Group
DESCRIPTION:We have multiple life groups that meet midweek on Tuesday\, Wednesday and Thursday nights.  These groups meet in people’s homes and are all about fun\, friendship\, bible study and prayer.  Sometimes\, there’s food to share as well! \nIf you’d like to join a Life Group\, please speak to one of the elders on a Sunday or email contact@christchurchfareham.co.uk \nAs part of our Week of Prayer all life groups will this week devote the night to prayer.
URL:https://christchurchfareham.co.uk/events/tuesday-life-group-53/
CATEGORIES:Tuesday Life Group
END:VEVENT
BEGIN:VEVENT
DTSTART;TZID=Europe/London:20231128T193000
DTEND;TZID=Europe/London:20231128T210000
DTSTAMP:20260421T194141
CREATED:20230904T105532Z
LAST-MODIFIED:20230904T105532Z
UID:9069-1701199800-1701205200@christchurchfareham.co.uk
SUMMARY:Tuesday Life Group
DESCRIPTION:We have multiple life groups that meet midweek from Tuesday – Thursday.  These groups meet in people’s homes and are all about fun\, friendship and prayer.  Sometimes\, there’s food to share as well!  If you’d like to join a Life Group\, please speak to one of the elders on a Sunday or email contact@christchurchfareham.co.uk
URL:https://christchurchfareham.co.uk/events/tuesday-life-group-30/
CATEGORIES:Tuesday Life Group
END:VEVENT
BEGIN:VEVENT
DTSTART;TZID=Europe/London:20231121T193000
DTEND;TZID=Europe/London:20231121T210000
DTSTAMP:20260421T194141
CREATED:20230904T105454Z
LAST-MODIFIED:20230904T105454Z
UID:9067-1700595000-1700600400@christchurchfareham.co.uk
SUMMARY:Tuesday Life Group
DESCRIPTION:We have multiple life groups that meet midweek from Tuesday – Thursday.  These groups meet in people’s homes and are all about fun\, friendship and prayer.  Sometimes\, there’s food to share as well!  If you’d like to join a Life Group\, please speak to one of the elders on a Sunday or email contact@christchurchfareham.co.uk
URL:https://christchurchfareham.co.uk/events/tuesday-life-group-29/
CATEGORIES:Tuesday Life Group
END:VEVENT
END:VCALENDAR