BEGIN:VCALENDAR
VERSION:2.0
PRODID:-//Christ Church Fareham | A Christian Church in Fareham - ECPv6.15.13.1//NONSGML v1.0//EN
CALSCALE:GREGORIAN
METHOD:PUBLISH
X-ORIGINAL-URL:https://christchurchfareham.co.uk
X-WR-CALDESC:Events for Christ Church Fareham | A Christian Church in Fareham
REFRESH-INTERVAL;VALUE=DURATION:PT1H
X-Robots-Tag:noindex
X-PUBLISHED-TTL:PT1H
BEGIN:VTIMEZONE
TZID:Europe/London
BEGIN:DAYLIGHT
TZOFFSETFROM:+0000
TZOFFSETTO:+0100
TZNAME:BST
DTSTART:20210328T010000
END:DAYLIGHT
BEGIN:STANDARD
TZOFFSETFROM:+0100
TZOFFSETTO:+0000
TZNAME:GMT
DTSTART:20211031T010000
END:STANDARD
BEGIN:DAYLIGHT
TZOFFSETFROM:+0000
TZOFFSETTO:+0100
TZNAME:BST
DTSTART:20220327T010000
END:DAYLIGHT
BEGIN:STANDARD
TZOFFSETFROM:+0100
TZOFFSETTO:+0000
TZNAME:GMT
DTSTART:20221030T010000
END:STANDARD
BEGIN:DAYLIGHT
TZOFFSETFROM:+0000
TZOFFSETTO:+0100
TZNAME:BST
DTSTART:20230326T010000
END:DAYLIGHT
BEGIN:STANDARD
TZOFFSETFROM:+0100
TZOFFSETTO:+0000
TZNAME:GMT
DTSTART:20231029T010000
END:STANDARD
BEGIN:DAYLIGHT
TZOFFSETFROM:+0000
TZOFFSETTO:+0100
TZNAME:BST
DTSTART:20240331T010000
END:DAYLIGHT
BEGIN:STANDARD
TZOFFSETFROM:+0100
TZOFFSETTO:+0000
TZNAME:GMT
DTSTART:20241027T010000
END:STANDARD
END:VTIMEZONE
BEGIN:VEVENT
DTSTART;TZID=Europe/London:20230801T193000
DTEND;TZID=Europe/London:20230801T210000
DTSTAMP:20260422T025137
CREATED:20221213T121101Z
LAST-MODIFIED:20221213T121101Z
UID:8696-1690918200-1690923600@christchurchfareham.co.uk
SUMMARY:Prayer Meeting – 1st August 2023
DESCRIPTION:We gather every first Tuesday of the month to dedicate ourselves to prayer. \nThis time consists of sung worship\, free/guided prayer and utilising our spiritual gifts. It is the engine room of everything we do as a church. \nYou are most welcome to join us and enjoy a time of seeking God.
URL:https://christchurchfareham.co.uk/events/prayer-meeting-1st-august-2023/
LOCATION:Wallington Village Hall\, Broadcut\, Fareham\, PO16 8ST\, United Kingdom
CATEGORIES:Prayer Meeting
END:VEVENT
BEGIN:VEVENT
DTSTART;TZID=Europe/London:20230704T193000
DTEND;TZID=Europe/London:20230704T210000
DTSTAMP:20260422T025137
CREATED:20221213T120800Z
LAST-MODIFIED:20221213T120800Z
UID:8694-1688499000-1688504400@christchurchfareham.co.uk
SUMMARY:Prayer Meeting – 4th July 2023
DESCRIPTION:We gather every first Tuesday of the month to dedicate ourselves to prayer. \nThis time consists of sung worship\, free/guided prayer and utilising our spiritual gifts. It is the engine room of everything we do as a church. \nYou are most welcome to join us and enjoy a time of seeking God.
URL:https://christchurchfareham.co.uk/events/prayer-meeting-4th-july-2023/
LOCATION:Wallington Village Hall\, Broadcut\, Fareham\, PO16 8ST\, United Kingdom
CATEGORIES:Prayer Meeting
END:VEVENT
BEGIN:VEVENT
DTSTART;TZID=Europe/London:20230702T103000
DTEND;TZID=Europe/London:20230702T120000
DTSTAMP:20260422T025137
CREATED:20221213T132924Z
LAST-MODIFIED:20221213T132924Z
UID:8752-1688293800-1688299200@christchurchfareham.co.uk
SUMMARY:Sunday Meeting – 2nd July 2023
DESCRIPTION:We gather every Sunday at the Orchard Lea Junior School to worship God together. \nEveryone is welcome to visit us\, whether you’ve been a Christian a long time or never been to Church before. You’ll receive a warm welcome from us all\, but especially the people on the door who can show you where to go and everything you need to know. \nThe meeting consists of singing together – a mixture of modern songs and well-loved hymns\, prayer and a talk from the Bible. We don’t shy away from teaching the Bible as God’s Word\, but we aim to preach in a way that is engaging and relevant to your daily life. \nDuring the service\, there is Children’s Work\, led by DBS approved workers\, for children aged 11 and under. After the service\, we all gather for free tea and coffee. We’d love to get to know you better during this time.
URL:https://christchurchfareham.co.uk/events/sunday-meeting-2nd-july-2023/
LOCATION:Orchard Lea Junior School\,\, Kennedy Avenue\, Fareham\, PO15 6BJ\, United Kingdom
CATEGORIES:Prayer Meeting
END:VEVENT
BEGIN:VEVENT
DTSTART;TZID=Europe/London:20230606T080000
DTEND;TZID=Europe/London:20230606T170000
DTSTAMP:20260422T025137
CREATED:20221213T120558Z
LAST-MODIFIED:20221213T120558Z
UID:8692-1686038400-1686070800@christchurchfareham.co.uk
SUMMARY:Prayer Meeting – 6th June 2023
DESCRIPTION:We gather every first Tuesday of the month to dedicate ourselves to prayer. \nThis time consists of sung worship\, free/guided prayer and utilising our spiritual gifts. It is the engine room of everything we do as a church. \nYou are most welcome to join us and enjoy a time of seeking God.
URL:https://christchurchfareham.co.uk/events/prayer-meeting-6th-june-2023/
LOCATION:Wallington Village Hall\, Broadcut\, Fareham\, PO16 8ST\, United Kingdom
CATEGORIES:Prayer Meeting
END:VEVENT
BEGIN:VEVENT
DTSTART;TZID=Europe/London:20230502T193000
DTEND;TZID=Europe/London:20230502T210000
DTSTAMP:20260422T025137
CREATED:20221213T120455Z
LAST-MODIFIED:20221213T120455Z
UID:8690-1683055800-1683061200@christchurchfareham.co.uk
SUMMARY:Prayer Meeting – 2nd May 2023
DESCRIPTION:We gather every first Tuesday of the month to dedicate ourselves to prayer. \nThis time consists of sung worship\, free/guided prayer and utilising our spiritual gifts. It is the engine room of everything we do as a church. \nYou are most welcome to join us and enjoy a time of seeking God.
URL:https://christchurchfareham.co.uk/events/prayer-meeting-2nd-may-2023/
LOCATION:Wallington Village Hall\, Broadcut\, Fareham\, PO16 8ST\, United Kingdom
CATEGORIES:Prayer Meeting
END:VEVENT
BEGIN:VEVENT
DTSTART;TZID=Europe/London:20230404T193000
DTEND;TZID=Europe/London:20230404T210000
DTSTAMP:20260422T025137
CREATED:20221213T110335Z
LAST-MODIFIED:20221213T110335Z
UID:8618-1680636600-1680642000@christchurchfareham.co.uk
SUMMARY:Prayer Meeting – 4th April 2023
DESCRIPTION:We gather every first Tuesday of the month to dedicate ourselves to prayer. \nThis time consists of sung worship\, free/guided prayer and utilising our spiritual gifts. It is the engine room of everything we do as a church. \nYou are most welcome to join us and enjoy a time of seeking God.
URL:https://christchurchfareham.co.uk/events/prayer-meeting-4th-april-2023/
LOCATION:Wallington Village Hall\, Broadcut\, Fareham\, PO16 8ST\, United Kingdom
CATEGORIES:Prayer Meeting
END:VEVENT
BEGIN:VEVENT
DTSTART;TZID=Europe/London:20230307T193000
DTEND;TZID=Europe/London:20230307T210000
DTSTAMP:20260422T025137
CREATED:20221213T110215Z
LAST-MODIFIED:20221213T110215Z
UID:8616-1678217400-1678222800@christchurchfareham.co.uk
SUMMARY:Prayer Meeting – 7th March 2023
DESCRIPTION:We gather every first Tuesday of the month to dedicate ourselves to prayer. \nThis time consists of sung worship\, free/guided prayer and utilising our spiritual gifts. It is the engine room of everything we do as a church. \nYou are most welcome to join us and enjoy a time of seeking God.
URL:https://christchurchfareham.co.uk/events/prayer-meeting-7th-march-2023/
LOCATION:Wallington Village Hall\, Broadcut\, Fareham\, PO16 8ST\, United Kingdom
CATEGORIES:Prayer Meeting
END:VEVENT
BEGIN:VEVENT
DTSTART;TZID=Europe/London:20230207T193000
DTEND;TZID=Europe/London:20230207T210000
DTSTAMP:20260422T025137
CREATED:20221213T110052Z
LAST-MODIFIED:20221213T110052Z
UID:8614-1675798200-1675803600@christchurchfareham.co.uk
SUMMARY:Prayer Meeting – 7th February 2023
DESCRIPTION:We gather every first Tuesday of the month to dedicate ourselves to prayer. \nThis time consists of sung worship\, free/guided prayer and utilising our spiritual gifts. It is the engine room of everything we do as a church. \nYou are most welcome to join us and enjoy a time of seeking God.
URL:https://christchurchfareham.co.uk/events/prayer-meeting-7th-february-2023/
LOCATION:Wallington Village Hall\, Broadcut\, Fareham\, PO16 8ST\, United Kingdom
CATEGORIES:Prayer Meeting
END:VEVENT
BEGIN:VEVENT
DTSTART;TZID=Europe/London:20230111T193000
DTEND;TZID=Europe/London:20230111T210000
DTSTAMP:20260422T025137
CREATED:20221213T105825Z
LAST-MODIFIED:20221213T105825Z
UID:8612-1673465400-1673470800@christchurchfareham.co.uk
SUMMARY:Prayer Meeting – 11th January 2023
DESCRIPTION:We are starting the year by having two nights of consecutive prayer. This is the engine room in everything we do as a church. \nThese meetings will include sung worship\, free/guided prayer and utilising our spiritual gifts. We want to commit the year ahead to God and give time to hearing from him. \nYou are most welcome to join us for either or both of these evenings.
URL:https://christchurchfareham.co.uk/events/prayer-meeting-11th-january-2023/
LOCATION:Wallington Village Hall\, Broadcut\, Fareham\, PO16 8ST\, United Kingdom
CATEGORIES:Prayer Meeting
END:VEVENT
BEGIN:VEVENT
DTSTART;TZID=Europe/London:20230110T193000
DTEND;TZID=Europe/London:20230110T210000
DTSTAMP:20260422T025137
CREATED:20221213T105729Z
LAST-MODIFIED:20221213T105729Z
UID:8610-1673379000-1673384400@christchurchfareham.co.uk
SUMMARY:Prayer Meeting – 10th January 2023
DESCRIPTION:We are starting the year by having two nights of consecutive prayer. This is the engine room in everything we do as a church. \nThese meetings will include sung worship\, free/guided prayer and utilising our spiritual gifts. We want to commit the year ahead to God and give time to hearing from him. \nYou are most welcome to join us for either or both of these evenings.
URL:https://christchurchfareham.co.uk/events/prayer-meeting-10th-january-2023/
LOCATION:Wallington Village Hall\, Broadcut\, Fareham\, PO16 8ST\, United Kingdom
CATEGORIES:Prayer Meeting
END:VEVENT
BEGIN:VEVENT
DTSTART;TZID=Europe/London:20221206T193000
DTEND;TZID=Europe/London:20221206T210000
DTSTAMP:20260422T025137
CREATED:20220926T153655Z
LAST-MODIFIED:20220926T153655Z
UID:8342-1670355000-1670360400@christchurchfareham.co.uk
SUMMARY:Prayer Meeting – 6th December 2022
DESCRIPTION:We gather every first Tuesday of the month to dedicate ourselves to prayer. \nThis time consists of sung worship\, free and guided prayer. It is the engine room of everything we do as a church. \nYou are most welcome to join us and enjoy a time of seeking God.
URL:https://christchurchfareham.co.uk/events/prayer-meeting-6th-december-2022/
LOCATION:Wallington Village Hall\, Broadcut\, Fareham\, PO16 8ST\, United Kingdom
CATEGORIES:Prayer Meeting
END:VEVENT
BEGIN:VEVENT
DTSTART;TZID=Europe/London:20221101T193000
DTEND;TZID=Europe/London:20221101T210000
DTSTAMP:20260422T025137
CREATED:20220926T153548Z
LAST-MODIFIED:20220926T153548Z
UID:8340-1667331000-1667336400@christchurchfareham.co.uk
SUMMARY:Prayer Meeting – 1st November 2022
DESCRIPTION:We gather every first Tuesday of the month to dedicate ourselves to prayer. \nThis time consists of sung worship\, free and guided prayer. It is the engine room of everything we do as a church. \nYou are most welcome to join us and enjoy a time of seeking God.
URL:https://christchurchfareham.co.uk/events/prayer-meeting-1st-november-2022/
LOCATION:Wallington Village Hall\, Broadcut\, Fareham\, PO16 8ST\, United Kingdom
CATEGORIES:Prayer Meeting
END:VEVENT
BEGIN:VEVENT
DTSTART;TZID=Europe/London:20221004T193000
DTEND;TZID=Europe/London:20221004T210000
DTSTAMP:20260422T025137
CREATED:20220926T153400Z
LAST-MODIFIED:20220926T153400Z
UID:8337-1664911800-1664917200@christchurchfareham.co.uk
SUMMARY:Prayer Meeting – 4th October 2022
DESCRIPTION:We gather every first Tuesday of the month to dedicate ourselves to prayer. \nThis time consists of sung worship\, free and guided prayer. It is the engine room of everything we do as a church. \nYou are most welcome to join us and enjoy a time of seeking God.
URL:https://christchurchfareham.co.uk/events/prayer-meeting-4th-october-2022/
LOCATION:Wallington Village Hall\, Broadcut\, Fareham\, PO16 8ST\, United Kingdom
CATEGORIES:Prayer Meeting
END:VEVENT
BEGIN:VEVENT
DTSTART;TZID=Europe/London:20220602T193000
DTEND;TZID=Europe/London:20220602T210000
DTSTAMP:20260422T025137
CREATED:20220405T115644Z
LAST-MODIFIED:20220405T115644Z
UID:8168-1654198200-1654203600@christchurchfareham.co.uk
SUMMARY:Prayer Meeting - 2nd June 2022
DESCRIPTION:On the first Tuesday of the month\, the whole Church gathers to pray together.  We share important news and prayer points\, as well as leaving lots of space for God to guide us and move powerfully in our midst. \nWe often have times of spontaneous singing\, prophetic words shared and guidance received. \nWe pray for one another\, for the Church\, for our nation and for the World.  These are always powerful and encouraging times in God’s presence.
URL:https://christchurchfareham.co.uk/events/prayer-meeting-2nd-june-2022/
LOCATION:Ashcroft Arts Centre\, Ashcroft Arts Centre\, Osborn Road\, Fareham\, PO16 7DX\, United Kingdom
CATEGORIES:Prayer Meeting
END:VEVENT
BEGIN:VEVENT
DTSTART;TZID=Europe/London:20220503T193000
DTEND;TZID=Europe/London:20220503T210000
DTSTAMP:20260422T025137
CREATED:20220405T115556Z
LAST-MODIFIED:20220405T115556Z
UID:8166-1651606200-1651611600@christchurchfareham.co.uk
SUMMARY:Prayer Meeting - 3rd May 2022
DESCRIPTION:On the first Tuesday of the month\, the whole Church gathers to pray together.  We share important news and prayer points\, as well as leaving lots of space for God to guide us and move powerfully in our midst. \nWe often have times of spontaneous singing\, prophetic words shared and guidance received. \nWe pray for one another\, for the Church\, for our nation and for the World.  These are always powerful and encouraging times in God’s presence.
URL:https://christchurchfareham.co.uk/events/prayer-meeting-3rd-may-2022/
LOCATION:Ashcroft Arts Centre\, Ashcroft Arts Centre\, Osborn Road\, Fareham\, PO16 7DX\, United Kingdom
CATEGORIES:Prayer Meeting
END:VEVENT
BEGIN:VEVENT
DTSTART;TZID=Europe/London:20220405T193000
DTEND;TZID=Europe/London:20220405T210000
DTSTAMP:20260422T025137
CREATED:20220405T115513Z
LAST-MODIFIED:20220405T115513Z
UID:8164-1649187000-1649192400@christchurchfareham.co.uk
SUMMARY:Prayer Meeting - 5th April
DESCRIPTION:On the first Tuesday of the month\, the whole Church gathers to pray together.  We share important news and prayer points\, as well as leaving lots of space for God to guide us and move powerfully in our midst. \nWe often have times of spontaneous singing\, prophetic words shared and guidance received. \nWe pray for one another\, for the Church\, for our nation and for the World.  These are always powerful and encouraging times in God’s presence.
URL:https://christchurchfareham.co.uk/events/prayer-meeting-5th-april/
LOCATION:Ashcroft Arts Centre\, Ashcroft Arts Centre\, Osborn Road\, Fareham\, PO16 7DX\, United Kingdom
CATEGORIES:Prayer Meeting
END:VEVENT
BEGIN:VEVENT
DTSTART;TZID=Europe/London:20220111T193000
DTEND;TZID=Europe/London:20220111T210000
DTSTAMP:20260422T025137
CREATED:20220104T191431Z
LAST-MODIFIED:20220104T191610Z
UID:8054-1641929400-1641934800@christchurchfareham.co.uk
SUMMARY:Church Prayer Meeting
DESCRIPTION:Once a month we love to come together as a Church on a Tuesday evening and pray together.  The meeting is always a mixture of praise\, thanksgiving and petition.  There is a freedom in these meetings for everyone to contribute and we expect God to speak to us prophetically\, through scripture and through testimonies and encouragements.  We pray for our Church\, our country and for nations around the World\, particularly areas which we support financially.
URL:https://christchurchfareham.co.uk/events/church-prayer-meeting/
LOCATION:Ashcroft Arts Centre\, Ashcroft Arts Centre\, Osborn Road\, Fareham\, PO16 7DX\, United Kingdom
CATEGORIES:Prayer Meeting
END:VEVENT
END:VCALENDAR