BEGIN:VCALENDAR
VERSION:2.0
PRODID:-//Christ Church Fareham | A Christian Church in Fareham - ECPv6.15.13.1//NONSGML v1.0//EN
CALSCALE:GREGORIAN
METHOD:PUBLISH
X-WR-CALNAME:Christ Church Fareham | A Christian Church in Fareham
X-ORIGINAL-URL:https://christchurchfareham.co.uk
X-WR-CALDESC:Events for Christ Church Fareham | A Christian Church in Fareham
REFRESH-INTERVAL;VALUE=DURATION:PT1H
X-Robots-Tag:noindex
X-PUBLISHED-TTL:PT1H
BEGIN:VTIMEZONE
TZID:Europe/London
BEGIN:DAYLIGHT
TZOFFSETFROM:+0000
TZOFFSETTO:+0100
TZNAME:BST
DTSTART:20220327T010000
END:DAYLIGHT
BEGIN:STANDARD
TZOFFSETFROM:+0100
TZOFFSETTO:+0000
TZNAME:GMT
DTSTART:20221030T010000
END:STANDARD
BEGIN:DAYLIGHT
TZOFFSETFROM:+0000
TZOFFSETTO:+0100
TZNAME:BST
DTSTART:20230326T010000
END:DAYLIGHT
BEGIN:STANDARD
TZOFFSETFROM:+0100
TZOFFSETTO:+0000
TZNAME:GMT
DTSTART:20231029T010000
END:STANDARD
BEGIN:DAYLIGHT
TZOFFSETFROM:+0000
TZOFFSETTO:+0100
TZNAME:BST
DTSTART:20240331T010000
END:DAYLIGHT
BEGIN:STANDARD
TZOFFSETFROM:+0100
TZOFFSETTO:+0000
TZNAME:GMT
DTSTART:20241027T010000
END:STANDARD
BEGIN:DAYLIGHT
TZOFFSETFROM:+0000
TZOFFSETTO:+0100
TZNAME:BST
DTSTART:20250330T010000
END:DAYLIGHT
BEGIN:STANDARD
TZOFFSETFROM:+0100
TZOFFSETTO:+0000
TZNAME:GMT
DTSTART:20251026T010000
END:STANDARD
END:VTIMEZONE
BEGIN:VEVENT
DTSTART;TZID=Europe/London:20240903T193000
DTEND;TZID=Europe/London:20240903T210000
DTSTAMP:20260421T234811
CREATED:20231130T100758Z
LAST-MODIFIED:20240819T121629Z
UID:9470-1725391800-1725397200@christchurchfareham.co.uk
SUMMARY:Prayer Meeting – 3rd September 2024
DESCRIPTION:We normally gather on the first Tuesday of the month to dedicate ourselves to prayer. \nThis time consists of sung worship\, free/guided prayer and utilising our spiritual gifts. It is the engine room of everything we do as a church. \nYou are most welcome to join us and enjoy a time of seeking God.
URL:https://christchurchfareham.co.uk/events/prayer-meeting-3rd-september-2024/
LOCATION:Broadlaw Community Centre\, Mitre Court\, Bishopsfield Road\, Fareham\, PO14 1LE
CATEGORIES:Prayer Meeting
END:VEVENT
BEGIN:VEVENT
DTSTART;TZID=Europe/London:20240818T190000
DTEND;TZID=Europe/London:20240818T203000
DTSTAMP:20260421T234811
CREATED:20231128T161247Z
LAST-MODIFIED:20240429T104754Z
UID:9448-1724007600-1724013000@christchurchfareham.co.uk
SUMMARY:Prayer Meeting – 18th August 2024
DESCRIPTION:We normally gather on the third Sunday evening of the month to dedicate ourselves to prayer. \nThis time consists of sung worship\, free/guided prayer and utilising our spiritual gifts. It is the engine room of everything we do as a church. \nYou are most welcome to join us and enjoy a time of seeking God.
URL:https://christchurchfareham.co.uk/events/prayer-meeting-18th-august-2024/
CATEGORIES:Prayer Meeting
END:VEVENT
BEGIN:VEVENT
DTSTART;TZID=Europe/London:20240806T193000
DTEND;TZID=Europe/London:20240806T210000
DTSTAMP:20260421T234811
CREATED:20231128T160816Z
LAST-MODIFIED:20231128T160816Z
UID:9440-1722972600-1722978000@christchurchfareham.co.uk
SUMMARY:Prayer Meeting – 6th August 2024
DESCRIPTION:We normally gather on the first Tuesday of the month to dedicate ourselves to prayer. \nThis time consists of sung worship\, free/guided prayer and utilising our spiritual gifts. It is the engine room of everything we do as a church. \nYou are most welcome to join us and enjoy a time of seeking God.
URL:https://christchurchfareham.co.uk/events/prayer-meeting-6th-august-2024/
CATEGORIES:Prayer Meeting
END:VEVENT
BEGIN:VEVENT
DTSTART;TZID=Europe/London:20240721T190000
DTEND;TZID=Europe/London:20240721T203000
DTSTAMP:20260421T234811
CREATED:20231128T161150Z
LAST-MODIFIED:20240429T104829Z
UID:9446-1721588400-1721593800@christchurchfareham.co.uk
SUMMARY:Prayer Meeting – 21st July 2024
DESCRIPTION:We normally gather on the third Sunday evening of the month to dedicate ourselves to prayer. \nThis time consists of sung worship\, free/guided prayer and utilising our spiritual gifts. It is the engine room of everything we do as a church. \nYou are most welcome to join us and enjoy a time of seeking God.
URL:https://christchurchfareham.co.uk/events/prayer-meeting-21st-july-2024/
CATEGORIES:Prayer Meeting
END:VEVENT
BEGIN:VEVENT
DTSTART;TZID=Europe/London:20240702T193000
DTEND;TZID=Europe/London:20240702T210000
DTSTAMP:20260421T234811
CREATED:20231128T160728Z
LAST-MODIFIED:20231128T160728Z
UID:9438-1719948600-1719954000@christchurchfareham.co.uk
SUMMARY:Prayer Meeting – 2nd July 2024
DESCRIPTION:We normally gather on the first Tuesday of the month to dedicate ourselves to prayer. \nThis time consists of sung worship\, free/guided prayer and utilising our spiritual gifts. It is the engine room of everything we do as a church. \nYou are most welcome to join us and enjoy a time of seeking God.
URL:https://christchurchfareham.co.uk/events/prayer-meeting-2nd-july-2024/
CATEGORIES:Prayer Meeting
END:VEVENT
BEGIN:VEVENT
DTSTART;TZID=Europe/London:20240604T193000
DTEND;TZID=Europe/London:20240604T210000
DTSTAMP:20260421T234811
CREATED:20231128T160631Z
LAST-MODIFIED:20231128T160631Z
UID:9436-1717529400-1717534800@christchurchfareham.co.uk
SUMMARY:Prayer Meeting – 4th June 2024
DESCRIPTION:We normally gather on the first Tuesday of the month to dedicate ourselves to prayer. \nThis time consists of sung worship\, free/guided prayer and utilising our spiritual gifts. It is the engine room of everything we do as a church. \nYou are most welcome to join us and enjoy a time of seeking God.
URL:https://christchurchfareham.co.uk/events/prayer-meeting-4th-june-2024/
CATEGORIES:Prayer Meeting
END:VEVENT
BEGIN:VEVENT
DTSTART;TZID=Europe/London:20240519T193000
DTEND;TZID=Europe/London:20240519T210000
DTSTAMP:20260421T234811
CREATED:20231128T160948Z
LAST-MODIFIED:20231128T160948Z
UID:9442-1716147000-1716152400@christchurchfareham.co.uk
SUMMARY:Prayer Meeting – 19th May 2024
DESCRIPTION:We normally gather on the third Sunday evening of the month to dedicate ourselves to prayer. \nThis time consists of sung worship\, free/guided prayer and utilising our spiritual gifts. It is the engine room of everything we do as a church. \nYou are most welcome to join us and enjoy a time of seeking God.
URL:https://christchurchfareham.co.uk/events/prayer-meeting-19th-may-2024/
CATEGORIES:Prayer Meeting
END:VEVENT
BEGIN:VEVENT
DTSTART;TZID=Europe/London:20240507T190000
DTEND;TZID=Europe/London:20240507T203000
DTSTAMP:20260421T234811
CREATED:20231128T160524Z
LAST-MODIFIED:20240429T104426Z
UID:9434-1715108400-1715113800@christchurchfareham.co.uk
SUMMARY:Prayer Meeting – 7th May 2024
DESCRIPTION:We normally gather on the first Tuesday of the month to dedicate ourselves to prayer. \nThis time consists of sung worship\, free/guided prayer and utilising our spiritual gifts. It is the engine room of everything we do as a church. \nYou are most welcome to join us and enjoy a time of seeking God.
URL:https://christchurchfareham.co.uk/events/prayer-meeting-7th-may-2024/
CATEGORIES:Prayer Meeting
END:VEVENT
BEGIN:VEVENT
DTSTART;TZID=Europe/London:20240421T193000
DTEND;TZID=Europe/London:20240421T210000
DTSTAMP:20260421T234811
CREATED:20231128T115556Z
LAST-MODIFIED:20231128T115556Z
UID:9250-1713727800-1713733200@christchurchfareham.co.uk
SUMMARY:Prayer Meeting – 21st April 2024
DESCRIPTION:We normally gather on the third Sunday evening of the month to dedicate ourselves to prayer. \nThis time consists of sung worship\, free/guided prayer and utilising our spiritual gifts. It is the engine room of everything we do as a church. \nYou are most welcome to join us and enjoy a time of seeking God.
URL:https://christchurchfareham.co.uk/events/prayer-meeting-21st-april-2024/
CATEGORIES:Prayer Meeting
END:VEVENT
BEGIN:VEVENT
DTSTART;TZID=Europe/London:20240402T193000
DTEND;TZID=Europe/London:20240402T210000
DTSTAMP:20260421T234811
CREATED:20231128T115243Z
LAST-MODIFIED:20231128T115243Z
UID:9244-1712086200-1712091600@christchurchfareham.co.uk
SUMMARY:Prayer Meeting – 2nd April 2024
DESCRIPTION:We normally gather on the first Tuesday of the month to dedicate ourselves to prayer. \nThis time consists of sung worship\, free/guided prayer and utilising our spiritual gifts. It is the engine room of everything we do as a church. \nYou are most welcome to join us and enjoy a time of seeking God.
URL:https://christchurchfareham.co.uk/events/prayer-meeting-2nd-april-2024/
CATEGORIES:Prayer Meeting
END:VEVENT
BEGIN:VEVENT
DTSTART;TZID=Europe/London:20240317T193000
DTEND;TZID=Europe/London:20240317T210000
DTSTAMP:20260421T234811
CREATED:20231128T115454Z
LAST-MODIFIED:20231128T115634Z
UID:9248-1710703800-1710709200@christchurchfareham.co.uk
SUMMARY:Prayer Meeting – 17th March 2024
DESCRIPTION:We normally gather on the third Sunday evening of the month to dedicate ourselves to prayer. \nThis time consists of sung worship\, free/guided prayer and utilising our spiritual gifts. It is the engine room of everything we do as a church. \nYou are most welcome to join us and enjoy a time of seeking God.
URL:https://christchurchfareham.co.uk/events/prayer-meeting-17th-march-2024/
CATEGORIES:Prayer Meeting
END:VEVENT
BEGIN:VEVENT
DTSTART;TZID=Europe/London:20240305T193000
DTEND;TZID=Europe/London:20240305T210000
DTSTAMP:20260421T234811
CREATED:20231128T115154Z
LAST-MODIFIED:20231128T115154Z
UID:9242-1709667000-1709672400@christchurchfareham.co.uk
SUMMARY:Prayer Meeting – 5th March 2024
DESCRIPTION:We normally gather on the first Tuesday of the month to dedicate ourselves to prayer. \nThis time consists of sung worship\, free/guided prayer and utilising our spiritual gifts. It is the engine room of everything we do as a church. \nYou are most welcome to join us and enjoy a time of seeking God.
URL:https://christchurchfareham.co.uk/events/prayer-meeting-5th-march-2024/
CATEGORIES:Prayer Meeting
END:VEVENT
BEGIN:VEVENT
DTSTART;TZID=Europe/London:20240218T193000
DTEND;TZID=Europe/London:20240218T210000
DTSTAMP:20260421T234811
CREATED:20231128T115401Z
LAST-MODIFIED:20231128T115722Z
UID:9246-1708284600-1708290000@christchurchfareham.co.uk
SUMMARY:Prayer Meeting – 18th February 2024
DESCRIPTION:We normally gather on the third Sunday evening of the month to dedicate ourselves to prayer. \nThis time consists of sung worship\, free/guided prayer and utilising our spiritual gifts. It is the engine room of everything we do as a church. \nYou are most welcome to join us and enjoy a time of seeking God.
URL:https://christchurchfareham.co.uk/events/prayer-meeting-18th-february-2024/
CATEGORIES:Prayer Meeting
END:VEVENT
BEGIN:VEVENT
DTSTART;TZID=Europe/London:20240206T193000
DTEND;TZID=Europe/London:20240206T210000
DTSTAMP:20260421T234811
CREATED:20231128T115056Z
LAST-MODIFIED:20231128T115056Z
UID:9240-1707247800-1707253200@christchurchfareham.co.uk
SUMMARY:Prayer Meeting – 6th February 2024
DESCRIPTION:We normally gather on the first Tuesday of the month to dedicate ourselves to prayer. \nThis time consists of sung worship\, free/guided prayer and utilising our spiritual gifts. It is the engine room of everything we do as a church. \nYou are most welcome to join us and enjoy a time of seeking God.
URL:https://christchurchfareham.co.uk/events/prayer-meeting-6th-february-2024/
CATEGORIES:Prayer Meeting
END:VEVENT
BEGIN:VEVENT
DTSTART;TZID=Europe/London:20240119T193000
DTEND;TZID=Europe/London:20240119T210000
DTSTAMP:20260421T234811
CREATED:20231128T114445Z
LAST-MODIFIED:20231128T114445Z
UID:9230-1705692600-1705698000@christchurchfareham.co.uk
SUMMARY:Week of Prayer – Day Five
DESCRIPTION:We are starting 2024 by intentionally devoting ourselves to a week of prayer. Across the week we will pray in a variety of ways and in different groups. Our heart and expectation is that we would be stirred and hear from God across these evenings. \nFor a full programme of each days focus email contact@christchurchfareham.co.uk and/or speak to an Elder.
URL:https://christchurchfareham.co.uk/events/week-of-prayer-day-five/
LOCATION:Broadlaw Community Centre\, Mitre Court\, Bishopsfield Road\, Fareham\, PO14 1LE
CATEGORIES:Prayer Meeting
END:VEVENT
BEGIN:VEVENT
DTSTART;TZID=Europe/London:20240118T193000
DTEND;TZID=Europe/London:20240118T210000
DTSTAMP:20260421T234811
CREATED:20231128T114401Z
LAST-MODIFIED:20231128T114401Z
UID:9228-1705606200-1705611600@christchurchfareham.co.uk
SUMMARY:Week of Prayer – Day Four
DESCRIPTION:We are starting 2024 by intentionally devoting ourselves to a week of prayer. Across the week we will pray in a variety of ways and in different groups. Our heart and expectation is that we would be stirred and hear from God across these evenings. \nFor a full programme of each days focus email contact@christchurchfareham.co.uk and/or speak to an Elder.
URL:https://christchurchfareham.co.uk/events/week-of-prayer-day-four/
LOCATION:Broadlaw Community Centre\, Mitre Court\, Bishopsfield Road\, Fareham\, PO14 1LE
CATEGORIES:Prayer Meeting
END:VEVENT
BEGIN:VEVENT
DTSTART;TZID=Europe/London:20240117T193000
DTEND;TZID=Europe/London:20240117T210000
DTSTAMP:20260421T234811
CREATED:20231128T114321Z
LAST-MODIFIED:20231128T114321Z
UID:9226-1705519800-1705525200@christchurchfareham.co.uk
SUMMARY:Week of Prayer – Day Three
DESCRIPTION:We are starting 2024 by intentionally devoting ourselves to a week of prayer. Across the week we will pray in a variety of ways and in different groups. Our heart and expectation is that we would be stirred and hear from God across these evenings. \nFor a full programme of each days focus email contact@christchurchfareham.co.uk and/or speak to an Elder.
URL:https://christchurchfareham.co.uk/events/week-of-prayer-day-three/
LOCATION:Broadlaw Community Centre\, Mitre Court\, Bishopsfield Road\, Fareham\, PO14 1LE
CATEGORIES:Prayer Meeting
END:VEVENT
BEGIN:VEVENT
DTSTART;TZID=Europe/London:20240116T193000
DTEND;TZID=Europe/London:20240116T210000
DTSTAMP:20260421T234811
CREATED:20231128T114237Z
LAST-MODIFIED:20231128T114237Z
UID:9224-1705433400-1705438800@christchurchfareham.co.uk
SUMMARY:Week of Prayer – Day Two
DESCRIPTION:We are starting 2024 by intentionally devoting ourselves to a week of prayer. Across the week we will pray in a variety of ways and in different groups. Our heart and expectation is that we would be stirred and hear from God across these evenings. \nFor a full programme of each days focus email contact@christchurchfareham.co.uk and/or speak to an Elder.
URL:https://christchurchfareham.co.uk/events/week-of-prayer-day-two/
CATEGORIES:Prayer Meeting
END:VEVENT
BEGIN:VEVENT
DTSTART;TZID=Europe/London:20240115T193000
DTEND;TZID=Europe/London:20240115T210000
DTSTAMP:20260421T234811
CREATED:20231128T114148Z
LAST-MODIFIED:20231128T114148Z
UID:9222-1705347000-1705352400@christchurchfareham.co.uk
SUMMARY:Week of Prayer – Day One
DESCRIPTION:We are starting 2024 by intentionally devoting ourselves to a week of prayer. Across the week we will pray in a variety of ways and in different groups. Our heart and expectation is that we would be stirred and hear from God across these evenings. \nFor a full programme of each days focus email contact@christchurchfareham.co.uk and/or speak to an Elder.
URL:https://christchurchfareham.co.uk/events/week-of-prayer-day-one/
LOCATION:Broadlaw Community Centre\, Mitre Court\, Bishopsfield Road\, Fareham\, PO14 1LE
CATEGORIES:Prayer Meeting
END:VEVENT
BEGIN:VEVENT
DTSTART;TZID=Europe/London:20231205T193000
DTEND;TZID=Europe/London:20231205T210000
DTSTAMP:20260421T234811
CREATED:20221213T121456Z
LAST-MODIFIED:20231120T121138Z
UID:8704-1701804600-1701810000@christchurchfareham.co.uk
SUMMARY:Prayer Meeting – 5th December 2023
DESCRIPTION:We normally gather on the first Tuesday of the month to dedicate ourselves to prayer. \nThis time consists of sung worship\, free/guided prayer and utilising our spiritual gifts. It is the engine room of everything we do as a church. \nYou are most welcome to join us and enjoy a time of seeking God.
URL:https://christchurchfareham.co.uk/events/prayer-meeting-5th-december-2023/
LOCATION:Broadlaw Community Centre\, Mitre Court\, Bishopsfield Road\, Fareham\, PO14 1LE
CATEGORIES:Prayer Meeting
END:VEVENT
BEGIN:VEVENT
DTSTART;TZID=Europe/London:20231109T193000
DTEND;TZID=Europe/London:20231109T210000
DTSTAMP:20260421T234811
CREATED:20221213T121355Z
LAST-MODIFIED:20230904T105100Z
UID:8702-1699558200-1699563600@christchurchfareham.co.uk
SUMMARY:Prayer Meeting – 9th November 2023
DESCRIPTION:We normally gather on the first Thursday of the month to dedicate ourselves to prayer. \nThis time consists of sung worship\, free/guided prayer and utilising our spiritual gifts. It is the engine room of everything we do as a church. \nYou are most welcome to join us and enjoy a time of seeking God.
URL:https://christchurchfareham.co.uk/events/prayer-meeting-7th-november-2023/
CATEGORIES:Prayer Meeting
END:VEVENT
BEGIN:VEVENT
DTSTART;TZID=Europe/London:20231005T193000
DTEND;TZID=Europe/London:20231005T210000
DTSTAMP:20260421T234811
CREATED:20221213T121304Z
LAST-MODIFIED:20230904T104521Z
UID:8700-1696534200-1696539600@christchurchfareham.co.uk
SUMMARY:Prayer Meeting – 5th October 2023
DESCRIPTION:We gather every first Thursday of the month to dedicate ourselves to prayer. \nThis time consists of sung worship\, free/guided prayer and utilising our spiritual gifts. It is the engine room of everything we do as a church. \nYou are most welcome to join us and enjoy a time of seeking God.
URL:https://christchurchfareham.co.uk/events/prayer-meeting-3rd-october-2023/
LOCATION:Wallington Village Hall\, Broadcut\, Fareham\, PO16 8ST\, United Kingdom
CATEGORIES:Prayer Meeting
END:VEVENT
BEGIN:VEVENT
DTSTART;TZID=Europe/London:20230914T193000
DTEND;TZID=Europe/London:20230914T210000
DTSTAMP:20260421T234811
CREATED:20230904T103630Z
LAST-MODIFIED:20230904T103709Z
UID:9045-1694719800-1694725200@christchurchfareham.co.uk
SUMMARY:Prayer Meeting – 14th September 2023
DESCRIPTION:We gather every first Thursday of the month to dedicate ourselves to prayer. \nThis time consists of sung worship\, free/guided prayer and utilising our spiritual gifts. It is the engine room of everything we do as a church. \nYou are most welcome to join us and enjoy a time of seeking God.
URL:https://christchurchfareham.co.uk/events/prayer-meeting-14th-september-2023/
LOCATION:Wallington Village Hall\, Broadcut\, Fareham\, PO16 8ST\, United Kingdom
CATEGORIES:Prayer Meeting
END:VEVENT
BEGIN:VEVENT
DTSTART;TZID=Europe/London:20230905T193000
DTEND;TZID=Europe/London:20230905T210000
DTSTAMP:20260421T234811
CREATED:20221213T121205Z
LAST-MODIFIED:20230904T103419Z
UID:8698-1693942200-1693947600@christchurchfareham.co.uk
SUMMARY:Family Meeting – 5th September 2023
DESCRIPTION:This will be an evening of sharing Church news and updates. So\, if you considering yourself to be part of the CCF family this is one not to be missed!
URL:https://christchurchfareham.co.uk/events/prayer-meeting-5th-september-2023/
LOCATION:Orchard Lea Junior School\,\, Kennedy Avenue\, Fareham\, PO15 6BJ\, United Kingdom
CATEGORIES:Prayer Meeting
END:VEVENT
BEGIN:VEVENT
DTSTART;TZID=Europe/London:20230801T193000
DTEND;TZID=Europe/London:20230801T210000
DTSTAMP:20260421T234811
CREATED:20221213T121101Z
LAST-MODIFIED:20221213T121101Z
UID:8696-1690918200-1690923600@christchurchfareham.co.uk
SUMMARY:Prayer Meeting – 1st August 2023
DESCRIPTION:We gather every first Tuesday of the month to dedicate ourselves to prayer. \nThis time consists of sung worship\, free/guided prayer and utilising our spiritual gifts. It is the engine room of everything we do as a church. \nYou are most welcome to join us and enjoy a time of seeking God.
URL:https://christchurchfareham.co.uk/events/prayer-meeting-1st-august-2023/
LOCATION:Wallington Village Hall\, Broadcut\, Fareham\, PO16 8ST\, United Kingdom
CATEGORIES:Prayer Meeting
END:VEVENT
BEGIN:VEVENT
DTSTART;TZID=Europe/London:20230704T193000
DTEND;TZID=Europe/London:20230704T210000
DTSTAMP:20260421T234811
CREATED:20221213T120800Z
LAST-MODIFIED:20221213T120800Z
UID:8694-1688499000-1688504400@christchurchfareham.co.uk
SUMMARY:Prayer Meeting – 4th July 2023
DESCRIPTION:We gather every first Tuesday of the month to dedicate ourselves to prayer. \nThis time consists of sung worship\, free/guided prayer and utilising our spiritual gifts. It is the engine room of everything we do as a church. \nYou are most welcome to join us and enjoy a time of seeking God.
URL:https://christchurchfareham.co.uk/events/prayer-meeting-4th-july-2023/
LOCATION:Wallington Village Hall\, Broadcut\, Fareham\, PO16 8ST\, United Kingdom
CATEGORIES:Prayer Meeting
END:VEVENT
BEGIN:VEVENT
DTSTART;TZID=Europe/London:20230702T103000
DTEND;TZID=Europe/London:20230702T120000
DTSTAMP:20260421T234811
CREATED:20221213T132924Z
LAST-MODIFIED:20221213T132924Z
UID:8752-1688293800-1688299200@christchurchfareham.co.uk
SUMMARY:Sunday Meeting – 2nd July 2023
DESCRIPTION:We gather every Sunday at the Orchard Lea Junior School to worship God together. \nEveryone is welcome to visit us\, whether you’ve been a Christian a long time or never been to Church before. You’ll receive a warm welcome from us all\, but especially the people on the door who can show you where to go and everything you need to know. \nThe meeting consists of singing together – a mixture of modern songs and well-loved hymns\, prayer and a talk from the Bible. We don’t shy away from teaching the Bible as God’s Word\, but we aim to preach in a way that is engaging and relevant to your daily life. \nDuring the service\, there is Children’s Work\, led by DBS approved workers\, for children aged 11 and under. After the service\, we all gather for free tea and coffee. We’d love to get to know you better during this time.
URL:https://christchurchfareham.co.uk/events/sunday-meeting-2nd-july-2023/
LOCATION:Orchard Lea Junior School\,\, Kennedy Avenue\, Fareham\, PO15 6BJ\, United Kingdom
CATEGORIES:Prayer Meeting
END:VEVENT
BEGIN:VEVENT
DTSTART;TZID=Europe/London:20230606T080000
DTEND;TZID=Europe/London:20230606T170000
DTSTAMP:20260421T234811
CREATED:20221213T120558Z
LAST-MODIFIED:20221213T120558Z
UID:8692-1686038400-1686070800@christchurchfareham.co.uk
SUMMARY:Prayer Meeting – 6th June 2023
DESCRIPTION:We gather every first Tuesday of the month to dedicate ourselves to prayer. \nThis time consists of sung worship\, free/guided prayer and utilising our spiritual gifts. It is the engine room of everything we do as a church. \nYou are most welcome to join us and enjoy a time of seeking God.
URL:https://christchurchfareham.co.uk/events/prayer-meeting-6th-june-2023/
LOCATION:Wallington Village Hall\, Broadcut\, Fareham\, PO16 8ST\, United Kingdom
CATEGORIES:Prayer Meeting
END:VEVENT
BEGIN:VEVENT
DTSTART;TZID=Europe/London:20230502T193000
DTEND;TZID=Europe/London:20230502T210000
DTSTAMP:20260421T234811
CREATED:20221213T120455Z
LAST-MODIFIED:20221213T120455Z
UID:8690-1683055800-1683061200@christchurchfareham.co.uk
SUMMARY:Prayer Meeting – 2nd May 2023
DESCRIPTION:We gather every first Tuesday of the month to dedicate ourselves to prayer. \nThis time consists of sung worship\, free/guided prayer and utilising our spiritual gifts. It is the engine room of everything we do as a church. \nYou are most welcome to join us and enjoy a time of seeking God.
URL:https://christchurchfareham.co.uk/events/prayer-meeting-2nd-may-2023/
LOCATION:Wallington Village Hall\, Broadcut\, Fareham\, PO16 8ST\, United Kingdom
CATEGORIES:Prayer Meeting
END:VEVENT
BEGIN:VEVENT
DTSTART;TZID=Europe/London:20230404T193000
DTEND;TZID=Europe/London:20230404T210000
DTSTAMP:20260421T234811
CREATED:20221213T110335Z
LAST-MODIFIED:20221213T110335Z
UID:8618-1680636600-1680642000@christchurchfareham.co.uk
SUMMARY:Prayer Meeting – 4th April 2023
DESCRIPTION:We gather every first Tuesday of the month to dedicate ourselves to prayer. \nThis time consists of sung worship\, free/guided prayer and utilising our spiritual gifts. It is the engine room of everything we do as a church. \nYou are most welcome to join us and enjoy a time of seeking God.
URL:https://christchurchfareham.co.uk/events/prayer-meeting-4th-april-2023/
LOCATION:Wallington Village Hall\, Broadcut\, Fareham\, PO16 8ST\, United Kingdom
CATEGORIES:Prayer Meeting
END:VEVENT
END:VCALENDAR