BEGIN:VCALENDAR
VERSION:2.0
PRODID:-//Christ Church Fareham | A Christian Church in Fareham - ECPv6.15.13.1//NONSGML v1.0//EN
CALSCALE:GREGORIAN
METHOD:PUBLISH
X-ORIGINAL-URL:https://christchurchfareham.co.uk
X-WR-CALDESC:Events for Christ Church Fareham | A Christian Church in Fareham
REFRESH-INTERVAL;VALUE=DURATION:PT1H
X-Robots-Tag:noindex
X-PUBLISHED-TTL:PT1H
BEGIN:VTIMEZONE
TZID:Europe/London
BEGIN:DAYLIGHT
TZOFFSETFROM:+0000
TZOFFSETTO:+0100
TZNAME:BST
DTSTART:20250330T010000
END:DAYLIGHT
BEGIN:STANDARD
TZOFFSETFROM:+0100
TZOFFSETTO:+0000
TZNAME:GMT
DTSTART:20251026T010000
END:STANDARD
BEGIN:DAYLIGHT
TZOFFSETFROM:+0000
TZOFFSETTO:+0100
TZNAME:BST
DTSTART:20260329T010000
END:DAYLIGHT
BEGIN:STANDARD
TZOFFSETFROM:+0100
TZOFFSETTO:+0000
TZNAME:GMT
DTSTART:20261025T010000
END:STANDARD
BEGIN:DAYLIGHT
TZOFFSETFROM:+0000
TZOFFSETTO:+0100
TZNAME:BST
DTSTART:20270328T010000
END:DAYLIGHT
BEGIN:STANDARD
TZOFFSETFROM:+0100
TZOFFSETTO:+0000
TZNAME:GMT
DTSTART:20271031T010000
END:STANDARD
END:VTIMEZONE
BEGIN:VEVENT
DTSTART;TZID=Europe/London:20261006T193000
DTEND;TZID=Europe/London:20261006T210000
DTSTAMP:20260421T194147
CREATED:20260128T140829Z
LAST-MODIFIED:20260128T140829Z
UID:11197-1791315000-1791320400@christchurchfareham.co.uk
SUMMARY:Prayer Meeting – 6th October 2026
DESCRIPTION:We normally gather on the first Tuesday evening of the month to dedicate ourselves to prayer. \nThis time consists of sung worship\, free/guided prayer and utilising our spiritual gifts. It is the engine room of everything we do as a church. \nYou are most welcome to join us and enjoy a time of dwelling in God’s presence.
URL:https://christchurchfareham.co.uk/events/prayer-meeting-6th-october-2026/
LOCATION:Cams Hill School\, Shearwater Avenue\, Fareham\, PO16 8AH\, Shearwater Avenue\, Fareham\, PO16 8AH\, United Kingdom
CATEGORIES:Prayer Meeting
END:VEVENT
BEGIN:VEVENT
DTSTART;TZID=Europe/London:20261013T110000
DTEND;TZID=Europe/London:20261013T123000
DTSTAMP:20260421T194147
CREATED:20260128T141516Z
LAST-MODIFIED:20260128T141516Z
UID:11207-1791889200-1791894600@christchurchfareham.co.uk
SUMMARY:Daytime Prayer Meeting – 13th October 2026
DESCRIPTION:We normally gather one Tuesday morning each month to dedicate ourselves to prayer. \nThis time consists of sung worship\, free/guided prayer and utilising our spiritual gifts. It is the engine room of everything we do as a church. \nThis meeting takes place in a member’s home. For the address please email contact@christchurchfareham.co.uk \nYou are most welcome to join us and enjoy a time of dwelling in God’s presence.
URL:https://christchurchfareham.co.uk/events/daytime-prayer-meeting-13th-october-2026/
CATEGORIES:Prayer Meeting
END:VEVENT
BEGIN:VEVENT
DTSTART;TZID=Europe/London:20261103T193000
DTEND;TZID=Europe/London:20261103T210000
DTSTAMP:20260421T194147
CREATED:20260128T140935Z
LAST-MODIFIED:20260128T140935Z
UID:11199-1793734200-1793739600@christchurchfareham.co.uk
SUMMARY:Prayer Meeting – 3rd November 2026
DESCRIPTION:We normally gather on the first Tuesday evening of the month to dedicate ourselves to prayer. \nThis time consists of sung worship\, free/guided prayer and utilising our spiritual gifts. It is the engine room of everything we do as a church. \nYou are most welcome to join us and enjoy a time of dwelling in God’s presence.
URL:https://christchurchfareham.co.uk/events/prayer-meeting-3rd-november-2026/
CATEGORIES:Prayer Meeting
END:VEVENT
BEGIN:VEVENT
DTSTART;TZID=Europe/London:20261201T193000
DTEND;TZID=Europe/London:20261201T210000
DTSTAMP:20260421T194147
CREATED:20260128T141028Z
LAST-MODIFIED:20260128T141028Z
UID:11201-1796153400-1796158800@christchurchfareham.co.uk
SUMMARY:Prayer Meeting – 1st December 2026
DESCRIPTION:We normally gather on the first Tuesday evening of the month to dedicate ourselves to prayer. \nThis time consists of sung worship\, free/guided prayer and utilising our spiritual gifts. It is the engine room of everything we do as a church. \nYou are most welcome to join us and enjoy a time of dwelling in God’s presence.
URL:https://christchurchfareham.co.uk/events/prayer-meeting-1st-december-2026/
LOCATION:Cams Hill School\, Shearwater Avenue\, Fareham\, PO16 8AH\, Shearwater Avenue\, Fareham\, PO16 8AH\, United Kingdom
CATEGORIES:Prayer Meeting
END:VEVENT
BEGIN:VEVENT
DTSTART;TZID=Europe/London:20261208T110000
DTEND;TZID=Europe/London:20261208T123000
DTSTAMP:20260421T194147
CREATED:20260128T141614Z
LAST-MODIFIED:20260128T141614Z
UID:11209-1796727600-1796733000@christchurchfareham.co.uk
SUMMARY:Daytime Prayer Meeting – 8th December 2026
DESCRIPTION:We normally gather one Tuesday morning each month to dedicate ourselves to prayer. \nThis time consists of sung worship\, free/guided prayer and utilising our spiritual gifts. It is the engine room of everything we do as a church. \nThis meeting takes place in a member’s home. For the address please email contact@christchurchfareham.co.uk \nYou are most welcome to join us and enjoy a time of dwelling in God’s presence.
URL:https://christchurchfareham.co.uk/events/daytime-prayer-meeting-8th-december-2026/
CATEGORIES:Prayer Meeting
END:VEVENT
END:VCALENDAR