BEGIN:VCALENDAR
VERSION:2.0
PRODID:-//Christ Church Fareham | A Christian Church in Fareham - ECPv6.15.13.1//NONSGML v1.0//EN
CALSCALE:GREGORIAN
METHOD:PUBLISH
X-ORIGINAL-URL:https://christchurchfareham.co.uk
X-WR-CALDESC:Events for Christ Church Fareham | A Christian Church in Fareham
REFRESH-INTERVAL;VALUE=DURATION:PT1H
X-Robots-Tag:noindex
X-PUBLISHED-TTL:PT1H
BEGIN:VTIMEZONE
TZID:Europe/London
BEGIN:DAYLIGHT
TZOFFSETFROM:+0000
TZOFFSETTO:+0100
TZNAME:BST
DTSTART:20240331T010000
END:DAYLIGHT
BEGIN:STANDARD
TZOFFSETFROM:+0100
TZOFFSETTO:+0000
TZNAME:GMT
DTSTART:20241027T010000
END:STANDARD
BEGIN:DAYLIGHT
TZOFFSETFROM:+0000
TZOFFSETTO:+0100
TZNAME:BST
DTSTART:20250330T010000
END:DAYLIGHT
BEGIN:STANDARD
TZOFFSETFROM:+0100
TZOFFSETTO:+0000
TZNAME:GMT
DTSTART:20251026T010000
END:STANDARD
BEGIN:DAYLIGHT
TZOFFSETFROM:+0000
TZOFFSETTO:+0100
TZNAME:BST
DTSTART:20260329T010000
END:DAYLIGHT
BEGIN:STANDARD
TZOFFSETFROM:+0100
TZOFFSETTO:+0000
TZNAME:GMT
DTSTART:20261025T010000
END:STANDARD
BEGIN:DAYLIGHT
TZOFFSETFROM:+0000
TZOFFSETTO:+0100
TZNAME:BST
DTSTART:20270328T010000
END:DAYLIGHT
BEGIN:STANDARD
TZOFFSETFROM:+0100
TZOFFSETTO:+0000
TZNAME:GMT
DTSTART:20271031T010000
END:STANDARD
END:VTIMEZONE
BEGIN:VEVENT
DTSTART;TZID=Europe/London:20260414T110000
DTEND;TZID=Europe/London:20260414T120000
DTSTAMP:20260421T194238
CREATED:20251127T084704Z
LAST-MODIFIED:20260127T121214Z
UID:10955-1776164400-1776168000@christchurchfareham.co.uk
SUMMARY:Daytime Prayer Meeting -14th April 2026
DESCRIPTION:We normally gather one Tuesday morning each month to dedicate ourselves to prayer. \nThis time consists of sung worship\, free/guided prayer and utilising our spiritual gifts. It is the engine room of everything we do as a church. \nThis meeting takes place in a member’s home. For the address please email contact@christchurchfareham.co.uk \nYou are most welcome to join us and enjoy a time of dwelling in God’s presence.
URL:https://christchurchfareham.co.uk/events/prayer-meeting-14th-april-2026/
CATEGORIES:Prayer Meeting
END:VEVENT
BEGIN:VEVENT
DTSTART;TZID=Europe/London:20260407T193000
DTEND;TZID=Europe/London:20260407T210000
DTSTAMP:20260421T194238
CREATED:20251126T163135Z
LAST-MODIFIED:20251126T163135Z
UID:10945-1775590200-1775595600@christchurchfareham.co.uk
SUMMARY:Prayer Meeting – 7th April 2026
DESCRIPTION:We normally gather on the first Tuesday evening of the month to dedicate ourselves to prayer. \nThis time consists of sung worship\, free/guided prayer and utilising our spiritual gifts. It is the engine room of everything we do as a church. \nYou are most welcome to join us and enjoy a time of dwelling in God’s presence.
URL:https://christchurchfareham.co.uk/events/prayer-meeting-7th-april-2026/
LOCATION:Cams Hill School\, Shearwater Avenue\, Fareham\, PO16 8AH\, Shearwater Avenue\, Fareham\, PO16 8AH\, United Kingdom
CATEGORIES:Prayer Meeting
END:VEVENT
BEGIN:VEVENT
DTSTART;TZID=Europe/London:20260310T110000
DTEND;TZID=Europe/London:20260310T120000
DTSTAMP:20260421T194238
CREATED:20251126T135223Z
LAST-MODIFIED:20260127T121125Z
UID:10907-1773140400-1773144000@christchurchfareham.co.uk
SUMMARY:Daytime Prayer Meeting – 10th March 2026
DESCRIPTION:We normally gather one Tuesday morning each month to dedicate ourselves to prayer. \nThis time consists of sung worship\, free/guided prayer and utilising our spiritual gifts. It is the engine room of everything we do as a church. \nThis meeting takes place in a member’s home. For the address please email contact@christchurchfareham.co.uk \nYou are most welcome to join us and enjoy a time of dwelling in God’s presence.
URL:https://christchurchfareham.co.uk/events/prayer-meeting-10th-march-2026/
CATEGORIES:Prayer Meeting
END:VEVENT
BEGIN:VEVENT
DTSTART;TZID=Europe/London:20260303T193000
DTEND;TZID=Europe/London:20260303T210000
DTSTAMP:20260421T194238
CREATED:20251126T134739Z
LAST-MODIFIED:20251126T163213Z
UID:10901-1772566200-1772571600@christchurchfareham.co.uk
SUMMARY:Prayer Meeting – 3rd March 2026
DESCRIPTION:We normally gather on the first Tuesday evening of the month to dedicate ourselves to prayer. \nThis time consists of sung worship\, free/guided prayer and utilising our spiritual gifts. It is the engine room of everything we do as a church. \nYou are most welcome to join us and enjoy a time of dwelling in God’s presence.
URL:https://christchurchfareham.co.uk/events/prayer-meeting-3rd-march-2026/
LOCATION:Cams Hill School\, Shearwater Avenue\, Fareham\, PO16 8AH\, Shearwater Avenue\, Fareham\, PO16 8AH\, United Kingdom
CATEGORIES:Prayer Meeting
END:VEVENT
BEGIN:VEVENT
DTSTART;TZID=Europe/London:20260210T110000
DTEND;TZID=Europe/London:20260210T120000
DTSTAMP:20260421T194238
CREATED:20251126T121149Z
LAST-MODIFIED:20260127T121048Z
UID:10878-1770721200-1770724800@christchurchfareham.co.uk
SUMMARY:Daytime Prayer Meeting – 10th February 2026
DESCRIPTION:We normally gather one Tuesday morning each month to dedicate ourselves to prayer. \nThis time consists of sung worship\, free/guided prayer and utilising our spiritual gifts. It is the engine room of everything we do as a church. \nThis meeting takes place in a member’s home. For the address please email contact@christchurchfareham.co.uk \nYou are most welcome to join us and enjoy a time of dwelling in God’s presence. \n 
URL:https://christchurchfareham.co.uk/events/prayer-meeting-10th-february-2026/
CATEGORIES:Prayer Meeting
END:VEVENT
BEGIN:VEVENT
DTSTART;TZID=Europe/London:20260203T193000
DTEND;TZID=Europe/London:20260203T210000
DTSTAMP:20260421T194238
CREATED:20251126T120551Z
LAST-MODIFIED:20251126T163244Z
UID:10872-1770147000-1770152400@christchurchfareham.co.uk
SUMMARY:Prayer Meeting – 3rd February 2026
DESCRIPTION:We normally gather on the first Tuesday evening of the month to dedicate ourselves to prayer. \nThis time consists of sung worship\, free/guided prayer and utilising our spiritual gifts. It is the engine room of everything we do as a church. \nYou are most welcome to join us and enjoy a time of dwelling in God’s presence.
URL:https://christchurchfareham.co.uk/events/prayer-meeting-3rd-february-2026/
LOCATION:Cams Hill School\, Shearwater Avenue\, Fareham\, PO16 8AH\, Shearwater Avenue\, Fareham\, PO16 8AH\, United Kingdom
CATEGORIES:Prayer Meeting
END:VEVENT
BEGIN:VEVENT
DTSTART;TZID=Europe/London:20251202T193000
DTEND;TZID=Europe/London:20251202T210000
DTSTAMP:20260421T194238
CREATED:20241001T121805Z
LAST-MODIFIED:20241001T121805Z
UID:10094-1764703800-1764709200@christchurchfareham.co.uk
SUMMARY:Prayer Meeting – 2nd December 2025
DESCRIPTION:We normally gather on the first Tuesday of the month to dedicate ourselves to prayer. \nThis time consists of sung worship\, free/guided prayer and utilising our spiritual gifts. It is the engine room of everything we do as a church. \nYou are most welcome to join us and enjoy a time of dwelling in God’s presence.
URL:https://christchurchfareham.co.uk/events/prayer-meeting-2nd-december-2025/
LOCATION:Broadlaw Community Centre\, Mitre Court\, Bishopsfield Road\, Fareham\, PO14 1LE
CATEGORIES:Prayer Meeting
END:VEVENT
BEGIN:VEVENT
DTSTART;TZID=Europe/London:20251116T190000
DTEND;TZID=Europe/London:20251116T203000
DTSTAMP:20260421T194238
CREATED:20241001T134040Z
LAST-MODIFIED:20241003T101236Z
UID:10119-1763319600-1763325000@christchurchfareham.co.uk
SUMMARY:Prayer Meeting – 16th November 2025
DESCRIPTION:We normally gather for an evening of prayer on the third Sunday of each month. \nThis time normally consists of a mixture of the following\, short talk\, sung worship\, free/guided prayer and utilising our spiritual gifts. It is the engine room of everything we do as a church. \nYou are most welcome to join us and enjoy a time of dwelling in God’s presence.
URL:https://christchurchfareham.co.uk/events/prayer-meeting-16th-november-2025/
LOCATION:Wallington Village Hall\, Broadcut\, Fareham\, PO16 8ST\, United Kingdom
CATEGORIES:Prayer Meeting
END:VEVENT
BEGIN:VEVENT
DTSTART;TZID=Europe/London:20251104T193000
DTEND;TZID=Europe/London:20251104T210000
DTSTAMP:20260421T194238
CREATED:20241001T121705Z
LAST-MODIFIED:20241001T121705Z
UID:10092-1762284600-1762290000@christchurchfareham.co.uk
SUMMARY:Prayer Meeting – 4th November 2025
DESCRIPTION:We normally gather on the first Tuesday of the month to dedicate ourselves to prayer. \nThis time consists of sung worship\, free/guided prayer and utilising our spiritual gifts. It is the engine room of everything we do as a church. \nYou are most welcome to join us and enjoy a time of dwelling in God’s presence.
URL:https://christchurchfareham.co.uk/events/prayer-meeting-4th-november-2025/
LOCATION:Broadlaw Community Centre\, Mitre Court\, Bishopsfield Road\, Fareham\, PO14 1LE
CATEGORIES:Prayer Meeting
END:VEVENT
BEGIN:VEVENT
DTSTART;TZID=Europe/London:20251019T190000
DTEND;TZID=Europe/London:20251019T203000
DTSTAMP:20260421T194238
CREATED:20241001T133945Z
LAST-MODIFIED:20241003T101315Z
UID:10117-1760900400-1760905800@christchurchfareham.co.uk
SUMMARY:Prayer Meeting – 19th October 2025
DESCRIPTION:We normally gather for an evening of prayer on the third Sunday of each month. \nThis time normally consists of a mixture of the following\, short talk\, sung worship\, free/guided prayer and utilising our spiritual gifts. It is the engine room of everything we do as a church. \nYou are most welcome to join us and enjoy a time of dwelling in God’s presence.
URL:https://christchurchfareham.co.uk/events/prayer-meeting-19th-october-2025/
LOCATION:Wallington Village Hall\, Broadcut\, Fareham\, PO16 8ST\, United Kingdom
CATEGORIES:Prayer Meeting
END:VEVENT
BEGIN:VEVENT
DTSTART;TZID=Europe/London:20251007T193000
DTEND;TZID=Europe/London:20251007T210000
DTSTAMP:20260421T194238
CREATED:20241001T121611Z
LAST-MODIFIED:20241001T121611Z
UID:10090-1759865400-1759870800@christchurchfareham.co.uk
SUMMARY:Prayer Meeting – 7th October 2025
DESCRIPTION:We normally gather on the first Tuesday of the month to dedicate ourselves to prayer. \nThis time consists of sung worship\, free/guided prayer and utilising our spiritual gifts. It is the engine room of everything we do as a church. \nYou are most welcome to join us and enjoy a time of dwelling in God’s presence.
URL:https://christchurchfareham.co.uk/events/prayer-meeting-7th-october-2025/
LOCATION:Broadlaw Community Centre\, Mitre Court\, Bishopsfield Road\, Fareham\, PO14 1LE
CATEGORIES:Prayer Meeting
END:VEVENT
BEGIN:VEVENT
DTSTART;TZID=Europe/London:20250921T190000
DTEND;TZID=Europe/London:20250921T203000
DTSTAMP:20260421T194238
CREATED:20241001T133901Z
LAST-MODIFIED:20241003T101349Z
UID:10115-1758481200-1758486600@christchurchfareham.co.uk
SUMMARY:Prayer Meeting – 21st September 2025
DESCRIPTION:We normally gather for an evening of prayer on the third Sunday of each month. \nThis time normally consists of a mixture of the following\, short talk\, sung worship\, free/guided prayer and utilising our spiritual gifts. It is the engine room of everything we do as a church. \nYou are most welcome to join us and enjoy a time of dwelling in God’s presence.
URL:https://christchurchfareham.co.uk/events/prayer-meeting-21st-september-2025/
LOCATION:Wallington Village Hall\, Broadcut\, Fareham\, PO16 8ST\, United Kingdom
CATEGORIES:Prayer Meeting
END:VEVENT
BEGIN:VEVENT
DTSTART;TZID=Europe/London:20250902T193000
DTEND;TZID=Europe/London:20250902T213000
DTSTAMP:20260421T194238
CREATED:20241001T121509Z
LAST-MODIFIED:20241001T121509Z
UID:10088-1756841400-1756848600@christchurchfareham.co.uk
SUMMARY:Prayer Meeting – 2nd September 2025
DESCRIPTION:We normally gather on the first Tuesday of the month to dedicate ourselves to prayer. \nThis time consists of sung worship\, free/guided prayer and utilising our spiritual gifts. It is the engine room of everything we do as a church. \nYou are most welcome to join us and enjoy a time of dwelling in God’s presence.
URL:https://christchurchfareham.co.uk/events/prayer-meeting-2nd-september-2025/
LOCATION:Broadlaw Community Centre\, Mitre Court\, Bishopsfield Road\, Fareham\, PO14 1LE
CATEGORIES:Prayer Meeting
END:VEVENT
BEGIN:VEVENT
DTSTART;TZID=Europe/London:20250817T190000
DTEND;TZID=Europe/London:20250817T203000
DTSTAMP:20260421T194238
CREATED:20241001T133754Z
LAST-MODIFIED:20241003T101423Z
UID:10113-1755457200-1755462600@christchurchfareham.co.uk
SUMMARY:Prayer Meeting – 17th August 2025
DESCRIPTION:We normally gather for an evening of prayer on the third Sunday of each month. \nThis time normally consists of a mixture of the following\, short talk\, sung worship\, free/guided prayer and utilising our spiritual gifts. It is the engine room of everything we do as a church. \nYou are most welcome to join us and enjoy a time of dwelling in God’s presence.
URL:https://christchurchfareham.co.uk/events/prayer-meeting-17th-august-2025/
LOCATION:Wallington Village Hall\, Broadcut\, Fareham\, PO16 8ST\, United Kingdom
CATEGORIES:Prayer Meeting
END:VEVENT
BEGIN:VEVENT
DTSTART;TZID=Europe/London:20250805T193000
DTEND;TZID=Europe/London:20250805T210000
DTSTAMP:20260421T194238
CREATED:20241001T121345Z
LAST-MODIFIED:20241001T121345Z
UID:10086-1754422200-1754427600@christchurchfareham.co.uk
SUMMARY:Prayer Meeting – 5th August 2025
DESCRIPTION:We normally gather on the first Tuesday of the month to dedicate ourselves to prayer. \nThis time consists of sung worship\, free/guided prayer and utilising our spiritual gifts. It is the engine room of everything we do as a church. \nYou are most welcome to join us and enjoy a time of dwelling in God’s presence.
URL:https://christchurchfareham.co.uk/events/prayer-meeting-5th-august-2025/
LOCATION:Broadlaw Community Centre\, Mitre Court\, Bishopsfield Road\, Fareham\, PO14 1LE
CATEGORIES:Prayer Meeting
END:VEVENT
BEGIN:VEVENT
DTSTART;TZID=Europe/London:20250727T190000
DTEND;TZID=Europe/London:20250727T203000
DTSTAMP:20260421T194238
CREATED:20241001T133707Z
LAST-MODIFIED:20250617T082335Z
UID:10111-1753642800-1753648200@christchurchfareham.co.uk
SUMMARY:Prayer Meeting – 27th July 2025
DESCRIPTION:We normally gather for an evening of prayer on the third Sunday of each month. \nThis time normally consists of a mixture of the following\, short talk\, sung worship\, free/guided prayer and utilising our spiritual gifts. It is the engine room of everything we do as a church. \nYou are most welcome to join us and enjoy a time of dwelling in God’s presence.
URL:https://christchurchfareham.co.uk/events/prayer-meeting-20th-july-2024/
LOCATION:Wallington Village Hall\, Broadcut\, Fareham\, PO16 8ST\, United Kingdom
CATEGORIES:Prayer Meeting
END:VEVENT
BEGIN:VEVENT
DTSTART;TZID=Europe/London:20250701T193000
DTEND;TZID=Europe/London:20250701T210000
DTSTAMP:20260421T194238
CREATED:20241001T121212Z
LAST-MODIFIED:20241001T121212Z
UID:10084-1751398200-1751403600@christchurchfareham.co.uk
SUMMARY:Prayer Meeting – 1st July 2025
DESCRIPTION:We normally gather on the first Tuesday of the month to dedicate ourselves to prayer. \nThis time consists of sung worship\, free/guided prayer and utilising our spiritual gifts. It is the engine room of everything we do as a church. \nYou are most welcome to join us and enjoy a time of dwelling in God’s presence.
URL:https://christchurchfareham.co.uk/events/prayer-meeting-1st-july-2025/
LOCATION:Broadlaw Community Centre\, Mitre Court\, Bishopsfield Road\, Fareham\, PO14 1LE
CATEGORIES:Prayer Meeting
END:VEVENT
BEGIN:VEVENT
DTSTART;TZID=Europe/London:20250622T190000
DTEND;TZID=Europe/London:20250622T203000
DTSTAMP:20260421T194238
CREATED:20241001T133600Z
LAST-MODIFIED:20241003T101542Z
UID:10109-1750618800-1750624200@christchurchfareham.co.uk
SUMMARY:Prayer Meeting – 22nd June 2025
DESCRIPTION:We normally gather for an evening of prayer on the third Sunday of each month. \nThis time normally consists of a mixture of the following\, short talk\, sung worship\, free/guided prayer and utilising our spiritual gifts. It is the engine room of everything we do as a church. \nYou are most welcome to join us and enjoy a time of dwelling in God’s presence.
URL:https://christchurchfareham.co.uk/events/prayer-meeting-22nd-june-2025/
LOCATION:Wallington Village Hall\, Broadcut\, Fareham\, PO16 8ST\, United Kingdom
CATEGORIES:Prayer Meeting
END:VEVENT
BEGIN:VEVENT
DTSTART;TZID=Europe/London:20250603T193000
DTEND;TZID=Europe/London:20250603T210000
DTSTAMP:20260421T194238
CREATED:20241001T121109Z
LAST-MODIFIED:20241001T121109Z
UID:10082-1748979000-1748984400@christchurchfareham.co.uk
SUMMARY:Prayer Meeting – 3rd June 2025
DESCRIPTION:We normally gather on the first Tuesday of the month to dedicate ourselves to prayer. \nThis time consists of sung worship\, free/guided prayer and utilising our spiritual gifts. It is the engine room of everything we do as a church. \nYou are most welcome to join us and enjoy a time of dwelling in God’s presence.
URL:https://christchurchfareham.co.uk/events/prayer-meeting-3rd-june-2025/
LOCATION:Cams Hill School\, Shearwater Avenue\, Fareham\, PO16 8AH\, Shearwater Avenue\, Fareham\, PO16 8AH\, United Kingdom
CATEGORIES:Prayer Meeting
END:VEVENT
BEGIN:VEVENT
DTSTART;TZID=Europe/London:20250518T190000
DTEND;TZID=Europe/London:20250518T203000
DTSTAMP:20260421T194238
CREATED:20241001T133519Z
LAST-MODIFIED:20241003T101617Z
UID:10107-1747594800-1747600200@christchurchfareham.co.uk
SUMMARY:Prayer Meeting – 18th May 2025
DESCRIPTION:We normally gather for an evening of prayer on the third Sunday of each month. \nThis time normally consists of a mixture of the following\, short talk\, sung worship\, free/guided prayer and utilising our spiritual gifts. It is the engine room of everything we do as a church. \nYou are most welcome to join us and enjoy a time of dwelling in God’s presence.
URL:https://christchurchfareham.co.uk/events/prayer-meeting-18th-may-2025/
LOCATION:Wallington Village Hall\, Broadcut\, Fareham\, PO16 8ST\, United Kingdom
CATEGORIES:Prayer Meeting
END:VEVENT
BEGIN:VEVENT
DTSTART;TZID=Europe/London:20250506T193000
DTEND;TZID=Europe/London:20250506T210000
DTSTAMP:20260421T194238
CREATED:20241001T120941Z
LAST-MODIFIED:20241001T120941Z
UID:10080-1746559800-1746565200@christchurchfareham.co.uk
SUMMARY:Prayer Meeting – 6th May 2025
DESCRIPTION:We normally gather on the first Tuesday of the month to dedicate ourselves to prayer. \nThis time consists of sung worship\, free/guided prayer and utilising our spiritual gifts. It is the engine room of everything we do as a church. \nYou are most welcome to join us and enjoy a time of dwelling in God’s presence.
URL:https://christchurchfareham.co.uk/events/prayer-meeting-6th-may-2025/
LOCATION:Broadlaw Community Centre\, Mitre Court\, Bishopsfield Road\, Fareham\, PO14 1LE
CATEGORIES:Prayer Meeting
END:VEVENT
BEGIN:VEVENT
DTSTART;TZID=Europe/London:20250427T190000
DTEND;TZID=Europe/London:20250427T203000
DTSTAMP:20260421T194238
CREATED:20241001T133402Z
LAST-MODIFIED:20241003T101657Z
UID:10105-1745780400-1745785800@christchurchfareham.co.uk
SUMMARY:Prayer Meeting – 27th April 2025
DESCRIPTION:We normally gather for an evening of prayer on the third Sunday of each month. \nThis time normally consists of a mixture of the following\, short talk\, sung worship\, free/guided prayer and utilising our spiritual gifts. It is the engine room of everything we do as a church. \nYou are most welcome to join us and enjoy a time of dwelling in God’s presence.
URL:https://christchurchfareham.co.uk/events/prayer-meeting-27th-april-2025/
LOCATION:Wallington Village Hall\, Broadcut\, Fareham\, PO16 8ST\, United Kingdom
CATEGORIES:Prayer Meeting
END:VEVENT
BEGIN:VEVENT
DTSTART;TZID=Europe/London:20250401T193000
DTEND;TZID=Europe/London:20250401T210000
DTSTAMP:20260421T194238
CREATED:20241001T120839Z
LAST-MODIFIED:20241001T120839Z
UID:10078-1743535800-1743541200@christchurchfareham.co.uk
SUMMARY:Prayer Meeting – 1st April 2025
DESCRIPTION:We normally gather on the first Tuesday of the month to dedicate ourselves to prayer. \nThis time consists of sung worship\, free/guided prayer and utilising our spiritual gifts. It is the engine room of everything we do as a church. \nYou are most welcome to join us and enjoy a time of dwelling in God’s presence.
URL:https://christchurchfareham.co.uk/events/prayer-meeting-1st-april-2025/
LOCATION:Broadlaw Community Centre\, Mitre Court\, Bishopsfield Road\, Fareham\, PO14 1LE
CATEGORIES:Prayer Meeting
END:VEVENT
BEGIN:VEVENT
DTSTART;TZID=Europe/London:20250316T190000
DTEND;TZID=Europe/London:20250316T203000
DTSTAMP:20260421T194238
CREATED:20241001T133301Z
LAST-MODIFIED:20241003T101731Z
UID:10103-1742151600-1742157000@christchurchfareham.co.uk
SUMMARY:Prayer Meeting – 16th March 2025
DESCRIPTION:We normally gather for an evening of prayer on the third Sunday of each month. \nThis time normally consists of a mixture of the following\, short talk\, sung worship\, free/guided prayer and utilising our spiritual gifts. It is the engine room of everything we do as a church. \nYou are most welcome to join us and enjoy a time of dwelling in God’s presence.
URL:https://christchurchfareham.co.uk/events/prayer-meeting-16th-march-2025/
LOCATION:Wallington Village Hall\, Broadcut\, Fareham\, PO16 8ST\, United Kingdom
CATEGORIES:Prayer Meeting
END:VEVENT
BEGIN:VEVENT
DTSTART;TZID=Europe/London:20250304T193000
DTEND;TZID=Europe/London:20250304T210000
DTSTAMP:20260421T194238
CREATED:20241001T120742Z
LAST-MODIFIED:20241001T120742Z
UID:10076-1741116600-1741122000@christchurchfareham.co.uk
SUMMARY:Prayer Meeting – 4th March 2025
DESCRIPTION:We normally gather on the first Tuesday of the month to dedicate ourselves to prayer. \nThis time consists of sung worship\, free/guided prayer and utilising our spiritual gifts. It is the engine room of everything we do as a church. \nYou are most welcome to join us and enjoy a time of dwelling in God’s presence.
URL:https://christchurchfareham.co.uk/events/prayer-meeting-4th-march-2025/
LOCATION:Broadlaw Community Centre\, Mitre Court\, Bishopsfield Road\, Fareham\, PO14 1LE
CATEGORIES:Prayer Meeting
END:VEVENT
BEGIN:VEVENT
DTSTART;TZID=Europe/London:20250216T190000
DTEND;TZID=Europe/London:20250216T203000
DTSTAMP:20260421T194238
CREATED:20241001T133204Z
LAST-MODIFIED:20241003T101801Z
UID:10100-1739732400-1739737800@christchurchfareham.co.uk
SUMMARY:Prayer Meeting – 16th February 2025
DESCRIPTION:We normally gather for an evening of prayer on the third Sunday of each month. \nThis time normally consists of a mixture of the following\, short talk\, sung worship\, free/guided prayer and utilising our spiritual gifts. It is the engine room of everything we do as a church. \nYou are most welcome to join us and enjoy a time of dwelling in God’s presence.
URL:https://christchurchfareham.co.uk/events/prayer-meeting-16th-february-2025/
LOCATION:Wallington Village Hall\, Broadcut\, Fareham\, PO16 8ST\, United Kingdom
CATEGORIES:Prayer Meeting
END:VEVENT
BEGIN:VEVENT
DTSTART;TZID=Europe/London:20250204T193000
DTEND;TZID=Europe/London:20250204T210000
DTSTAMP:20260421T194238
CREATED:20241001T120437Z
LAST-MODIFIED:20241001T120437Z
UID:10074-1738697400-1738702800@christchurchfareham.co.uk
SUMMARY:Prayer Meeting – 4th February 2025
DESCRIPTION:We normally gather on the first Tuesday of the month to dedicate ourselves to prayer. \nThis time consists of sung worship\, free/guided prayer and utilising our spiritual gifts. It is the engine room of everything we do as a church. \nYou are most welcome to join us and enjoy a time of dwelling in God’s presence.
URL:https://christchurchfareham.co.uk/events/prayer-meeting-4th-february-2025/
LOCATION:Broadlaw Community Centre\, Mitre Court\, Bishopsfield Road\, Fareham\, PO14 1LE
CATEGORIES:Prayer Meeting
END:VEVENT
BEGIN:VEVENT
DTSTART;TZID=Europe/London:20250119T190000
DTEND;TZID=Europe/London:20250119T203000
DTSTAMP:20260421T194238
CREATED:20241001T132919Z
LAST-MODIFIED:20241223T112332Z
UID:10098-1737313200-1737318600@christchurchfareham.co.uk
SUMMARY:Week of Prayer – Evening Meeting – 19th January 2025
DESCRIPTION:We are ending our week of prayer with an all together prayer meeting. \nThis time consists of sung worship\, free/guided prayer and utilising our spiritual gifts. It is the engine room of everything we do as a church. \nYou are most welcome to join us and enjoy a time of dwelling in God’s presence.
URL:https://christchurchfareham.co.uk/events/prayer-meeting-19th-january-2025/
LOCATION:Wallington Village Hall\, Broadcut\, Fareham\, PO16 8ST\, United Kingdom
CATEGORIES:Prayer Meeting
END:VEVENT
BEGIN:VEVENT
DTSTART;TZID=Europe/London:20250113T193000
DTEND;TZID=Europe/London:20250113T210000
DTSTAMP:20260421T194238
CREATED:20241001T122016Z
LAST-MODIFIED:20241223T110531Z
UID:10096-1736796600-1736802000@christchurchfareham.co.uk
SUMMARY:Week of Prayer – Evening Prayer Meeting – 13th January 2025
DESCRIPTION:This will be our second prayer meeting of the day as we begin our much anticipated Week of Prayer. \nThis time consists of sung worship\, free/guided prayer and utilising our spiritual gifts. It is the engine room of everything we do as a church. \nYou are most welcome to join us and enjoy a time of dwelling in God’s presence.
URL:https://christchurchfareham.co.uk/events/prayer-meeting-13th-january-2025/
LOCATION:Broadlaw Community Centre\, Mitre Court\, Bishopsfield Road\, Fareham\, PO14 1LE
CATEGORIES:Prayer Meeting
END:VEVENT
BEGIN:VEVENT
DTSTART;TZID=Europe/London:20250113T130000
DTEND;TZID=Europe/London:20250113T140000
DTSTAMP:20260421T194238
CREATED:20241223T111152Z
LAST-MODIFIED:20241223T111152Z
UID:10480-1736773200-1736776800@christchurchfareham.co.uk
SUMMARY:Week of Prayer – Daytime Prayer Meeting – 13th January 2025
DESCRIPTION:This prayer meeting will launch our much anticipated Week of Prayer. \nThis time consists of sung worship\, free/guided prayer and utilising our spiritual gifts. It is the engine room of everything we do as a church. \nYou are most welcome to join us and enjoy a time of dwelling in God’s presence.
URL:https://christchurchfareham.co.uk/events/week-of-prayer-daytime-prayer-meeting-13th-january-2025/
LOCATION:1C High Street\, Fareham\, PO16 7AG
CATEGORIES:Prayer Meeting
END:VEVENT
END:VCALENDAR