BEGIN:VCALENDAR
VERSION:2.0
PRODID:-//Christ Church Fareham | A Christian Church in Fareham - ECPv6.15.13.1//NONSGML v1.0//EN
CALSCALE:GREGORIAN
METHOD:PUBLISH
X-ORIGINAL-URL:https://christchurchfareham.co.uk
X-WR-CALDESC:Events for Christ Church Fareham | A Christian Church in Fareham
REFRESH-INTERVAL;VALUE=DURATION:PT1H
X-Robots-Tag:noindex
X-PUBLISHED-TTL:PT1H
BEGIN:VTIMEZONE
TZID:Europe/London
BEGIN:DAYLIGHT
TZOFFSETFROM:+0000
TZOFFSETTO:+0100
TZNAME:BST
DTSTART:20250330T010000
END:DAYLIGHT
BEGIN:STANDARD
TZOFFSETFROM:+0100
TZOFFSETTO:+0000
TZNAME:GMT
DTSTART:20251026T010000
END:STANDARD
BEGIN:DAYLIGHT
TZOFFSETFROM:+0000
TZOFFSETTO:+0100
TZNAME:BST
DTSTART:20260329T010000
END:DAYLIGHT
BEGIN:STANDARD
TZOFFSETFROM:+0100
TZOFFSETTO:+0000
TZNAME:GMT
DTSTART:20261025T010000
END:STANDARD
BEGIN:DAYLIGHT
TZOFFSETFROM:+0000
TZOFFSETTO:+0100
TZNAME:BST
DTSTART:20270328T010000
END:DAYLIGHT
BEGIN:STANDARD
TZOFFSETFROM:+0100
TZOFFSETTO:+0000
TZNAME:GMT
DTSTART:20271031T010000
END:STANDARD
END:VTIMEZONE
BEGIN:VEVENT
DTSTART;TZID=Europe/London:20260517T190000
DTEND;TZID=Europe/London:20260517T203000
DTSTAMP:20260422T041427
CREATED:20251127T092132Z
LAST-MODIFIED:20251127T092132Z
UID:10997-1779044400-1779049800@christchurchfareham.co.uk
SUMMARY:Evening Meeting – 17th May 2026
DESCRIPTION:We gather together one Sunday evening each month to worship God. \nOur meeting will include a time of singing\, a talk from the bible and a time of prayer. \nWe expect to meet with and hear from God during these times. Everyone is welcome to join us!
URL:https://christchurchfareham.co.uk/events/evening-meeting-17th-may-2026/
LOCATION:Wallington Village Hall\, Broadcut\, Fareham\, PO16 8ST\, United Kingdom
CATEGORIES:Evening Meeting
END:VEVENT
BEGIN:VEVENT
DTSTART;TZID=Europe/London:20260621T190000
DTEND;TZID=Europe/London:20260621T203000
DTSTAMP:20260422T041427
CREATED:20251127T094433Z
LAST-MODIFIED:20251127T094433Z
UID:11039-1782068400-1782073800@christchurchfareham.co.uk
SUMMARY:Evening Meeting – 21st June 2026
DESCRIPTION:We gather together one Sunday evening each month to worship God. \nOur meeting will include a time of singing\, a talk from the bible and a time of prayer. \nWe expect to meet with and hear from God during these times. Everyone is welcome to join us!
URL:https://christchurchfareham.co.uk/events/evening-meeting-21st-june-2026/
LOCATION:Wallington Village Hall\, Broadcut\, Fareham\, PO16 8ST\, United Kingdom
CATEGORIES:Evening Meeting
END:VEVENT
BEGIN:VEVENT
DTSTART;TZID=Europe/London:20260726T190000
DTEND;TZID=Europe/London:20260726T203000
DTSTAMP:20260422T041427
CREATED:20260128T144323Z
LAST-MODIFIED:20260128T144323Z
UID:11245-1785092400-1785097800@christchurchfareham.co.uk
SUMMARY:Evening Meeting – 26th July 2026
DESCRIPTION:We gather together one Sunday evening each month to worship God. \nOur meeting will include a time of singing\, a talk from the bible and a time of prayer. \nWe expect to meet with and hear from God during these times. Everyone is welcome to join us!
URL:https://christchurchfareham.co.uk/events/evening-meeting-26th-july-2026/
LOCATION:Wallington Village Hall\, Broadcut\, Fareham\, PO16 8ST\, United Kingdom
CATEGORIES:Evening Meeting
END:VEVENT
BEGIN:VEVENT
DTSTART;TZID=Europe/London:20260816T190000
DTEND;TZID=Europe/London:20260816T203000
DTSTAMP:20260422T041427
CREATED:20260128T144501Z
LAST-MODIFIED:20260128T144501Z
UID:11248-1786906800-1786912200@christchurchfareham.co.uk
SUMMARY:Evening Meeting – 16th August 2026
DESCRIPTION:We gather together one Sunday evening each month to worship God. \nOur meeting will include a time of singing\, a talk from the bible and a time of prayer. \nWe expect to meet with and hear from God during these times. Everyone is welcome to join us!
URL:https://christchurchfareham.co.uk/events/evening-meeting-16th-august-2026/
LOCATION:Wallington Village Hall\, Broadcut\, Fareham\, PO16 8ST\, United Kingdom
CATEGORIES:Evening Meeting
END:VEVENT
BEGIN:VEVENT
DTSTART;TZID=Europe/London:20260920T190000
DTEND;TZID=Europe/London:20260920T203000
DTSTAMP:20260422T041427
CREATED:20260128T144641Z
LAST-MODIFIED:20260128T144652Z
UID:11250-1789930800-1789936200@christchurchfareham.co.uk
SUMMARY:Evening Meeting – 20th September 2026
DESCRIPTION:We gather together one Sunday evening each month to worship God. \nOur meeting will include a time of singing\, a talk from the bible and a time of prayer. \nWe expect to meet with and hear from God during these times. Everyone is welcome to join us!
URL:https://christchurchfareham.co.uk/events/evening-meeting-20th-december-2026/
LOCATION:Wallington Village Hall\, Broadcut\, Fareham\, PO16 8ST\, United Kingdom
CATEGORIES:Evening Meeting
END:VEVENT
BEGIN:VEVENT
DTSTART;TZID=Europe/London:20261018T190000
DTEND;TZID=Europe/London:20261018T203000
DTSTAMP:20260422T041427
CREATED:20260128T144812Z
LAST-MODIFIED:20260128T144812Z
UID:11253-1792350000-1792355400@christchurchfareham.co.uk
SUMMARY:Evening Meeting – 18th October 2026
DESCRIPTION:We gather together one Sunday evening each month to worship God. \nOur meeting will include a time of singing\, a talk from the bible and a time of prayer. \nWe expect to meet with and hear from God during these times. Everyone is welcome to join us!
URL:https://christchurchfareham.co.uk/events/evening-meeting-18th-october-2026/
LOCATION:Wallington Village Hall\, Broadcut\, Fareham\, PO16 8ST\, United Kingdom
CATEGORIES:Evening Meeting
END:VEVENT
BEGIN:VEVENT
DTSTART;TZID=Europe/London:20261115T190000
DTEND;TZID=Europe/London:20261115T203000
DTSTAMP:20260422T041427
CREATED:20260128T144914Z
LAST-MODIFIED:20260128T144914Z
UID:11255-1794769200-1794774600@christchurchfareham.co.uk
SUMMARY:Evening Meeting – 15th November 2026
DESCRIPTION:We gather together one Sunday evening each month to worship God. \nOur meeting will include a time of singing\, a talk from the bible and a time of prayer. \nWe expect to meet with and hear from God during these times. Everyone is welcome to join us!
URL:https://christchurchfareham.co.uk/events/evening-meeting-15th-november-2026/
LOCATION:Wallington Village Hall\, Broadcut\, Fareham\, PO16 8ST\, United Kingdom
CATEGORIES:Evening Meeting
END:VEVENT
BEGIN:VEVENT
DTSTART;TZID=Europe/London:20261220T190000
DTEND;TZID=Europe/London:20261220T203000
DTSTAMP:20260422T041427
CREATED:20260128T145005Z
LAST-MODIFIED:20260128T145005Z
UID:11257-1797793200-1797798600@christchurchfareham.co.uk
SUMMARY:Evening Meeting – 20th December 2026
DESCRIPTION:We gather together one Sunday evening each month to worship God. \nOur meeting will include a time of singing\, a talk from the bible and a time of prayer. \nWe expect to meet with and hear from God during these times. Everyone is welcome to join us!
URL:https://christchurchfareham.co.uk/events/evening-meeting-20th-december-2026-2/
LOCATION:Wallington Village Hall\, Broadcut\, Fareham\, PO16 8ST\, United Kingdom
CATEGORIES:Evening Meeting
END:VEVENT
END:VCALENDAR