BEGIN:VCALENDAR
VERSION:2.0
PRODID:-//Christ Church Fareham | A Christian Church in Fareham - ECPv6.15.13.1//NONSGML v1.0//EN
CALSCALE:GREGORIAN
METHOD:PUBLISH
X-ORIGINAL-URL:https://christchurchfareham.co.uk
X-WR-CALDESC:Events for Christ Church Fareham | A Christian Church in Fareham
REFRESH-INTERVAL;VALUE=DURATION:PT1H
X-Robots-Tag:noindex
X-PUBLISHED-TTL:PT1H
BEGIN:VTIMEZONE
TZID:Europe/London
BEGIN:DAYLIGHT
TZOFFSETFROM:+0000
TZOFFSETTO:+0100
TZNAME:BST
DTSTART:20250330T010000
END:DAYLIGHT
BEGIN:STANDARD
TZOFFSETFROM:+0100
TZOFFSETTO:+0000
TZNAME:GMT
DTSTART:20251026T010000
END:STANDARD
BEGIN:DAYLIGHT
TZOFFSETFROM:+0000
TZOFFSETTO:+0100
TZNAME:BST
DTSTART:20260329T010000
END:DAYLIGHT
BEGIN:STANDARD
TZOFFSETFROM:+0100
TZOFFSETTO:+0000
TZNAME:GMT
DTSTART:20261025T010000
END:STANDARD
BEGIN:DAYLIGHT
TZOFFSETFROM:+0000
TZOFFSETTO:+0100
TZNAME:BST
DTSTART:20270328T010000
END:DAYLIGHT
BEGIN:STANDARD
TZOFFSETFROM:+0100
TZOFFSETTO:+0000
TZNAME:GMT
DTSTART:20271031T010000
END:STANDARD
END:VTIMEZONE
BEGIN:VEVENT
DTSTART;TZID=Europe/London:20260510T103000
DTEND;TZID=Europe/London:20260510T120000
DTSTAMP:20260421T170558
CREATED:20251127T091554Z
LAST-MODIFIED:20260401T082917Z
UID:10987-1778409000-1778414400@christchurchfareham.co.uk
SUMMARY:Church Lunch – 10th May 2026
DESCRIPTION:We will be gathering after our Sunday Meeting to enjoy a meal together. \nThis is a very relaxed\, friendly and sociable time together as a church family. The meal is entirely free! We do encourage CCF regulars to bring their own plates\, bowls\, cups\, and cutlery to help us reduce our waste. \nVisitors are very welcome and you need only bring yourself!
URL:https://christchurchfareham.co.uk/events/church-lunch-10th-may-2026/
LOCATION:Cams Hill School\, Shearwater Avenue\, Fareham\, PO16 8AH\, Shearwater Avenue\, Fareham\, PO16 8AH\, United Kingdom
CATEGORIES:Church Lunch
END:VEVENT
BEGIN:VEVENT
DTSTART;TZID=Europe/London:20260705T103000
DTEND;TZID=Europe/London:20260705T140000
DTSTAMP:20260421T170558
CREATED:20260128T135838Z
LAST-MODIFIED:20260128T135838Z
UID:11181-1783247400-1783260000@christchurchfareham.co.uk
SUMMARY:International Sunday – 5th July 2026
DESCRIPTION:We gather every Sunday at Cams Hill School to worship God together. \nEveryone is welcome to visit us\, whether you’ve been a Christian a long time or never been to Church before. You’ll receive a warm welcome from us all\, but especially the people on the door who can show you where to go and everything you need to know. \nToday’s special meeting will include a time of singing\, bible reading in different languages\, a time of prayers for the nations and a short talk. This will be followed by a free lunch that includes food from many nations represented within our Church family.  \nDuring the service\, there is Children’s Work\, led by DBS approved workers\, for children aged 11 and under. We also have Youth Work every other Sunday led by DBS workers for those secondary school age. There is also an unmanned creche area for those aged 4 and under. Toys and a speaker to listen to the meeting are provided. \nAfter the service\, we all gather for free tea and coffee. We’d love to get to know you better during this time.
URL:https://christchurchfareham.co.uk/events/international-sunday-5th-july-2026/
LOCATION:Cams Hill School\, Shearwater Avenue\, Fareham\, PO16 8AH\, Shearwater Avenue\, Fareham\, PO16 8AH\, United Kingdom
CATEGORIES:Church Lunch,Sunday Meeting
END:VEVENT
BEGIN:VEVENT
DTSTART;TZID=Europe/London:20260809T123000
DTEND;TZID=Europe/London:20260809T140000
DTSTAMP:20260421T170558
CREATED:20260128T150134Z
LAST-MODIFIED:20260401T083035Z
UID:11271-1786278600-1786284000@christchurchfareham.co.uk
SUMMARY:Church Lunch – 9th August 2026
DESCRIPTION:We will be gathering after our Sunday Meeting to enjoy a picnic together at Cams. \nThis is a very relaxed\, friendly and sociable time together as a church family. You need to bring your own lunch and we encourage you to bring some items to share. \nVisitors are very welcome and you need only bring yourself!
URL:https://christchurchfareham.co.uk/events/church-lunch-9th-august-2026/
CATEGORIES:Church Lunch
END:VEVENT
BEGIN:VEVENT
DTSTART;TZID=Europe/London:20261011T123000
DTEND;TZID=Europe/London:20261011T140000
DTSTAMP:20260421T170558
CREATED:20260128T161442Z
LAST-MODIFIED:20260401T083101Z
UID:11311-1791721800-1791727200@christchurchfareham.co.uk
SUMMARY:Church Lunch – 11th October 2026
DESCRIPTION:We will be gathering after our Sunday Meeting to enjoy a meal together. \nThis is a very relaxed\, friendly and sociable time together as a church family. The meal is entirely free! We do encourage CCF regulars to bring their own plates\, bowls\, cups\, and cutlery to help us reduce our waste. \nVisitors are very welcome and you need only bring yourself!
URL:https://christchurchfareham.co.uk/events/church-lunch-11th-october-2026/
LOCATION:Cams Hill School\, Shearwater Avenue\, Fareham\, PO16 8AH\, Shearwater Avenue\, Fareham\, PO16 8AH\, United Kingdom
CATEGORIES:Church Lunch
END:VEVENT
BEGIN:VEVENT
DTSTART;TZID=Europe/London:20261213T123000
DTEND;TZID=Europe/London:20261213T140000
DTSTAMP:20260421T170558
CREATED:20260128T161706Z
LAST-MODIFIED:20260401T083129Z
UID:11315-1797165000-1797170400@christchurchfareham.co.uk
SUMMARY:Church Lunch – 13th December 2026
DESCRIPTION:We will be gathering after our Sunday Meeting to enjoy a monthly meal together. \nThis is a very relaxed\, friendly and sociable time together as a church family. The meal is entirely free! We do encourage CCF regulars to bring their own plates\, bowls\, cups\, and cutlery to help us reduce our waste. \nVisitors are very welcome and you need only bring yourself!
URL:https://christchurchfareham.co.uk/events/church-lunch-13th-december-2026/
LOCATION:Cams Hill School\, Shearwater Avenue\, Fareham\, PO16 8AH\, Shearwater Avenue\, Fareham\, PO16 8AH\, United Kingdom
CATEGORIES:Church Lunch
END:VEVENT
END:VCALENDAR