BEGIN:VCALENDAR
VERSION:2.0
PRODID:-//Christ Church Fareham | A Christian Church in Fareham - ECPv6.15.13.1//NONSGML v1.0//EN
CALSCALE:GREGORIAN
METHOD:PUBLISH
X-ORIGINAL-URL:https://christchurchfareham.co.uk
X-WR-CALDESC:Events for Christ Church Fareham | A Christian Church in Fareham
REFRESH-INTERVAL;VALUE=DURATION:PT1H
X-Robots-Tag:noindex
X-PUBLISHED-TTL:PT1H
BEGIN:VTIMEZONE
TZID:Europe/London
BEGIN:DAYLIGHT
TZOFFSETFROM:+0000
TZOFFSETTO:+0100
TZNAME:BST
DTSTART:20220327T010000
END:DAYLIGHT
BEGIN:STANDARD
TZOFFSETFROM:+0100
TZOFFSETTO:+0000
TZNAME:GMT
DTSTART:20221030T010000
END:STANDARD
BEGIN:DAYLIGHT
TZOFFSETFROM:+0000
TZOFFSETTO:+0100
TZNAME:BST
DTSTART:20230326T010000
END:DAYLIGHT
BEGIN:STANDARD
TZOFFSETFROM:+0100
TZOFFSETTO:+0000
TZNAME:GMT
DTSTART:20231029T010000
END:STANDARD
BEGIN:DAYLIGHT
TZOFFSETFROM:+0000
TZOFFSETTO:+0100
TZNAME:BST
DTSTART:20240331T010000
END:DAYLIGHT
BEGIN:STANDARD
TZOFFSETFROM:+0100
TZOFFSETTO:+0000
TZNAME:GMT
DTSTART:20241027T010000
END:STANDARD
BEGIN:DAYLIGHT
TZOFFSETFROM:+0000
TZOFFSETTO:+0100
TZNAME:BST
DTSTART:20250330T010000
END:DAYLIGHT
BEGIN:STANDARD
TZOFFSETFROM:+0100
TZOFFSETTO:+0000
TZNAME:GMT
DTSTART:20251026T010000
END:STANDARD
BEGIN:DAYLIGHT
TZOFFSETFROM:+0000
TZOFFSETTO:+0100
TZNAME:BST
DTSTART:20260329T010000
END:DAYLIGHT
BEGIN:STANDARD
TZOFFSETFROM:+0100
TZOFFSETTO:+0000
TZNAME:GMT
DTSTART:20261025T010000
END:STANDARD
BEGIN:DAYLIGHT
TZOFFSETFROM:+0000
TZOFFSETTO:+0100
TZNAME:BST
DTSTART:20270328T010000
END:DAYLIGHT
BEGIN:STANDARD
TZOFFSETFROM:+0100
TZOFFSETTO:+0000
TZNAME:GMT
DTSTART:20271031T010000
END:STANDARD
END:VTIMEZONE
BEGIN:VEVENT
DTSTART;TZID=Europe/London:20260308T120000
DTEND;TZID=Europe/London:20260308T140000
DTSTAMP:20260421T182103
CREATED:20251126T135056Z
LAST-MODIFIED:20251126T135056Z
UID:10905-1772971200-1772978400@christchurchfareham.co.uk
SUMMARY:Church Lunch – 8th March 2026
DESCRIPTION:We will be gathering after our Sunday Meeting to enjoy our monthly meal together. \nThis is a very relaxed\, friendly and sociable time together as a church family. The meal is entirely free! We do encourage CCF regulars to bring their own plates\, bowls\, cups\, and cutlery to help us reduce our waste. \nVisitors are very welcome and you need only bring yourself!
URL:https://christchurchfareham.co.uk/events/church-lunch-8th-march-2026/
LOCATION:Cams Hill School\, Shearwater Avenue\, Fareham\, PO16 8AH\, Shearwater Avenue\, Fareham\, PO16 8AH\, United Kingdom
CATEGORIES:Church Lunch
END:VEVENT
BEGIN:VEVENT
DTSTART;TZID=Europe/London:20260208T120000
DTEND;TZID=Europe/London:20260208T140000
DTSTAMP:20260421T182103
CREATED:20251126T120820Z
LAST-MODIFIED:20251126T120820Z
UID:10876-1770552000-1770559200@christchurchfareham.co.uk
SUMMARY:Church Lunch – 8th February 2026
DESCRIPTION:We will be gathering after our Sunday Meeting to enjoy our monthly meal together. \nThis is a very relaxed\, friendly and sociable time together as a church family. The meal is entirely free! We do encourage CCF regulars to bring their own plates\, bowls\, cups\, and cutlery to help us reduce our waste. \nVisitors are very welcome and you need only bring yourself!
URL:https://christchurchfareham.co.uk/events/church-lunch-8th-february-2026/
LOCATION:Cams Hill School\, Shearwater Avenue\, Fareham\, PO16 8AH\, Shearwater Avenue\, Fareham\, PO16 8AH\, United Kingdom
CATEGORIES:Church Lunch
END:VEVENT
BEGIN:VEVENT
DTSTART;TZID=Europe/London:20260111T120000
DTEND;TZID=Europe/London:20260111T140000
DTSTAMP:20260421T182103
CREATED:20251125T155105Z
LAST-MODIFIED:20251125T155105Z
UID:10845-1768132800-1768140000@christchurchfareham.co.uk
SUMMARY:Church Lunch – 11th January 2026
DESCRIPTION:We will be gathering after our Sunday Meeting to enjoy our monthly meal together. \nThis is a very relaxed\, friendly and sociable time together as a church family. The meal is entirely free! We do encourage CCF regulars to bring their own plates\, bowls\, cups\, and cutlery to help us reduce our waste. \nVisitors are very welcome and you need only bring yourself!
URL:https://christchurchfareham.co.uk/events/church-lunch-11th-january-2026/
LOCATION:Cams Hill School\, Shearwater Avenue\, Fareham\, PO16 8AH\, Shearwater Avenue\, Fareham\, PO16 8AH\, United Kingdom
CATEGORIES:Church Lunch
END:VEVENT
BEGIN:VEVENT
DTSTART;TZID=Europe/London:20251214T120000
DTEND;TZID=Europe/London:20251214T133000
DTSTAMP:20260421T182103
CREATED:20241001T115703Z
LAST-MODIFIED:20241001T115703Z
UID:10067-1765713600-1765719000@christchurchfareham.co.uk
SUMMARY:Church Lunch – 14th December 2025
DESCRIPTION:We will be gathering after our Sunday Meeting to enjoy our monthly meal together. \nThis is a very relaxed\, friendly and sociable time together as a church family. The meal is entirely free! We do encourage CCF regulars to bring their own plates\, bowls\, cups\, and cutlery to help us reduce our waste. \nVisitors are very welcome and you need only bring yourself!
URL:https://christchurchfareham.co.uk/events/church-lunch-14th-december-2025/
LOCATION:Cams Hill School\, Shearwater Avenue\, Fareham\, PO16 8AH\, Shearwater Avenue\, Fareham\, PO16 8AH\, United Kingdom
CATEGORIES:Church Lunch
END:VEVENT
BEGIN:VEVENT
DTSTART;TZID=Europe/London:20251109T120000
DTEND;TZID=Europe/London:20251109T133000
DTSTAMP:20260421T182103
CREATED:20241001T115603Z
LAST-MODIFIED:20241001T115603Z
UID:10065-1762689600-1762695000@christchurchfareham.co.uk
SUMMARY:Church Lunch – 9th November 2025
DESCRIPTION:We will be gathering after our Sunday Meeting to enjoy our monthly meal together. \nThis is a very relaxed\, friendly and sociable time together as a church family. The meal is entirely free! We do encourage CCF regulars to bring their own plates\, bowls\, cups\, and cutlery to help us reduce our waste. \nVisitors are very welcome and you need only bring yourself!
URL:https://christchurchfareham.co.uk/events/church-lunch-9th-november-2025/
LOCATION:Cams Hill School\, Shearwater Avenue\, Fareham\, PO16 8AH\, Shearwater Avenue\, Fareham\, PO16 8AH\, United Kingdom
CATEGORIES:Church Lunch
END:VEVENT
BEGIN:VEVENT
DTSTART;TZID=Europe/London:20251012T120000
DTEND;TZID=Europe/London:20251012T133000
DTSTAMP:20260421T182103
CREATED:20241001T115506Z
LAST-MODIFIED:20241001T115506Z
UID:10063-1760270400-1760275800@christchurchfareham.co.uk
SUMMARY:Church Lunch – 12th October 2025
DESCRIPTION:We will be gathering after our Sunday Meeting to enjoy our monthly meal together. \nThis is a very relaxed\, friendly and sociable time together as a church family. The meal is entirely free! We do encourage CCF regulars to bring their own plates\, bowls\, cups\, and cutlery to help us reduce our waste. \nVisitors are very welcome and you need only bring yourself!
URL:https://christchurchfareham.co.uk/events/church-lunch-12th-october-2025/
LOCATION:Cams Hill School\, Shearwater Avenue\, Fareham\, PO16 8AH\, Shearwater Avenue\, Fareham\, PO16 8AH\, United Kingdom
CATEGORIES:Church Lunch
END:VEVENT
BEGIN:VEVENT
DTSTART;TZID=Europe/London:20250914T120000
DTEND;TZID=Europe/London:20250914T133000
DTSTAMP:20260421T182103
CREATED:20241001T115327Z
LAST-MODIFIED:20241001T115327Z
UID:10061-1757851200-1757856600@christchurchfareham.co.uk
SUMMARY:Church Lunch – 14th September 2025
DESCRIPTION:We will be gathering after our Sunday Meeting to enjoy our monthly meal together. \nThis is a very relaxed\, friendly and sociable time together as a church family. The meal is entirely free! We do encourage CCF regulars to bring their own plates\, bowls\, cups\, and cutlery to help us reduce our waste. \nVisitors are very welcome and you need only bring yourself!
URL:https://christchurchfareham.co.uk/events/church-lunch-14th-september-2025/
LOCATION:Cams Hill School\, Shearwater Avenue\, Fareham\, PO16 8AH\, Shearwater Avenue\, Fareham\, PO16 8AH\, United Kingdom
CATEGORIES:Church Lunch
END:VEVENT
BEGIN:VEVENT
DTSTART;TZID=Europe/London:20250810T120000
DTEND;TZID=Europe/London:20250810T133000
DTSTAMP:20260421T182103
CREATED:20241001T115221Z
LAST-MODIFIED:20250724T114441Z
UID:10059-1754827200-1754832600@christchurchfareham.co.uk
SUMMARY:Picnic Lunch and Outdoor Games – August 10th 2025
DESCRIPTION:We will be gathering after our Sunday Meeting to enjoy our monthly meal together. \nThis month it will be a picnic lunch. You will need to bring your own and are encouraged to bring food/drink you can share. Please also bring a chair and/or blanket to sit on. \nThis is a very relaxed\, friendly and sociable time together as a church family. The meal is entirely free! We do encourage CCF regulars to bring their own plates\, bowls\, cups\, and cutlery to help us reduce our waste. \nVisitors are very welcome and you need only bring yourself!
URL:https://christchurchfareham.co.uk/events/church-lunch-august-10th-2025/
LOCATION:Cams Hill School\, Shearwater Avenue\, Fareham\, PO16 8AH\, Shearwater Avenue\, Fareham\, PO16 8AH\, United Kingdom
CATEGORIES:Church Lunch
END:VEVENT
BEGIN:VEVENT
DTSTART;TZID=Europe/London:20250720T120000
DTEND;TZID=Europe/London:20250720T133000
DTSTAMP:20260421T182103
CREATED:20241001T115131Z
LAST-MODIFIED:20250617T081557Z
UID:10057-1753012800-1753018200@christchurchfareham.co.uk
SUMMARY:Church Lunch – 20th July 2025
DESCRIPTION:We will be gathering after our Sunday Meeting to enjoy our monthly meal together. This month has an international flavour as it is International Sunday! \nThis is a very relaxed\, friendly and sociable time together as a church family. The meal is entirely free! We do encourage CCF regulars to bring their own plates\, bowls\, cups\, and cutlery to help us reduce our waste. \nVisitors are very welcome and you need only bring yourself!
URL:https://christchurchfareham.co.uk/events/church-lunch-13th-july-2025/
LOCATION:Cams Hill School\, Shearwater Avenue\, Fareham\, PO16 8AH\, Shearwater Avenue\, Fareham\, PO16 8AH\, United Kingdom
CATEGORIES:Church Lunch
END:VEVENT
BEGIN:VEVENT
DTSTART;TZID=Europe/London:20250608T120000
DTEND;TZID=Europe/London:20250608T133000
DTSTAMP:20260421T182103
CREATED:20241001T115021Z
LAST-MODIFIED:20241001T115021Z
UID:10055-1749384000-1749389400@christchurchfareham.co.uk
SUMMARY:Church Lunch – 8th June 2025
DESCRIPTION:We will be gathering after our Sunday Meeting to enjoy our monthly meal together. \nThis is a very relaxed\, friendly and sociable time together as a church family. The meal is entirely free! We do encourage CCF regulars to bring their own plates\, bowls\, cups\, and cutlery to help us reduce our waste. \nVisitors are very welcome and you need only bring yourself!
URL:https://christchurchfareham.co.uk/events/church-lunch-8th-june-2025/
LOCATION:Cams Hill School\, Shearwater Avenue\, Fareham\, PO16 8AH\, Shearwater Avenue\, Fareham\, PO16 8AH\, United Kingdom
CATEGORIES:Church Lunch
END:VEVENT
BEGIN:VEVENT
DTSTART;TZID=Europe/London:20250511T120000
DTEND;TZID=Europe/London:20250511T133000
DTSTAMP:20260421T182103
CREATED:20241001T114928Z
LAST-MODIFIED:20241001T114928Z
UID:10053-1746964800-1746970200@christchurchfareham.co.uk
SUMMARY:Church Lunch – 11th May 2025
DESCRIPTION:We will be gathering after our Sunday Meeting to enjoy our monthly meal together. \nThis is a very relaxed\, friendly and sociable time together as a church family. The meal is entirely free! We do encourage CCF regulars to bring their own plates\, bowls\, cups\, and cutlery to help us reduce our waste. \nVisitors are very welcome and you need only bring yourself!
URL:https://christchurchfareham.co.uk/events/church-lunch-11th-may-2025/
LOCATION:Cams Hill School\, Shearwater Avenue\, Fareham\, PO16 8AH\, Shearwater Avenue\, Fareham\, PO16 8AH\, United Kingdom
CATEGORIES:Church Lunch
END:VEVENT
BEGIN:VEVENT
DTSTART;TZID=Europe/London:20250413T120000
DTEND;TZID=Europe/London:20250413T133000
DTSTAMP:20260421T182103
CREATED:20241001T114812Z
LAST-MODIFIED:20241001T114812Z
UID:10051-1744545600-1744551000@christchurchfareham.co.uk
SUMMARY:Church Lunch – 13th April 2025
DESCRIPTION:We will be gathering after our Sunday Meeting to enjoy our monthly meal together. \nThis is a very relaxed\, friendly and sociable time together as a church family. The meal is entirely free! We do encourage CCF regulars to bring their own plates\, bowls\, cups\, and cutlery to help us reduce our waste. \nVisitors are very welcome and you need only bring yourself!
URL:https://christchurchfareham.co.uk/events/church-lunch-13th-april-2025/
LOCATION:Cams Hill School\, Shearwater Avenue\, Fareham\, PO16 8AH\, Shearwater Avenue\, Fareham\, PO16 8AH\, United Kingdom
CATEGORIES:Church Lunch
END:VEVENT
BEGIN:VEVENT
DTSTART;TZID=Europe/London:20250309T120000
DTEND;TZID=Europe/London:20250309T133000
DTSTAMP:20260421T182103
CREATED:20241001T114704Z
LAST-MODIFIED:20241001T114704Z
UID:10049-1741521600-1741527000@christchurchfareham.co.uk
SUMMARY:Church Lunch – 9th March 2025
DESCRIPTION:We will be gathering after our Sunday Meeting to enjoy our monthly meal together. \nThis is a very relaxed\, friendly and sociable time together as a church family. The meal is entirely free! We do encourage CCF regulars to bring their own plates\, bowls\, cups\, and cutlery to help us reduce our waste. \nVisitors are very welcome and you need only bring yourself!
URL:https://christchurchfareham.co.uk/events/church-lunch-9th-march-2025/
LOCATION:Cams Hill School\, Shearwater Avenue\, Fareham\, PO16 8AH\, Shearwater Avenue\, Fareham\, PO16 8AH\, United Kingdom
CATEGORIES:Church Lunch
END:VEVENT
BEGIN:VEVENT
DTSTART;TZID=Europe/London:20250209T120000
DTEND;TZID=Europe/London:20250209T133000
DTSTAMP:20260421T182103
CREATED:20241001T114611Z
LAST-MODIFIED:20241001T114611Z
UID:10047-1739102400-1739107800@christchurchfareham.co.uk
SUMMARY:Church Lunch – 9th February 2025
DESCRIPTION:We will be gathering after our Sunday Meeting to enjoy our monthly meal together. \nThis is a very relaxed\, friendly and sociable time together as a church family. The meal is entirely free! We do encourage CCF regulars to bring their own plates\, bowls\, cups\, and cutlery to help us reduce our waste. \nVisitors are very welcome and you need only bring yourself!
URL:https://christchurchfareham.co.uk/events/church-lunch-9th-february-2025/
LOCATION:Cams Hill School\, Shearwater Avenue\, Fareham\, PO16 8AH\, Shearwater Avenue\, Fareham\, PO16 8AH\, United Kingdom
CATEGORIES:Church Lunch
END:VEVENT
BEGIN:VEVENT
DTSTART;TZID=Europe/London:20250112T120000
DTEND;TZID=Europe/London:20250112T133000
DTSTAMP:20260421T182103
CREATED:20241001T114517Z
LAST-MODIFIED:20241001T114517Z
UID:10045-1736683200-1736688600@christchurchfareham.co.uk
SUMMARY:Church Lunch – 13th January 2025
DESCRIPTION:We will be gathering after our Sunday Meeting to enjoy our monthly meal together. \nThis is a very relaxed\, friendly and sociable time together as a church family. The meal is entirely free! We do encourage CCF regulars to bring their own plates\, bowls\, cups\, and cutlery to help us reduce our waste. \nVisitors are very welcome and you need only bring yourself!
URL:https://christchurchfareham.co.uk/events/church-lunch-13th-january-2025/
LOCATION:Cams Hill School\, Shearwater Avenue\, Fareham\, PO16 8AH\, Shearwater Avenue\, Fareham\, PO16 8AH\, United Kingdom
CATEGORIES:Church Lunch
END:VEVENT
BEGIN:VEVENT
DTSTART;TZID=Europe/London:20240414T120000
DTEND;TZID=Europe/London:20240414T133000
DTSTAMP:20260421T182103
CREATED:20231128T114912Z
LAST-MODIFIED:20231128T114912Z
UID:9238-1713096000-1713101400@christchurchfareham.co.uk
SUMMARY:Church Lunch – 14th April 2024
DESCRIPTION:We will be gathering after our Sunday Meeting to enjoy lunch together. \nThis is a very relaxed\, friendly and sociable time together as a church family. Visitors are very welcome and you need only bring yourself!
URL:https://christchurchfareham.co.uk/events/church-lunch-14th-april-2024/
LOCATION:Orchard Lea Junior School\,\, Kennedy Avenue\, Fareham\, PO15 6BJ\, United Kingdom
CATEGORIES:Church Lunch
END:VEVENT
BEGIN:VEVENT
DTSTART;TZID=Europe/London:20240310T120000
DTEND;TZID=Europe/London:20240310T133000
DTSTAMP:20260421T182103
CREATED:20231128T114820Z
LAST-MODIFIED:20231128T114820Z
UID:9236-1710072000-1710077400@christchurchfareham.co.uk
SUMMARY:Church Lunch – 10th March 2024
DESCRIPTION:We will be gathering after our Sunday Meeting to enjoy lunch together. \nThis is a very relaxed\, friendly and sociable time together as a church family. Visitors are very welcome and you need only bring yourself!
URL:https://christchurchfareham.co.uk/events/church-lunch-10th-march-2024/
LOCATION:Orchard Lea Junior School\,\, Kennedy Avenue\, Fareham\, PO15 6BJ\, United Kingdom
CATEGORIES:Church Lunch
END:VEVENT
BEGIN:VEVENT
DTSTART;TZID=Europe/London:20240211T120000
DTEND;TZID=Europe/London:20240211T133000
DTSTAMP:20260421T182103
CREATED:20231128T114735Z
LAST-MODIFIED:20231128T114735Z
UID:9234-1707652800-1707658200@christchurchfareham.co.uk
SUMMARY:Church Lunch – 11th February 2024
DESCRIPTION:We will be gathering after our Sunday Meeting to enjoy lunch together. \nThis is a very relaxed\, friendly and sociable time together as a church family. Visitors are very welcome and you need only bring yourself!
URL:https://christchurchfareham.co.uk/events/church-lunch-11th-february-2024/
LOCATION:Orchard Lea Junior School\,\, Kennedy Avenue\, Fareham\, PO15 6BJ\, United Kingdom
CATEGORIES:Church Lunch
END:VEVENT
BEGIN:VEVENT
DTSTART;TZID=Europe/London:20240114T120000
DTEND;TZID=Europe/London:20240114T133000
DTSTAMP:20260421T182103
CREATED:20231128T114641Z
LAST-MODIFIED:20231128T114641Z
UID:9232-1705233600-1705239000@christchurchfareham.co.uk
SUMMARY:Church Lunch – 14th January 2024
DESCRIPTION:We will be gathering after our Sunday Meeting to enjoy lunch together. \nThis is a very relaxed\, friendly and sociable time together as a church family. Visitors are very welcome and you need only bring yourself!
URL:https://christchurchfareham.co.uk/events/church-lunch-14th-january-2024/
LOCATION:Orchard Lea Junior School\,\, Kennedy Avenue\, Fareham\, PO15 6BJ\, United Kingdom
CATEGORIES:Church Lunch
END:VEVENT
BEGIN:VEVENT
DTSTART;TZID=Europe/London:20231210T120000
DTEND;TZID=Europe/London:20231210T140000
DTSTAMP:20260421T182103
CREATED:20221213T161126Z
LAST-MODIFIED:20221213T161126Z
UID:8829-1702209600-1702216800@christchurchfareham.co.uk
SUMMARY:Church Lunch – 10th December 2023
DESCRIPTION:We will be gathering after our Sunday Meeting to enjoy lunch together. \nThis is a very relaxed\, friendly and sociable time together as a church family. Visitors are very welcome and you need only bring yourself!
URL:https://christchurchfareham.co.uk/events/church-lunch-10th-december-2023/
LOCATION:Orchard Lea Junior School\,\, Kennedy Avenue\, Fareham\, PO15 6BJ\, United Kingdom
CATEGORIES:Church Lunch
END:VEVENT
BEGIN:VEVENT
DTSTART;TZID=Europe/London:20231112T120000
DTEND;TZID=Europe/London:20231112T140000
DTSTAMP:20260421T182103
CREATED:20221213T160948Z
LAST-MODIFIED:20221213T160948Z
UID:8827-1699790400-1699797600@christchurchfareham.co.uk
SUMMARY:Church Lunch – 12th November 2023
DESCRIPTION:We will be gathering after our Sunday Meeting to enjoy lunch together. \nThis is a very relaxed\, friendly and sociable time together as a church family. Visitors are very welcome and you need only bring yourself!
URL:https://christchurchfareham.co.uk/events/church-lunch-12th-november-2023/
LOCATION:Orchard Lea Junior School\,\, Kennedy Avenue\, Fareham\, PO15 6BJ\, United Kingdom
CATEGORIES:Church Lunch
END:VEVENT
BEGIN:VEVENT
DTSTART;TZID=Europe/London:20231008T120000
DTEND;TZID=Europe/London:20231008T140000
DTSTAMP:20260421T182103
CREATED:20221213T160758Z
LAST-MODIFIED:20221213T160758Z
UID:8825-1696766400-1696773600@christchurchfareham.co.uk
SUMMARY:Church Lunch – 8th October 2023
DESCRIPTION:We will be gathering after our Sunday Meeting to enjoy lunch together. \nThis is a very relaxed\, friendly and sociable time together as a church family. Visitors are very welcome and you need only bring yourself!
URL:https://christchurchfareham.co.uk/events/church-lunch-8th-october-2023/
LOCATION:Orchard Lea Junior School\,\, Kennedy Avenue\, Fareham\, PO15 6BJ\, United Kingdom
CATEGORIES:Church Lunch
END:VEVENT
BEGIN:VEVENT
DTSTART;TZID=Europe/London:20230910T120000
DTEND;TZID=Europe/London:20230910T140000
DTSTAMP:20260421T182103
CREATED:20221213T160539Z
LAST-MODIFIED:20221213T160539Z
UID:8823-1694347200-1694354400@christchurchfareham.co.uk
SUMMARY:Church Lunch – 10th September 2023
DESCRIPTION:We will be gathering after our Sunday Meeting to enjoy lunch together. \nThis is a very relaxed\, friendly and sociable time together as a church family. Visitors are very welcome and you need only bring yourself!
URL:https://christchurchfareham.co.uk/events/church-lunch-10th-september-2023/
LOCATION:Orchard Lea Junior School\,\, Kennedy Avenue\, Fareham\, PO15 6BJ\, United Kingdom
CATEGORIES:Church Lunch
END:VEVENT
BEGIN:VEVENT
DTSTART;TZID=Europe/London:20230813T080000
DTEND;TZID=Europe/London:20230813T170000
DTSTAMP:20260421T182103
CREATED:20221213T160343Z
LAST-MODIFIED:20230808T074146Z
UID:8821-1691913600-1691946000@christchurchfareham.co.uk
SUMMARY:Church Picnic – 13th August 2023
DESCRIPTION:We will be gathering after our Sunday Meeting to enjoy a picnic together. You will need to bring your own lunch and something to share. \nThis is a very relaxed\, friendly and sociable time together as a church family. Visitors are very welcome and you need only bring yourself!
URL:https://christchurchfareham.co.uk/events/church-lunch-13th-august-2023/
LOCATION:Orchard Lea Junior School\,\, Kennedy Avenue\, Fareham\, PO15 6BJ\, United Kingdom
CATEGORIES:Church Lunch
END:VEVENT
BEGIN:VEVENT
DTSTART;TZID=Europe/London:20230709T120000
DTEND;TZID=Europe/London:20230709T140000
DTSTAMP:20260421T182103
CREATED:20221213T160229Z
LAST-MODIFIED:20221213T160229Z
UID:8819-1688904000-1688911200@christchurchfareham.co.uk
SUMMARY:Church Lunch – 9th July 2023
DESCRIPTION:We will be gathering after our Sunday Meeting to enjoy lunch together. \nThis is a very relaxed\, friendly and sociable time together as a church family. Visitors are very welcome and you need only bring yourself!
URL:https://christchurchfareham.co.uk/events/church-lunch-9th-july-2023/
LOCATION:Orchard Lea Junior School\,\, Kennedy Avenue\, Fareham\, PO15 6BJ\, United Kingdom
CATEGORIES:Church Lunch
END:VEVENT
BEGIN:VEVENT
DTSTART;TZID=Europe/London:20230611T120000
DTEND;TZID=Europe/London:20230611T140000
DTSTAMP:20260421T182103
CREATED:20221213T155124Z
LAST-MODIFIED:20221213T155124Z
UID:8817-1686484800-1686492000@christchurchfareham.co.uk
SUMMARY:Church Lunch – 11th June 2023
DESCRIPTION:We will be gathering after our Sunday Meeting to enjoy lunch together. \nThis is a very relaxed\, friendly and sociable time together as a church family. Visitors are very welcome and you need only bring yourself!
URL:https://christchurchfareham.co.uk/events/church-lunch-11th-june-2023/
LOCATION:Orchard Lea Junior School\,\, Kennedy Avenue\, Fareham\, PO15 6BJ\, United Kingdom
CATEGORIES:Church Lunch
END:VEVENT
BEGIN:VEVENT
DTSTART;TZID=Europe/London:20230514T120000
DTEND;TZID=Europe/London:20230514T140000
DTSTAMP:20260421T182103
CREATED:20221213T155013Z
LAST-MODIFIED:20221213T155013Z
UID:8815-1684065600-1684072800@christchurchfareham.co.uk
SUMMARY:Church Lunch – 14th May 2023
DESCRIPTION:We will be gathering after our Sunday Meeting to enjoy lunch together. \nThis is a very relaxed\, friendly and sociable time together as a church family. Visitors are very welcome and you need only bring yourself!
URL:https://christchurchfareham.co.uk/events/church-lunch-14th-may-2023/
LOCATION:Orchard Lea Junior School\,\, Kennedy Avenue\, Fareham\, PO15 6BJ\, United Kingdom
CATEGORIES:Church Lunch
END:VEVENT
BEGIN:VEVENT
DTSTART;TZID=Europe/London:20230416T120000
DTEND;TZID=Europe/London:20230416T140000
DTSTAMP:20260421T182103
CREATED:20221213T154840Z
LAST-MODIFIED:20221213T154840Z
UID:8813-1681646400-1681653600@christchurchfareham.co.uk
SUMMARY:Church Lunch – 16th April 2023
DESCRIPTION:We will be gathering after our Sunday Meeting to enjoy lunch together. \nThis is a very relaxed\, friendly and sociable time together as a church family. Visitors are very welcome and you need only bring yourself!
URL:https://christchurchfareham.co.uk/events/church-lunch-16th-april-2023/
LOCATION:Orchard Lea Junior School\,\, Kennedy Avenue\, Fareham\, PO15 6BJ\, United Kingdom
CATEGORIES:Church Lunch
END:VEVENT
BEGIN:VEVENT
DTSTART;TZID=Europe/London:20230312T120000
DTEND;TZID=Europe/London:20230312T140000
DTSTAMP:20260421T182103
CREATED:20221213T154742Z
LAST-MODIFIED:20221213T154742Z
UID:8811-1678622400-1678629600@christchurchfareham.co.uk
SUMMARY:Church Lunch – 12th March 2023
DESCRIPTION:We will be gathering after our Sunday Meeting to enjoy lunch together. \nThis is a very relaxed\, friendly and sociable time together as a church family. Visitors are very welcome and you need only bring yourself!
URL:https://christchurchfareham.co.uk/events/church-lunch-12th-march-2023/
LOCATION:Orchard Lea Junior School\,\, Kennedy Avenue\, Fareham\, PO15 6BJ\, United Kingdom
CATEGORIES:Church Lunch
END:VEVENT
BEGIN:VEVENT
DTSTART;TZID=Europe/London:20230219T120000
DTEND;TZID=Europe/London:20230219T140000
DTSTAMP:20260421T182103
CREATED:20221213T154628Z
LAST-MODIFIED:20221213T154628Z
UID:8809-1676808000-1676815200@christchurchfareham.co.uk
SUMMARY:Church Lunch – 19th February 2023
DESCRIPTION:We will be gathering after our Sunday Meeting to enjoy lunch together. \nThis is a very relaxed\, friendly and sociable time together as a church family. Visitors are very welcome and you need only bring yourself!
URL:https://christchurchfareham.co.uk/events/church-lunch-19th-february-2023/
LOCATION:Orchard Lea Junior School\,\, Kennedy Avenue\, Fareham\, PO15 6BJ\, United Kingdom
CATEGORIES:Church Lunch
END:VEVENT
END:VCALENDAR